BEGIN:VCALENDAR
VERSION:2.0
PRODID:-//EZFacility.com, Inc.//EZL 2.5.5.28621
BEGIN:VEVENT
UID:16881597@ezleagues.ezfacility.com
DTSTAMP:20260422T141421Z
CREATED:20260422T141421Z
DTSTART:20251206T182500Z
DTEND:20251206T192000Z
LOCATION:Jessup Premier Field #1
CONTACT:
SUMMARY:2014 SAC Pre MLS Next VS. 2014 AGB Legacy United 
DESCRIPTION:League Name: Youth (Winter 1) SD1 Sat/Sun 2014 Boys (U12) GOLD\
 nGame Type: Regular\nGame Status: Complete\nHome Team: 2014 SAC Pre MLS Ne
 xt\nAway Team: 2014 AGB Legacy United \nHome Score: 3\nAway Score: 6
END:VEVENT
BEGIN:VEVENT
UID:16881632@ezleagues.ezfacility.com
DTSTAMP:20260422T141421Z
CREATED:20260422T141421Z
DTSTART:20251213T220500Z
DTEND:20251213T230000Z
LOCATION:Jessup Premier Field #2
CONTACT:
SUMMARY:2014 AGB Legacy United  VS. 2014 Dreamers
DESCRIPTION:League Name: Youth (Winter 1) SD1 Sat/Sun 2014 Boys (U12) GOLD\
 nGame Type: Regular\nGame Status: Complete\nHome Team: 2014 AGB Legacy Uni
 ted \nAway Team: 2014 Dreamers\nHome Score: 3\nAway Score: 5
END:VEVENT
BEGIN:VEVENT
UID:16881737@ezleagues.ezfacility.com
DTSTAMP:20260422T141421Z
CREATED:20260422T141421Z
DTSTART:20260103T201500Z
DTEND:20260103T211000Z
LOCATION:Jessup Premier Field #2
CONTACT:
SUMMARY:2014 AGB Legacy United  VS. 2014 Baltimore Stars FC
DESCRIPTION:League Name: Youth (Winter 1) SD1 Sat/Sun 2014 Boys (U12) GOLD\
 nGame Type: Regular\nGame Status: Complete\nHome Team: 2014 AGB Legacy Uni
 ted \nAway Team: 2014 Baltimore Stars FC\nHome Score: 8\nAway Score: 3
END:VEVENT
BEGIN:VEVENT
UID:16881771@ezleagues.ezfacility.com
DTSTAMP:20260422T141421Z
CREATED:20260422T141421Z
DTSTART:20260110T192000Z
DTEND:20260110T201500Z
LOCATION:Jessup Premier Field #2
CONTACT:
SUMMARY:2014 SAC United Blue VS. 2014 AGB Legacy United 
DESCRIPTION:League Name: Youth (Winter 1) SD1 Sat/Sun 2014 Boys (U12) GOLD\
 nGame Type: Regular\nGame Status: Complete\nHome Team: 2014 SAC United Blu
 e\nAway Team: 2014 AGB Legacy United \nHome Score: 0\nAway Score: 8
END:VEVENT
BEGIN:VEVENT
UID:16881804@ezleagues.ezfacility.com
DTSTAMP:20260422T141421Z
CREATED:20260422T141421Z
DTSTART:20260118T190000Z
DTEND:20260118T195500Z
LOCATION:Jessup Premier Field #1
CONTACT:
SUMMARY:2014 SBR Force VS. 2014 AGB Legacy United 
DESCRIPTION:League Name: Youth (Winter 1) SD1 Sat/Sun 2014 Boys (U12) GOLD\
 nGame Type: Regular\nGame Status: Postponed\nHome Team: 2014 SBR Force\nAw
 ay Team: 2014 AGB Legacy United \n
END:VEVENT
BEGIN:VEVENT
UID:16881667@ezleagues.ezfacility.com
DTSTAMP:20260422T141421Z
CREATED:20260422T141421Z
DTSTART:20260124T144500Z
DTEND:20260124T154000Z
LOCATION:Jessup Premier Field #2
CONTACT:
SUMMARY:2014 AGB Legacy United  VS. 2014 CSA
DESCRIPTION:League Name: Youth (Winter 1) SD1 Sat/Sun 2014 Boys (U12) GOLD\
 nGame Type: Regular\nGame Status: Complete\nHome Team: 2014 AGB Legacy Uni
 ted \nAway Team: 2014 CSA\nHome Score: 3\nAway Score: 2
END:VEVENT
BEGIN:VEVENT
UID:16881702@ezleagues.ezfacility.com
DTSTAMP:20260422T141421Z
CREATED:20260422T141421Z
DTSTART:20260131T173000Z
DTEND:20260131T182500Z
LOCATION:Jessup Premier Field #2
CONTACT:
SUMMARY:2014 AGB Legacy United  VS. 2015 SAC Premier Blue
DESCRIPTION:League Name: Youth (Winter 1) SD1 Sat/Sun 2014 Boys (U12) GOLD\
 nGame Type: Regular\nGame Status: Complete\nHome Team: 2014 AGB Legacy Uni
 ted \nAway Team: 2015 SAC Premier Blue\nHome Score: 6\nAway Score: 2
END:VEVENT
END:VCALENDAR
