BEGIN:VCALENDAR
VERSION:2.0
PRODID:-//EZFacility.com, Inc.//EZL 2.5.5.28621
BEGIN:VEVENT
UID:16881607@ezleagues.ezfacility.com
DTSTAMP:20260421T080744Z
CREATED:20260421T080744Z
DTSTART:20251206T154000Z
DTEND:20251206T163500Z
LOCATION:Jessup Premier Field #2
CONTACT:
SUMMARY:2013 SAC Wolfpack  VS. 2014 Elvaton Elite Blaze
DESCRIPTION:League Name: Youth (Winter 1) SD1 Sat/Sun 2014 Girls (U12)\nGam
 e Type: Regular\nGame Status: Complete\nHome Team: 2013 SAC Wolfpack \nAwa
 y Team: 2014 Elvaton Elite Blaze\nHome Score: 5\nAway Score: 1
END:VEVENT
BEGIN:VEVENT
UID:16881640@ezleagues.ezfacility.com
DTSTAMP:20260421T080744Z
CREATED:20260421T080744Z
DTSTART:20251214T215000Z
DTEND:20251214T224000Z
LOCATION:Jessup Premier Field #2
CONTACT:
SUMMARY:2014 DFC Black VS. 2013 SAC Wolfpack 
DESCRIPTION:League Name: Youth (Winter 1) SD1 Sat/Sun 2014 Girls (U12)\nGam
 e Type: Regular\nGame Status: Complete\nHome Team: 2014 DFC Black\nAway Te
 am: 2013 SAC Wolfpack \nHome Score: 3\nAway Score: 5
END:VEVENT
BEGIN:VEVENT
UID:16881742@ezleagues.ezfacility.com
DTSTAMP:20260421T080744Z
CREATED:20260421T080744Z
DTSTART:20260103T163500Z
DTEND:20260103T173000Z
LOCATION:Jessup Premier Field #1
CONTACT:
SUMMARY:2013 SAC Wolfpack  VS. 2014 DFC Black
DESCRIPTION:League Name: Youth (Winter 1) SD1 Sat/Sun 2014 Girls (U12)\nGam
 e Type: Regular\nGame Status: Complete\nHome Team: 2013 SAC Wolfpack \nAwa
 y Team: 2014 DFC Black\nHome Score: 2\nAway Score: 4
END:VEVENT
BEGIN:VEVENT
UID:16881777@ezleagues.ezfacility.com
DTSTAMP:20260421T080744Z
CREATED:20260421T080744Z
DTSTART:20260111T190000Z
DTEND:20260111T195500Z
LOCATION:Jessup Premier Field #1
CONTACT:
SUMMARY:2013 SAC Wolfpack  VS. 2013 Severna Park Black*
DESCRIPTION:League Name: Youth (Winter 1) SD1 Sat/Sun 2014 Girls (U12)\nGam
 e Type: Regular\nGame Status: Complete\nHome Team: 2013 SAC Wolfpack \nAwa
 y Team: 2013 Severna Park Black*\nHome Score: 1\nAway Score: 2
END:VEVENT
BEGIN:VEVENT
UID:16881811@ezleagues.ezfacility.com
DTSTAMP:20260421T080744Z
CREATED:20260421T080744Z
DTSTART:20260117T135000Z
DTEND:20260117T144500Z
LOCATION:Jessup Premier Field #2
CONTACT:
SUMMARY:2014 Elvaton Elite Blaze VS. 2013 SAC Wolfpack 
DESCRIPTION:League Name: Youth (Winter 1) SD1 Sat/Sun 2014 Girls (U12)\nGam
 e Type: Regular\nGame Status: Complete\nHome Team: 2014 Elvaton Elite Blaz
 e\nAway Team: 2013 SAC Wolfpack \nHome Score: 1\nAway Score: 2
END:VEVENT
BEGIN:VEVENT
UID:16881675@ezleagues.ezfacility.com
DTSTAMP:20260421T080744Z
CREATED:20260421T080744Z
DTSTART:20260125T215000Z
DTEND:20260125T224500Z
LOCATION:Jessup Premier Field #2
CONTACT:
SUMMARY:2013 Severna Park Black* VS. 2013 SAC Wolfpack 
DESCRIPTION:League Name: Youth (Winter 1) SD1 Sat/Sun 2014 Girls (U12)\nGam
 e Type: Regular\nGame Status: Postponed\nHome Team: 2013 Severna Park Blac
 k*\nAway Team: 2013 SAC Wolfpack \n
END:VEVENT
BEGIN:VEVENT
UID:16881709@ezleagues.ezfacility.com
DTSTAMP:20260421T080744Z
CREATED:20260421T080744Z
DTSTART:20260131T125500Z
DTEND:20260131T135000Z
LOCATION:Jessup Premier Field #2
CONTACT:
SUMMARY:2014 Elvaton Elite Blaze VS. 2013 SAC Wolfpack 
DESCRIPTION:League Name: Youth (Winter 1) SD1 Sat/Sun 2014 Girls (U12)\nGam
 e Type: Regular\nGame Status: Complete\nHome Team: 2014 Elvaton Elite Blaz
 e\nAway Team: 2013 SAC Wolfpack \nHome Score: 2\nAway Score: 2
END:VEVENT
END:VCALENDAR
