BEGIN:VCALENDAR
VERSION:2.0
PRODID:-//EZFacility.com, Inc.//EZL 2.5.5.28621
BEGIN:VEVENT
UID:16890440@ezleagues.ezfacility.com
DTSTAMP:20260422T000601Z
CREATED:20260422T000601Z
DTSTART:20251207T170000Z
DTEND:20251207T180000Z
LOCATION:Maroon
CONTACT:
SUMMARY:Little Banditos VS. Urban Lodge 2016’s
DESCRIPTION:League Name: Junior AFC 11U Flag Football (Born in 2014,15,16) 
 S1\nGame Type: Regular\nGame Status: Complete\nHome Team: Little Banditos\
 nAway Team: Urban Lodge 2016’s\nHome Score: 12\nAway Score: 31
END:VEVENT
BEGIN:VEVENT
UID:16890443@ezleagues.ezfacility.com
DTSTAMP:20260422T000601Z
CREATED:20260422T000601Z
DTSTART:20251214T160000Z
DTEND:20251214T170000Z
LOCATION:Maroon
CONTACT:
SUMMARY:Gators VS. Little Banditos
DESCRIPTION:League Name: Junior AFC 11U Flag Football (Born in 2014,15,16) 
 S1\nGame Type: Regular\nGame Status: Complete\nHome Team: Gators\nAway Tea
 m: Little Banditos\nHome Score: 37\nAway Score: 12
END:VEVENT
BEGIN:VEVENT
UID:16890450@ezleagues.ezfacility.com
DTSTAMP:20260422T000601Z
CREATED:20260422T000601Z
DTSTART:20251221T120000Z
DTEND:20251221T130000Z
LOCATION:Navy
CONTACT:
SUMMARY:CFM VS. Little Banditos
DESCRIPTION:League Name: Junior AFC 11U Flag Football (Born in 2014,15,16) 
 S1\nGame Type: Regular\nGame Status: Complete\nHome Team: CFM\nAway Team: 
 Little Banditos\nHome Score: 34\nAway Score: 6
END:VEVENT
BEGIN:VEVENT
UID:16890460@ezleagues.ezfacility.com
DTSTAMP:20260422T000601Z
CREATED:20260422T000601Z
DTSTART:20251228T160000Z
DTEND:20251228T170000Z
LOCATION:Navy
CONTACT:
SUMMARY:Little Banditos VS. Suffield Wildcats Black
DESCRIPTION:League Name: Junior AFC 11U Flag Football (Born in 2014,15,16) 
 S1\nGame Type: Regular\nGame Status: Complete\nHome Team: Little Banditos\
 nAway Team: Suffield Wildcats Black\nHome Score: 6\nAway Score: 46
END:VEVENT
BEGIN:VEVENT
UID:16890465@ezleagues.ezfacility.com
DTSTAMP:20260422T000601Z
CREATED:20260422T000601Z
DTSTART:20260104T120000Z
DTEND:20260104T130000Z
LOCATION:Navy
CONTACT:
SUMMARY:Little Banditos VS. Star Hill Red
DESCRIPTION:League Name: Junior AFC 11U Flag Football (Born in 2014,15,16) 
 S1\nGame Type: Regular\nGame Status: Complete\nHome Team: Little Banditos\
 nAway Team: Star Hill Red\nHome Score: 26\nAway Score: 7
END:VEVENT
BEGIN:VEVENT
UID:16890672@ezleagues.ezfacility.com
DTSTAMP:20260422T000601Z
CREATED:20260422T000601Z
DTSTART:20260111T120000Z
DTEND:20260111T130000Z
LOCATION:Navy
CONTACT:
SUMMARY:Little Banditos VS. Patriots
DESCRIPTION:League Name: Junior AFC 11U Flag Football (Born in 2014,15,16) 
 S1\nGame Type: Regular\nGame Status: Complete\nHome Team: Little Banditos\
 nAway Team: Patriots\nHome Score: 6\nAway Score: 31
END:VEVENT
BEGIN:VEVENT
UID:16890675@ezleagues.ezfacility.com
DTSTAMP:20260422T000601Z
CREATED:20260422T000601Z
DTSTART:20260118T150000Z
DTEND:20260118T160000Z
LOCATION:Navy
CONTACT:
SUMMARY:Little Banditos VS. Suffield Wildcats Blue
DESCRIPTION:League Name: Junior AFC 11U Flag Football (Born in 2014,15,16) 
 S1\nGame Type: Regular\nGame Status: Complete\nHome Team: Little Banditos\
 nAway Team: Suffield Wildcats Blue\nHome Score: 14\nAway Score: 43
END:VEVENT
BEGIN:VEVENT
UID:16890681@ezleagues.ezfacility.com
DTSTAMP:20260422T000601Z
CREATED:20260422T000601Z
DTSTART:20260125T130000Z
DTEND:20260125T140000Z
LOCATION:Navy
CONTACT:
SUMMARY:Little Banditos VS. Star Hill Blue
DESCRIPTION:League Name: Junior AFC 11U Flag Football (Born in 2014,15,16) 
 S1\nGame Type: Regular\nGame Status: Complete\nHome Team: Little Banditos\
 nAway Team: Star Hill Blue\nHome Score: 27\nAway Score: 18
END:VEVENT
END:VCALENDAR
