BEGIN:VCALENDAR
VERSION:2.0
PRODID:-//EZFacility.com, Inc.//EZL 2.5.5.28621
BEGIN:VEVENT
UID:16890440@ezleagues.ezfacility.com
DTSTAMP:20260424T135422Z
CREATED:20260424T135422Z
DTSTART:20251207T170000Z
DTEND:20251207T180000Z
LOCATION:Maroon
CONTACT:
SUMMARY:Little Banditos VS. Urban Lodge 2016’s
DESCRIPTION:League Name: Junior AFC 11U Flag Football (Born in 2014,15,16) 
 S1\nGame Type: Regular\nGame Status: Complete\nHome Team: Little Banditos\
 nAway Team: Urban Lodge 2016’s\nHome Score: 12\nAway Score: 31
END:VEVENT
BEGIN:VEVENT
UID:16890446@ezleagues.ezfacility.com
DTSTAMP:20260424T135422Z
CREATED:20260424T135422Z
DTSTART:20251214T130000Z
DTEND:20251214T140000Z
LOCATION:Navy
CONTACT:
SUMMARY:Star Hill Red VS. Urban Lodge 2016’s
DESCRIPTION:League Name: Junior AFC 11U Flag Football (Born in 2014,15,16) 
 S1\nGame Type: Regular\nGame Status: Complete\nHome Team: Star Hill Red\nA
 way Team: Urban Lodge 2016’s\nHome Score: 27\nAway Score: 34
END:VEVENT
BEGIN:VEVENT
UID:16890458@ezleagues.ezfacility.com
DTSTAMP:20260424T135422Z
CREATED:20260424T135422Z
DTSTART:20251221T160000Z
DTEND:20251221T170000Z
LOCATION:Maroon
CONTACT:
SUMMARY:Suffield Wildcats Black VS. Urban Lodge 2016’s
DESCRIPTION:League Name: Junior AFC 11U Flag Football (Born in 2014,15,16) 
 S1\nGame Type: Regular\nGame Status: Complete\nHome Team: Suffield Wildcat
 s Black\nAway Team: Urban Lodge 2016’s\nHome Score: 49\nAway Score: 12
END:VEVENT
BEGIN:VEVENT
UID:16890461@ezleagues.ezfacility.com
DTSTAMP:20260424T135422Z
CREATED:20260424T135422Z
DTSTART:20251228T150000Z
DTEND:20251228T160000Z
LOCATION:Navy
CONTACT:
SUMMARY:Urban Lodge 2016’s VS. Suffield Wildcats Blue
DESCRIPTION:League Name: Junior AFC 11U Flag Football (Born in 2014,15,16) 
 S1\nGame Type: Regular\nGame Status: Complete\nHome Team: Urban Lodge 2016
 ’s\nAway Team: Suffield Wildcats Blue\nHome Score: 41\nAway Score: 26
END:VEVENT
BEGIN:VEVENT
UID:16890469@ezleagues.ezfacility.com
DTSTAMP:20260424T135422Z
CREATED:20260424T135422Z
DTSTART:20260104T160000Z
DTEND:20260104T170000Z
LOCATION:Maroon
CONTACT:
SUMMARY:Patriots VS. Urban Lodge 2016’s
DESCRIPTION:League Name: Junior AFC 11U Flag Football (Born in 2014,15,16) 
 S1\nGame Type: Regular\nGame Status: Complete\nHome Team: Patriots\nAway T
 eam: Urban Lodge 2016’s\nHome Score: 24\nAway Score: 38
END:VEVENT
BEGIN:VEVENT
UID:16890671@ezleagues.ezfacility.com
DTSTAMP:20260424T135422Z
CREATED:20260424T135422Z
DTSTART:20260111T130000Z
DTEND:20260111T140000Z
LOCATION:Navy
CONTACT:
SUMMARY:Star Hill Blue VS. Urban Lodge 2016’s
DESCRIPTION:League Name: Junior AFC 11U Flag Football (Born in 2014,15,16) 
 S1\nGame Type: Regular\nGame Status: Complete\nHome Team: Star Hill Blue\n
 Away Team: Urban Lodge 2016’s\nHome Score: 12\nAway Score: 44
END:VEVENT
BEGIN:VEVENT
UID:16890677@ezleagues.ezfacility.com
DTSTAMP:20260424T135422Z
CREATED:20260424T135422Z
DTSTART:20260118T160000Z
DTEND:20260118T170000Z
LOCATION:Maroon
CONTACT:
SUMMARY:South Windsor Panthers VS. Urban Lodge 2016’s
DESCRIPTION:League Name: Junior AFC 11U Flag Football (Born in 2014,15,16) 
 S1\nGame Type: Regular\nGame Status: Complete\nHome Team: South Windsor Pa
 nthers\nAway Team: Urban Lodge 2016’s\nHome Score: 35\nAway Score: 32
END:VEVENT
BEGIN:VEVENT
UID:16890682@ezleagues.ezfacility.com
DTSTAMP:20260424T135422Z
CREATED:20260424T135422Z
DTSTART:20260125T120000Z
DTEND:20260125T130000Z
LOCATION:Navy
CONTACT:
SUMMARY:CFM VS. Urban Lodge 2016’s
DESCRIPTION:League Name: Junior AFC 11U Flag Football (Born in 2014,15,16) 
 S1\nGame Type: Regular\nGame Status: Complete\nHome Team: CFM\nAway Team: 
 Urban Lodge 2016’s\nHome Score: 34\nAway Score: 26
END:VEVENT
END:VCALENDAR
