BEGIN:VCALENDAR
VERSION:2.0
PRODID:-//EZFacility.com, Inc.//EZL 2.5.5.28621
BEGIN:VEVENT
UID:16968268@ezleagues.ezfacility.com
DTSTAMP:20260424T021414Z
CREATED:20260424T021414Z
DTSTART:20260118T220000Z
DTEND:20260118T230000Z
LOCATION:Harmans Premier Field #5
CONTACT:
SUMMARY:The Misfits VS. Water Break
DESCRIPTION:League Name: Sun Coed Open 4th II div  \nGame Type: Regular\nGa
 me Status: Complete\nHome Team: The Misfits\nAway Team: Water Break\nHome 
 Score: 3\nAway Score: 3
END:VEVENT
BEGIN:VEVENT
UID:16968292@ezleagues.ezfacility.com
DTSTAMP:20260424T021414Z
CREATED:20260424T021414Z
DTSTART:20260201T220000Z
DTEND:20260201T230000Z
LOCATION:Harmans Premier Field #5
CONTACT:
SUMMARY:Water Break VS. Cheek Finnessers FC
DESCRIPTION:League Name: Sun Coed Open 4th II div  \nGame Type: Regular\nGa
 me Status: Complete\nHome Team: Water Break\nAway Team: Cheek Finnessers F
 C\nHome Score: 1\nAway Score: 5
END:VEVENT
BEGIN:VEVENT
UID:16968316@ezleagues.ezfacility.com
DTSTAMP:20260424T021414Z
CREATED:20260424T021414Z
DTSTART:20260215T220000Z
DTEND:20260215T230000Z
LOCATION:Harmans Premier Field #5
CONTACT:
SUMMARY:Water Break VS. Victorious Secret
DESCRIPTION:League Name: Sun Coed Open 4th II div  \nGame Type: Regular\nGa
 me Status: Complete\nHome Team: Water Break\nAway Team: Victorious Secret\
 nHome Score: 3\nAway Score: 8
END:VEVENT
BEGIN:VEVENT
UID:16968328@ezleagues.ezfacility.com
DTSTAMP:20260424T021414Z
CREATED:20260424T021414Z
DTSTART:20260222T225500Z
DTEND:20260222T235000Z
LOCATION:Harmans Premier Field #5
CONTACT:
SUMMARY:Water Break VS. Back Door Bandits
DESCRIPTION:League Name: Sun Coed Open 4th II div  \nGame Type: Regular\nGa
 me Status: Complete\nHome Team: Water Break\nAway Team: Back Door Bandits\
 nHome Score: 5\nAway Score: 9
END:VEVENT
BEGIN:VEVENT
UID:16968340@ezleagues.ezfacility.com
DTSTAMP:20260424T021414Z
CREATED:20260424T021414Z
DTSTART:20260301T225500Z
DTEND:20260301T235000Z
LOCATION:Harmans Premier Field #5
CONTACT:
SUMMARY:Messi Footwork VS. Water Break
DESCRIPTION:League Name: Sun Coed Open 4th II div  \nGame Type: Regular\nGa
 me Status: Complete\nHome Team: Messi Footwork\nAway Team: Water Break\nHo
 me Score: 4\nAway Score: 7
END:VEVENT
BEGIN:VEVENT
UID:16968304@ezleagues.ezfacility.com
DTSTAMP:20260424T021414Z
CREATED:20260424T021414Z
DTSTART:20260308T223000Z
DTEND:20260308T232500Z
LOCATION:Harmans Premier Field #4
CONTACT:
SUMMARY:Water Break VS. Mothey Crew
DESCRIPTION:League Name: Sun Coed Open 4th II div  \nGame Type: Regular\nGa
 me Status: Complete\nHome Team: Water Break\nAway Team: Mothey Crew\nHome 
 Score: 2\nAway Score: 0
END:VEVENT
BEGIN:VEVENT
UID:16968280@ezleagues.ezfacility.com
DTSTAMP:20260424T021414Z
CREATED:20260424T021414Z
DTSTART:20260315T215500Z
DTEND:20260315T224500Z
LOCATION:Harmans Premier Field #5
CONTACT:
SUMMARY:Old Geezers VS. Water Break
DESCRIPTION:League Name: Sun Coed Open 4th II div  \nGame Type: Regular\nGa
 me Status: Complete\nHome Team: Old Geezers\nAway Team: Water Break\nHome 
 Score: 3\nAway Score: 1
END:VEVENT
BEGIN:VEVENT
UID:17062821@ezleagues.ezfacility.com
DTSTAMP:20260424T021414Z
CREATED:20260424T021414Z
DTSTART:20260322T215500Z
DTEND:20260322T225500Z
LOCATION:Harmans Premier Field #5
CONTACT:
SUMMARY:Water Break VS. Messi Footwork
DESCRIPTION:League Name: Sun Coed Open 4th II div  \nGame Type: Regular\nGa
 me Status: Complete\nHome Team: Water Break\nAway Team: Messi Footwork\nHo
 me Score: 3\nAway Score: 1
END:VEVENT
BEGIN:VEVENT
UID:17068279@ezleagues.ezfacility.com
DTSTAMP:20260424T021414Z
CREATED:20260424T021414Z
DTSTART:20260329T210000Z
DTEND:20260329T220000Z
LOCATION:Harmans Premier Field #5
CONTACT:
SUMMARY:The Misfits VS. Water Break
DESCRIPTION:League Name: Sun Coed Open 4th II div  \nGame Type: Regular\nGa
 me Status: Complete\nHome Team: The Misfits\nAway Team: Water Break\nHome 
 Score: 6\nAway Score: 5
END:VEVENT
END:VCALENDAR
