BEGIN:VCALENDAR
VERSION:2.0
PRODID:-//EZFacility.com, Inc.//EZL 2.5.5.28621
BEGIN:VEVENT
UID:16891977@ezleagues.ezfacility.com
DTSTAMP:20260423T161139Z
CREATED:20260423T161139Z
DTSTART:20251209T023500Z
DTEND:20251209T032500Z
LOCATION:Sand Court 3
CONTACT:
SUMMARY:Josh/Hayley VS. Los Grahamingos
DESCRIPTION:League Name: Monday Co-ed 2's A/AA Winter 25/26\nGame Type: Reg
 ular\nGame Status: Complete\nHome Team: Josh/Hayley\nAway Team: Los Graham
 ingos\nHome Score: 1\nAway Score: 2
END:VEVENT
BEGIN:VEVENT
UID:16891983@ezleagues.ezfacility.com
DTSTAMP:20260423T161139Z
CREATED:20260423T161139Z
DTSTART:20251216T014500Z
DTEND:20251216T023500Z
LOCATION:Sand Court 3
CONTACT:
SUMMARY:Jenkins / Carlyon VS. Los Grahamingos
DESCRIPTION:League Name: Monday Co-ed 2's A/AA Winter 25/26\nGame Type: Reg
 ular\nGame Status: Complete\nHome Team: Jenkins / Carlyon\nAway Team: Los 
 Grahamingos\nHome Score: 2\nAway Score: 1
END:VEVENT
BEGIN:VEVENT
UID:16891989@ezleagues.ezfacility.com
DTSTAMP:20260423T161139Z
CREATED:20260423T161139Z
DTSTART:20251223T005500Z
DTEND:20251223T014500Z
LOCATION:Sand Court 3
CONTACT:
SUMMARY:Giddy VS. Los Grahamingos
DESCRIPTION:League Name: Monday Co-ed 2's A/AA Winter 25/26\nGame Type: Reg
 ular\nGame Status: Complete\nHome Team: Giddy\nAway Team: Los Grahamingos\
 nHome Score: 3\nAway Score: 0
END:VEVENT
BEGIN:VEVENT
UID:16891995@ezleagues.ezfacility.com
DTSTAMP:20260423T161139Z
CREATED:20260423T161139Z
DTSTART:20251229T231500Z
DTEND:20251230T000500Z
LOCATION:Sand Court 3
CONTACT:
SUMMARY:Jocelyn/Calvin VS. Los Grahamingos
DESCRIPTION:League Name: Monday Co-ed 2's A/AA Winter 25/26\nGame Type: Reg
 ular\nGame Status: Complete\nHome Team: Jocelyn/Calvin\nAway Team: Los Gra
 hamingos\nHome Score: 2\nAway Score: 1
END:VEVENT
BEGIN:VEVENT
UID:16892001@ezleagues.ezfacility.com
DTSTAMP:20260423T161139Z
CREATED:20260423T161139Z
DTSTART:20260106T023500Z
DTEND:20260106T032500Z
LOCATION:Sand Court 4
CONTACT:
SUMMARY:Los Grahamingos VS. AJ/Lindsey
DESCRIPTION:League Name: Monday Co-ed 2's A/AA Winter 25/26\nGame Type: Reg
 ular\nGame Status: Complete\nHome Team: Los Grahamingos\nAway Team: AJ/Lin
 dsey\nHome Score: 0\nAway Score: 3
END:VEVENT
BEGIN:VEVENT
UID:16892009@ezleagues.ezfacility.com
DTSTAMP:20260423T161139Z
CREATED:20260423T161139Z
DTSTART:20260113T000500Z
DTEND:20260113T005500Z
LOCATION:Sand Court 3
CONTACT:
SUMMARY:Los Grahamingos VS. Nate/Ally
DESCRIPTION:League Name: Monday Co-ed 2's A/AA Winter 25/26\nGame Type: Reg
 ular\nGame Status: Complete\nHome Team: Los Grahamingos\nAway Team: Nate/A
 lly\nHome Score: 0\nAway Score: 3
END:VEVENT
BEGIN:VEVENT
UID:16892017@ezleagues.ezfacility.com
DTSTAMP:20260423T161139Z
CREATED:20260423T161139Z
DTSTART:20260119T231500Z
DTEND:20260120T000500Z
LOCATION:Sand Court 3
CONTACT:
SUMMARY:Los Grahamingos VS. Kayla/Dustin
DESCRIPTION:League Name: Monday Co-ed 2's A/AA Winter 25/26\nGame Type: Reg
 ular\nGame Status: Complete\nHome Team: Los Grahamingos\nAway Team: Kayla/
 Dustin\nHome Score: 2\nAway Score: 1
END:VEVENT
BEGIN:VEVENT
UID:16892025@ezleagues.ezfacility.com
DTSTAMP:20260423T161139Z
CREATED:20260423T161139Z
DTSTART:20260127T014500Z
DTEND:20260127T023500Z
LOCATION:Sand Court 4
CONTACT:
SUMMARY:Los Grahamingos VS. Jimmy/Amber
DESCRIPTION:League Name: Monday Co-ed 2's A/AA Winter 25/26\nGame Type: Reg
 ular\nGame Status: Complete\nHome Team: Los Grahamingos\nAway Team: Jimmy/
 Amber\nHome Score: 0\nAway Score: 3
END:VEVENT
BEGIN:VEVENT
UID:16892033@ezleagues.ezfacility.com
DTSTAMP:20260423T161139Z
CREATED:20260423T161139Z
DTSTART:20260203T014500Z
DTEND:20260203T023500Z
LOCATION:Sand Court 3
CONTACT:
SUMMARY:Los Grahamingos VS. Bump Set Nap
DESCRIPTION:League Name: Monday Co-ed 2's A/AA Winter 25/26\nGame Type: Reg
 ular\nGame Status: Complete\nHome Team: Los Grahamingos\nAway Team: Bump S
 et Nap\nHome Score: 3\nAway Score: 0
END:VEVENT
BEGIN:VEVENT
UID:17007717@ezleagues.ezfacility.com
DTSTAMP:20260423T161139Z
CREATED:20260423T161139Z
DTSTART:20260210T003000Z
DTEND:20260210T012000Z
LOCATION:Sand Court 3
CONTACT:
SUMMARY:Los Grahamingos VS. Jimmy/Amber
DESCRIPTION:League Name: Monday Co-ed 2's A/AA Winter 25/26\nGame Type: Reg
 ular\nGame Status: Pending\nHome Team: Los Grahamingos\nAway Team: Jimmy/A
 mber\n
END:VEVENT
BEGIN:VEVENT
UID:17021250@ezleagues.ezfacility.com
DTSTAMP:20260423T161139Z
CREATED:20260423T161139Z
DTSTART:20260216T230000Z
DTEND:20260216T235000Z
LOCATION:Sand Court 3
CONTACT:
SUMMARY:Kara/Zach VS. Los Grahamingos
DESCRIPTION:League Name: Monday Co-ed 2's A/AA Winter 25/26\nGame Type: Reg
 ular\nGame Status: Pending\nHome Team: Kara/Zach\nAway Team: Los Grahaming
 os\n
END:VEVENT
END:VCALENDAR
