BEGIN:VCALENDAR
VERSION:2.0
PRODID:-//EZFacility.com, Inc.//EZL 2.5.5.28621
BEGIN:VEVENT
UID:16893925@ezleagues.ezfacility.com
DTSTAMP:20260421T234045Z
CREATED:20260421T234045Z
DTSTART:20251213T211500Z
DTEND:20251213T220000Z
LOCATION:Front Field
CONTACT:
SUMMARY:Marlton Chiefs Orange 2015 VS. Highland Youth Soccer Club 2015 Boys
DESCRIPTION:League Name: 25-26 Winter 7v7 Youth Boys League - 2015/2014 Boy
 s Division\nGame Type: Regular\nGame Status: Complete\nHome Team: Marlton 
 Chiefs Orange 2015\nAway Team: Highland Youth Soccer Club 2015 Boys\nHome 
 Score: 2\nAway Score: 3
END:VEVENT
BEGIN:VEVENT
UID:16893929@ezleagues.ezfacility.com
DTSTAMP:20260421T234045Z
CREATED:20260421T234045Z
DTSTART:20251220T233000Z
DTEND:20251221T001500Z
LOCATION:Front Field
CONTACT:
SUMMARY:Marlton Chiefs Orange 2015 VS. Fusion 2015
DESCRIPTION:League Name: 25-26 Winter 7v7 Youth Boys League - 2015/2014 Boy
 s Division\nGame Type: Regular\nGame Status: Complete\nHome Team: Marlton 
 Chiefs Orange 2015\nAway Team: Fusion 2015\nHome Score: 2\nAway Score: 3
END:VEVENT
BEGIN:VEVENT
UID:16893934@ezleagues.ezfacility.com
DTSTAMP:20260421T234045Z
CREATED:20260421T234045Z
DTSTART:20260103T211500Z
DTEND:20260103T220000Z
LOCATION:Front Field
CONTACT:
SUMMARY:TWP Warriors VS. Marlton Chiefs Orange 2015
DESCRIPTION:League Name: 25-26 Winter 7v7 Youth Boys League - 2015/2014 Boy
 s Division\nGame Type: Regular\nGame Status: Complete\nHome Team: TWP Warr
 iors\nAway Team: Marlton Chiefs Orange 2015\nHome Score: 0\nAway Score: 13
END:VEVENT
BEGIN:VEVENT
UID:16893942@ezleagues.ezfacility.com
DTSTAMP:20260421T234045Z
CREATED:20260421T234045Z
DTSTART:20260110T233000Z
DTEND:20260111T001500Z
LOCATION:Front Field
CONTACT:
SUMMARY:FTYSA Knights 2014/2015 VS. Marlton Chiefs Orange 2015
DESCRIPTION:League Name: 25-26 Winter 7v7 Youth Boys League - 2015/2014 Boy
 s Division\nGame Type: Regular\nGame Status: Complete\nHome Team: FTYSA Kn
 ights 2014/2015\nAway Team: Marlton Chiefs Orange 2015\nHome Score: 1\nAwa
 y Score: 14
END:VEVENT
BEGIN:VEVENT
UID:16893958@ezleagues.ezfacility.com
DTSTAMP:20260421T234045Z
CREATED:20260421T234045Z
DTSTART:20260207T220000Z
DTEND:20260207T224500Z
LOCATION:Front Field
CONTACT:
SUMMARY:2015 Harrison Fury VS. Marlton Chiefs Orange 2015
DESCRIPTION:League Name: 25-26 Winter 7v7 Youth Boys League - 2015/2014 Boy
 s Division\nGame Type: Regular\nGame Status: Complete\nHome Team: 2015 Har
 rison Fury\nAway Team: Marlton Chiefs Orange 2015\nHome Score: 5\nAway Sco
 re: 4
END:VEVENT
BEGIN:VEVENT
UID:16894000@ezleagues.ezfacility.com
DTSTAMP:20260421T234045Z
CREATED:20260421T234045Z
DTSTART:20260221T220000Z
DTEND:20260221T224500Z
LOCATION:Front Field
CONTACT:
SUMMARY:SJS FC 2014 VS. Marlton Chiefs Orange 2015
DESCRIPTION:League Name: 25-26 Winter 7v7 Youth Boys League - 2015/2014 Boy
 s Division\nGame Type: Regular\nGame Status: Complete\nHome Team: SJS FC 2
 014\nAway Team: Marlton Chiefs Orange 2015\nHome Score: 4\nAway Score: 4
END:VEVENT
BEGIN:VEVENT
UID:16894003@ezleagues.ezfacility.com
DTSTAMP:20260421T234045Z
CREATED:20260421T234045Z
DTSTART:20260228T224500Z
DTEND:20260228T233000Z
LOCATION:Front Field
CONTACT:
SUMMARY:Marlton Chiefs Orange 2015 VS. Gateway Greyhounds
DESCRIPTION:League Name: 25-26 Winter 7v7 Youth Boys League - 2015/2014 Boy
 s Division\nGame Type: Regular\nGame Status: Complete\nHome Team: Marlton 
 Chiefs Orange 2015\nAway Team: Gateway Greyhounds\nHome Score: 9\nAway Sco
 re: 2
END:VEVENT
BEGIN:VEVENT
UID:16894006@ezleagues.ezfacility.com
DTSTAMP:20260421T234045Z
CREATED:20260421T234045Z
DTSTART:20260307T220000Z
DTEND:20260307T224500Z
LOCATION:Front Field
CONTACT:
SUMMARY:Marlton Chiefs Orange 2015 VS. Mantua Outlaws 2014
DESCRIPTION:League Name: 25-26 Winter 7v7 Youth Boys League - 2015/2014 Boy
 s Division\nGame Type: Regular\nGame Status: Complete\nHome Team: Marlton 
 Chiefs Orange 2015\nAway Team: Mantua Outlaws 2014\nHome Score: 6\nAway Sc
 ore: 1
END:VEVENT
END:VCALENDAR
