BEGIN:VCALENDAR
VERSION:2.0
PRODID:-//EZFacility.com, Inc.//EZL 2.5.5.28621
BEGIN:VEVENT
UID:16894955@ezleagues.ezfacility.com
DTSTAMP:20260422T182742Z
CREATED:20260422T182742Z
DTSTART:20260104T010000Z
DTEND:20260104T014500Z
LOCATION:Back Field
CONTACT:
SUMMARY:Hammonton Heat VS. Team Herbst
DESCRIPTION:League Name: 25-26 Winter 7v7 Youth Boys League - JV HS Divisio
 n\nGame Type: Regular\nGame Status: Complete\nHome Team: Hammonton Heat\nA
 way Team: Team Herbst\nHome Score: 1\nAway Score: 8
END:VEVENT
BEGIN:VEVENT
UID:16895002@ezleagues.ezfacility.com
DTSTAMP:20260422T182742Z
CREATED:20260422T182742Z
DTSTART:20260110T031500Z
DTEND:20260110T040000Z
LOCATION:Front Field
CONTACT:
SUMMARY:Monroe United 2011 Boys VS. Hammonton Heat
DESCRIPTION:League Name: 25-26 Winter 7v7 Youth Boys League - JV HS Divisio
 n\nGame Type: Regular\nGame Status: Complete\nHome Team: Monroe United 201
 1 Boys\nAway Team: Hammonton Heat\nHome Score: 4\nAway Score: 0
END:VEVENT
BEGIN:VEVENT
UID:16894999@ezleagues.ezfacility.com
DTSTAMP:20260422T182742Z
CREATED:20260422T182742Z
DTSTART:20260111T014500Z
DTEND:20260111T023000Z
LOCATION:Front Field
CONTACT:
SUMMARY:Hammonton Heat VS. Storm Slayers 2010
DESCRIPTION:League Name: 25-26 Winter 7v7 Youth Boys League - JV HS Divisio
 n\nGame Type: Regular\nGame Status: Complete\nHome Team: Hammonton Heat\nA
 way Team: Storm Slayers 2010\nHome Score: 1\nAway Score: 2
END:VEVENT
BEGIN:VEVENT
UID:16894976@ezleagues.ezfacility.com
DTSTAMP:20260422T182742Z
CREATED:20260422T182742Z
DTSTART:20260118T023000Z
DTEND:20260118T031500Z
LOCATION:Back Field
CONTACT:
SUMMARY:2011 Mantua Union VS. Hammonton Heat
DESCRIPTION:League Name: 25-26 Winter 7v7 Youth Boys League - JV HS Divisio
 n\nGame Type: Regular\nGame Status: Complete\nHome Team: 2011 Mantua Union
 \nAway Team: Hammonton Heat\nHome Score: 5\nAway Score: 2
END:VEVENT
BEGIN:VEVENT
UID:16894982@ezleagues.ezfacility.com
DTSTAMP:20260422T182742Z
CREATED:20260422T182742Z
DTSTART:20260214T023000Z
DTEND:20260214T031500Z
LOCATION:Back Field
CONTACT:
SUMMARY:Panthers 2009/10/11 VS. Hammonton Heat
DESCRIPTION:League Name: 25-26 Winter 7v7 Youth Boys League - JV HS Divisio
 n\nGame Type: Regular\nGame Status: Complete\nHome Team: Panthers 2009/10/
 11\nAway Team: Hammonton Heat\nHome Score: 9\nAway Score: 0
END:VEVENT
BEGIN:VEVENT
UID:16894991@ezleagues.ezfacility.com
DTSTAMP:20260422T182742Z
CREATED:20260422T182742Z
DTSTART:20260221T023000Z
DTEND:20260221T031500Z
LOCATION:Back Field
CONTACT:
SUMMARY:2010 EGSA Blaze VS. Hammonton Heat
DESCRIPTION:League Name: 25-26 Winter 7v7 Youth Boys League - JV HS Divisio
 n\nGame Type: Regular\nGame Status: Pending\nHome Team: 2010 EGSA Blaze\nA
 way Team: Hammonton Heat\n
END:VEVENT
BEGIN:VEVENT
UID:16895005@ezleagues.ezfacility.com
DTSTAMP:20260422T182742Z
CREATED:20260422T182742Z
DTSTART:20260222T010000Z
DTEND:20260222T014500Z
LOCATION:Front Field
CONTACT:
SUMMARY:Hammonton Heat VS. SJEB 2011B ECRL (Red Team)
DESCRIPTION:League Name: 25-26 Winter 7v7 Youth Boys League - JV HS Divisio
 n\nGame Type: Regular\nGame Status: Complete\nHome Team: Hammonton Heat\nA
 way Team: SJEB 2011B ECRL (Red Team)\nHome Score: 1\nAway Score: 8
END:VEVENT
BEGIN:VEVENT
UID:16894996@ezleagues.ezfacility.com
DTSTAMP:20260422T182742Z
CREATED:20260422T182742Z
DTSTART:20260301T023000Z
DTEND:20260301T031500Z
LOCATION:Back Field
CONTACT:
SUMMARY:Hammonton Heat VS. ProTurf Select 2012
DESCRIPTION:League Name: 25-26 Winter 7v7 Youth Boys League - JV HS Divisio
 n\nGame Type: Regular\nGame Status: Pending\nHome Team: Hammonton Heat\nAw
 ay Team: ProTurf Select 2012\n
END:VEVENT
END:VCALENDAR
