BEGIN:VCALENDAR
VERSION:2.0
PRODID:-//EZFacility.com, Inc.//EZL 2.5.5.28621
BEGIN:VEVENT
UID:16894814@ezleagues.ezfacility.com
DTSTAMP:20260426T033845Z
CREATED:20260426T033845Z
DTSTART:20251220T010000Z
DTEND:20251220T014500Z
LOCATION:Front Field
CONTACT:
SUMMARY:Glassboro Bulldogs 2007 VS. Highland Boys 2009
DESCRIPTION:League Name: 25-26 Winter 7v7 Youth Boys League - Boys Varsity 
 HS Division\nGame Type: Regular\nGame Status: Complete\nHome Team: Glassbo
 ro Bulldogs 2007\nAway Team: Highland Boys 2009\nHome Score: 2\nAway Score
 : 2
END:VEVENT
BEGIN:VEVENT
UID:16894903@ezleagues.ezfacility.com
DTSTAMP:20260426T033845Z
CREATED:20260426T033845Z
DTSTART:20251220T014500Z
DTEND:20251220T023000Z
LOCATION:Back Field
CONTACT:
SUMMARY:Glassboro Bulldogs 2007 VS. KBS 2008
DESCRIPTION:League Name: 25-26 Winter 7v7 Youth Boys League - Boys Varsity 
 HS Division\nGame Type: Regular\nGame Status: Complete\nHome Team: Glassbo
 ro Bulldogs 2007\nAway Team: KBS 2008\nHome Score: 1\nAway Score: 12
END:VEVENT
BEGIN:VEVENT
UID:16894779@ezleagues.ezfacility.com
DTSTAMP:20260426T033845Z
CREATED:20260426T033845Z
DTSTART:20251227T233000Z
DTEND:20251228T001500Z
LOCATION:Front Field
CONTACT:
SUMMARY:Glassboro Bulldogs 2007 VS. SJEB 2010B ECRL (Red Team)
DESCRIPTION:League Name: 25-26 Winter 7v7 Youth Boys League - Boys Varsity 
 HS Division\nGame Type: Regular\nGame Status: Complete\nHome Team: Glassbo
 ro Bulldogs 2007\nAway Team: SJEB 2010B ECRL (Red Team)\nHome Score: 4\nAw
 ay Score: 7
END:VEVENT
BEGIN:VEVENT
UID:16894790@ezleagues.ezfacility.com
DTSTAMP:20260426T033845Z
CREATED:20260426T033845Z
DTSTART:20260111T014500Z
DTEND:20260111T023000Z
LOCATION:Back Field
CONTACT:
SUMMARY:Glassboro Bulldogs 2007 VS. KBS The Flight
DESCRIPTION:League Name: 25-26 Winter 7v7 Youth Boys League - Boys Varsity 
 HS Division\nGame Type: Regular\nGame Status: Complete\nHome Team: Glassbo
 ro Bulldogs 2007\nAway Team: KBS The Flight\nHome Score: 3\nAway Score: 5
END:VEVENT
BEGIN:VEVENT
UID:16894824@ezleagues.ezfacility.com
DTSTAMP:20260426T033845Z
CREATED:20260426T033845Z
DTSTART:20260117T194500Z
DTEND:20260117T203000Z
LOCATION:Front Field
CONTACT:
SUMMARY:Shed FC VS. Glassboro Bulldogs 2007
DESCRIPTION:League Name: 25-26 Winter 7v7 Youth Boys League - Boys Varsity 
 HS Division\nGame Type: Regular\nGame Status: Complete\nHome Team: Shed FC
 \nAway Team: Glassboro Bulldogs 2007\nHome Score: 6\nAway Score: 1
END:VEVENT
BEGIN:VEVENT
UID:16894804@ezleagues.ezfacility.com
DTSTAMP:20260426T033845Z
CREATED:20260426T033845Z
DTSTART:20260215T001500Z
DTEND:20260215T010000Z
LOCATION:Back Field
CONTACT:
SUMMARY:Glassboro Bulldogs 2007 VS. 67 squad 2007
DESCRIPTION:League Name: 25-26 Winter 7v7 Youth Boys League - Boys Varsity 
 HS Division\nGame Type: Regular\nGame Status: Complete\nHome Team: Glassbo
 ro Bulldogs 2007\nAway Team: 67 squad 2007\nHome Score: 4\nAway Score: 8
END:VEVENT
BEGIN:VEVENT
UID:16894806@ezleagues.ezfacility.com
DTSTAMP:20260426T033845Z
CREATED:20260426T033845Z
DTSTART:20260222T014500Z
DTEND:20260222T023000Z
LOCATION:Back Field
CONTACT:
SUMMARY:Mustangs VS. Glassboro Bulldogs 2007
DESCRIPTION:League Name: 25-26 Winter 7v7 Youth Boys League - Boys Varsity 
 HS Division\nGame Type: Regular\nGame Status: Pending\nHome Team: Mustangs
 \nAway Team: Glassboro Bulldogs 2007\n
END:VEVENT
BEGIN:VEVENT
UID:16894811@ezleagues.ezfacility.com
DTSTAMP:20260426T033845Z
CREATED:20260426T033845Z
DTSTART:20260301T010000Z
DTEND:20260301T014500Z
LOCATION:Back Field
CONTACT:
SUMMARY:KBS VS. Glassboro Bulldogs 2007
DESCRIPTION:League Name: 25-26 Winter 7v7 Youth Boys League - Boys Varsity 
 HS Division\nGame Type: Regular\nGame Status: Complete\nHome Team: KBS\nAw
 ay Team: Glassboro Bulldogs 2007\nHome Score: 7\nAway Score: 2
END:VEVENT
END:VCALENDAR
