BEGIN:VCALENDAR
VERSION:2.0
PRODID:-//EZFacility.com, Inc.//EZL 2.5.5.28621
BEGIN:VEVENT
UID:17089527@ezleagues.ezfacility.com
DTSTAMP:20260420T222859Z
CREATED:20260420T222859Z
DTSTART:20260414T003000Z
DTEND:20260414T013000Z
LOCATION:SA Indoor Field
CONTACT:
SUMMARY:REAL CAGUAMA VS. Galacticos 
DESCRIPTION:League Name: Lunes Veteranos Mayores 40\nGame Type: Postseason\
 nGame Status: Complete\nHome Team: REAL CAGUAMA\nAway Team: Galacticos \nH
 ome Score: 7\nAway Score: 1
END:VEVENT
BEGIN:VEVENT
UID:17097303@ezleagues.ezfacility.com
DTSTAMP:20260420T222859Z
CREATED:20260420T222859Z
DTSTART:20260421T021500Z
DTEND:20260421T031500Z
LOCATION:SA Indoor Field
CONTACT:
SUMMARY:Internacional VS. Galacticos 
DESCRIPTION:League Name: Lunes Veteranos Mayores 40\nGame Type: Regular\nGa
 me Status: Pending\nHome Team: Internacional\nAway Team: Galacticos \n
END:VEVENT
END:VCALENDAR
