BEGIN:VCALENDAR
VERSION:2.0
PRODID:-//EZFacility.com, Inc.//EZL 2.5.5.28621
BEGIN:VEVENT
UID:16898543@ezleagues.ezfacility.com
DTSTAMP:20260422T192704Z
CREATED:20260422T192704Z
DTSTART:20251214T231500Z
DTEND:20251215T000000Z
LOCATION:Venue1
CONTACT:
SUMMARY:Cannonballs 2017 VS. Surf 2017
DESCRIPTION:League Name: Winter 2025/2026 2017/2016 \nGame Type: Regular\nG
 ame Status: Complete\nHome Team: Cannonballs 2017\nAway Team: Surf 2017\nH
 ome Score: 1\nAway Score: 14
END:VEVENT
BEGIN:VEVENT
UID:16898545@ezleagues.ezfacility.com
DTSTAMP:20260422T192704Z
CREATED:20260422T192704Z
DTSTART:20251220T184500Z
DTEND:20251220T193000Z
LOCATION:Venue1
CONTACT:
SUMMARY:Surf 2017 VS. Blue Lions 2017
DESCRIPTION:League Name: Winter 2025/2026 2017/2016 \nGame Type: Regular\nG
 ame Status: Complete\nHome Team: Surf 2017\nAway Team: Blue Lions 2017\nHo
 me Score: 4\nAway Score: 4
END:VEVENT
BEGIN:VEVENT
UID:16898551@ezleagues.ezfacility.com
DTSTAMP:20260422T192704Z
CREATED:20260422T192704Z
DTSTART:20260110T184500Z
DTEND:20260110T193000Z
LOCATION:Venue1
CONTACT:
SUMMARY:Blue Lions 2017 VS. Surf 2017
DESCRIPTION:League Name: Winter 2025/2026 2017/2016 \nGame Type: Regular\nG
 ame Status: Complete\nHome Team: Blue Lions 2017\nAway Team: Surf 2017\nHo
 me Score: 1\nAway Score: 10
END:VEVENT
BEGIN:VEVENT
UID:16898552@ezleagues.ezfacility.com
DTSTAMP:20260422T192704Z
CREATED:20260422T192704Z
DTSTART:20260117T184500Z
DTEND:20260117T193000Z
LOCATION:Venue1
CONTACT:
SUMMARY:Surf 2017 VS. Solar 2016 Girls 
DESCRIPTION:League Name: Winter 2025/2026 2017/2016 \nGame Type: Regular\nG
 ame Status: Pending\nHome Team: Surf 2017\nAway Team: Solar 2016 Girls \n
END:VEVENT
BEGIN:VEVENT
UID:16898546@ezleagues.ezfacility.com
DTSTAMP:20260422T192704Z
CREATED:20260422T192704Z
DTSTART:20260131T184500Z
DTEND:20260131T193000Z
LOCATION:Venue1
CONTACT:
SUMMARY:Solar 2016 Girls  VS. Surf 2017
DESCRIPTION:League Name: Winter 2025/2026 2017/2016 \nGame Type: Regular\nG
 ame Status: Complete\nHome Team: Solar 2016 Girls \nAway Team: Surf 2017\n
 Home Score: 1\nAway Score: 6
END:VEVENT
BEGIN:VEVENT
UID:16898549@ezleagues.ezfacility.com
DTSTAMP:20260422T192704Z
CREATED:20260422T192704Z
DTSTART:20260207T184500Z
DTEND:20260207T193000Z
LOCATION:Venue1
CONTACT:
SUMMARY:Surf 2017 VS. Cannonballs 2017
DESCRIPTION:League Name: Winter 2025/2026 2017/2016 \nGame Type: Regular\nG
 ame Status: Pending\nHome Team: Surf 2017\nAway Team: Cannonballs 2017\n
END:VEVENT
END:VCALENDAR
