BEGIN:VCALENDAR
VERSION:2.0
PRODID:-//EZFacility.com, Inc.//EZL 2.5.5.28621
BEGIN:VEVENT
UID:16904662@ezleagues.ezfacility.com
DTSTAMP:20260423T145124Z
CREATED:20260423T145124Z
DTSTART:20260110T220000Z
DTEND:20260110T230000Z
LOCATION:Rossford Dome 9v9 Field 2
CONTACT:Shaffer
SUMMARY:Sylvania United White U11 VS. NOCA Spartans
DESCRIPTION:League Name: 2026 Rossford Dome Boys U11\nGame Type: Regular\nG
 ame Status: Complete\nHome Team: Sylvania United White U11\nAway Team: NOC
 A Spartans\nHome Score: 0\nAway Score: 0
END:VEVENT
BEGIN:VEVENT
UID:16904665@ezleagues.ezfacility.com
DTSTAMP:20260423T145124Z
CREATED:20260423T145124Z
DTSTART:20260117T210000Z
DTEND:20260117T220000Z
LOCATION:Rossford Dome 9v9 Field 2
CONTACT:Gerken
SUMMARY:NOCA Spartans VS. Green Machine U11
DESCRIPTION:League Name: 2026 Rossford Dome Boys U11\nGame Type: Regular\nG
 ame Status: Complete\nHome Team: NOCA Spartans\nAway Team: Green Machine U
 11\nHome Score: 7\nAway Score: 0
END:VEVENT
BEGIN:VEVENT
UID:16904668@ezleagues.ezfacility.com
DTSTAMP:20260423T145124Z
CREATED:20260423T145124Z
DTSTART:20260124T210000Z
DTEND:20260124T220000Z
LOCATION:Rossford Dome 9v9 Field 2
CONTACT:Taylor - W
SUMMARY:NOCA Spartans VS. ESSL Arsenal B2015 
DESCRIPTION:League Name: 2026 Rossford Dome Boys U11\nGame Type: Regular\nG
 ame Status: Complete\nHome Team: NOCA Spartans\nAway Team: ESSL Arsenal B2
 015 \nHome Score: 7\nAway Score: 1
END:VEVENT
BEGIN:VEVENT
UID:16904673@ezleagues.ezfacility.com
DTSTAMP:20260423T145124Z
CREATED:20260423T145124Z
DTSTART:20260131T223000Z
DTEND:20260131T233000Z
LOCATION:Rossford Dome 9v9 Field 1
CONTACT:Gauger
SUMMARY:AWSC B2015 White VS. NOCA Spartans
DESCRIPTION:League Name: 2026 Rossford Dome Boys U11\nGame Type: Regular\nG
 ame Status: Complete\nHome Team: AWSC B2015 White\nAway Team: NOCA Spartan
 s\nHome Score: 1\nAway Score: 7
END:VEVENT
BEGIN:VEVENT
UID:16904683@ezleagues.ezfacility.com
DTSTAMP:20260423T145124Z
CREATED:20260423T145124Z
DTSTART:20260214T220000Z
DTEND:20260214T230000Z
LOCATION:Rossford Dome 9v9 Field 2
CONTACT:Taylor - W
SUMMARY:Liberty Center U11 VS. NOCA Spartans
DESCRIPTION:League Name: 2026 Rossford Dome Boys U11\nGame Type: Regular\nG
 ame Status: Complete\nHome Team: Liberty Center U11\nAway Team: NOCA Spart
 ans\nHome Score: 2\nAway Score: 5
END:VEVENT
BEGIN:VEVENT
UID:16907987@ezleagues.ezfacility.com
DTSTAMP:20260423T145124Z
CREATED:20260423T145124Z
DTSTART:20260301T010000Z
DTEND:20260301T020000Z
LOCATION:Rossford Dome 9v9 Field 2
CONTACT:Himmelreich
SUMMARY:AWSC B2016 Blue VS. NOCA Spartans
DESCRIPTION:League Name: 2026 Rossford Dome Boys U11\nGame Type: Regular\nG
 ame Status: Complete\nHome Team: AWSC B2016 Blue\nAway Team: NOCA Spartans
 \nHome Score: 0\nAway Score: 3
END:VEVENT
BEGIN:VEVENT
UID:16904693@ezleagues.ezfacility.com
DTSTAMP:20260423T145124Z
CREATED:20260423T145124Z
DTSTART:20260308T220000Z
DTEND:20260308T230000Z
LOCATION:Rossford Dome 9v9 Field 1
CONTACT:Callaway
SUMMARY:Green Machine U11 VS. NOCA Spartans
DESCRIPTION:League Name: 2026 Rossford Dome Boys U11\nGame Type: Regular\nG
 ame Status: Complete\nHome Team: Green Machine U11\nAway Team: NOCA Sparta
 ns\nHome Score: 1\nAway Score: 6
END:VEVENT
BEGIN:VEVENT
UID:16904678@ezleagues.ezfacility.com
DTSTAMP:20260423T145124Z
CREATED:20260423T145124Z
DTSTART:20260328T210000Z
DTEND:20260328T220000Z
LOCATION:Rossford Dome 9v9 Field 1
CONTACT:Kahler
SUMMARY:NOCA Spartans VS. ESSL Arsenal B2015/16 
DESCRIPTION:League Name: 2026 Rossford Dome Boys U11\nGame Type: Regular\nG
 ame Status: Complete\nHome Team: NOCA Spartans\nAway Team: ESSL Arsenal B2
 015/16 \nHome Score: 3\nAway Score: 0
END:VEVENT
END:VCALENDAR
