BEGIN:VCALENDAR
VERSION:2.0
PRODID:-//EZFacility.com, Inc.//EZL 2.5.5.28621
BEGIN:VEVENT
UID:16910336@ezleagues.ezfacility.com
DTSTAMP:20260424T044215Z
CREATED:20260424T044215Z
DTSTART:20260103T130000Z
DTEND:20260103T140000Z
LOCATION:Field 3 
CONTACT:Weiss W
SUMMARY:Vale SC 2017 VS. Sporting CT 2017/18
DESCRIPTION:League Name: 2026 Winter 2 Girls 2017\nGame Type: Regular\nGame
  Status: Complete\nHome Team: Vale SC 2017\nAway Team: Sporting CT 2017/18
 \nHome Score: 3\nAway Score: 1
END:VEVENT
BEGIN:VEVENT
UID:16910339@ezleagues.ezfacility.com
DTSTAMP:20260424T044215Z
CREATED:20260424T044215Z
DTSTART:20260110T130000Z
DTEND:20260110T140000Z
LOCATION:Field 3 
CONTACT:Martino
SUMMARY:Cheetahs VS. Sporting CT 2017/18
DESCRIPTION:League Name: 2026 Winter 2 Girls 2017\nGame Type: Regular\nGame
  Status: Complete\nHome Team: Cheetahs\nAway Team: Sporting CT 2017/18\nHo
 me Score: 2\nAway Score: 6
END:VEVENT
BEGIN:VEVENT
UID:16910343@ezleagues.ezfacility.com
DTSTAMP:20260424T044215Z
CREATED:20260424T044215Z
DTSTART:20260117T130000Z
DTEND:20260117T140000Z
LOCATION:Field 3 
CONTACT:Smith
SUMMARY:Sporting CT 2017/18 VS. Vale SC West 2017
DESCRIPTION:League Name: 2026 Winter 2 Girls 2017\nGame Type: Regular\nGame
  Status: Complete\nHome Team: Sporting CT 2017/18\nAway Team: Vale SC West
  2017\nHome Score: 0\nAway Score: 2
END:VEVENT
BEGIN:VEVENT
UID:16910344@ezleagues.ezfacility.com
DTSTAMP:20260424T044215Z
CREATED:20260424T044215Z
DTSTART:20260124T170000Z
DTEND:20260124T180000Z
LOCATION:Field 3 
CONTACT:Williams
SUMMARY:FSA FC 2017 Navy (JP) VS. Sporting CT 2017/18
DESCRIPTION:League Name: 2026 Winter 2 Girls 2017\nGame Type: Regular\nGame
  Status: Complete\nHome Team: FSA FC 2017 Navy (JP)\nAway Team: Sporting C
 T 2017/18\nHome Score: 6\nAway Score: 1
END:VEVENT
BEGIN:VEVENT
UID:16910349@ezleagues.ezfacility.com
DTSTAMP:20260424T044215Z
CREATED:20260424T044215Z
DTSTART:20260131T173000Z
DTEND:20260131T183000Z
LOCATION:Field 1
CONTACT:Shayler A
SUMMARY:Inter CT 2017 Girls VS. Sporting CT 2017/18
DESCRIPTION:League Name: 2026 Winter 2 Girls 2017\nGame Type: Regular\nGame
  Status: Complete\nHome Team: Inter CT 2017 Girls\nAway Team: Sporting CT 
 2017/18\nHome Score: 1\nAway Score: 1
END:VEVENT
BEGIN:VEVENT
UID:16910351@ezleagues.ezfacility.com
DTSTAMP:20260424T044215Z
CREATED:20260424T044215Z
DTSTART:20260207T180000Z
DTEND:20260207T190000Z
LOCATION:Field 4 
CONTACT:Orozco 
SUMMARY:Sporting CT 2017/18 VS. Vale SC 2017
DESCRIPTION:League Name: 2026 Winter 2 Girls 2017\nGame Type: Regular\nGame
  Status: Complete\nHome Team: Sporting CT 2017/18\nAway Team: Vale SC 2017
 \nHome Score: 0\nAway Score: 7
END:VEVENT
BEGIN:VEVENT
UID:16910354@ezleagues.ezfacility.com
DTSTAMP:20260424T044215Z
CREATED:20260424T044215Z
DTSTART:20260214T180000Z
DTEND:20260214T190000Z
LOCATION:Field 4 
CONTACT:Smith
SUMMARY:Sporting CT 2017/18 VS. Cheetahs
DESCRIPTION:League Name: 2026 Winter 2 Girls 2017\nGame Type: Regular\nGame
  Status: Complete\nHome Team: Sporting CT 2017/18\nAway Team: Cheetahs\nHo
 me Score: 2\nAway Score: 0
END:VEVENT
END:VCALENDAR
