BEGIN:VCALENDAR
VERSION:2.0
PRODID:-//EZFacility.com, Inc.//EZL 2.5.5.28621
BEGIN:VEVENT
UID:16952887@ezleagues.ezfacility.com
DTSTAMP:20260420T083554Z
CREATED:20260420T083554Z
DTSTART:20260104T150000Z
DTEND:20260104T160000Z
LOCATION:Full Field
CONTACT:
SUMMARY:Bloomfield VS. Troy Athens
DESCRIPTION:League Name: High School Girls Div B\nGame Type: Regular\nGame 
 Status: Complete\nHome Team: Bloomfield\nAway Team: Troy Athens\nHome Scor
 e: 2\nAway Score: 4
END:VEVENT
BEGIN:VEVENT
UID:16952890@ezleagues.ezfacility.com
DTSTAMP:20260420T083554Z
CREATED:20260420T083554Z
DTSTART:20260111T200000Z
DTEND:20260111T210000Z
LOCATION:Full Field
CONTACT:
SUMMARY:Lake Orion VS. Bloomfield
DESCRIPTION:League Name: High School Girls Div B\nGame Type: Regular\nGame 
 Status: Complete\nHome Team: Lake Orion\nAway Team: Bloomfield\nHome Score
 : 7\nAway Score: 1
END:VEVENT
BEGIN:VEVENT
UID:16952893@ezleagues.ezfacility.com
DTSTAMP:20260420T083554Z
CREATED:20260420T083554Z
DTSTART:20260118T210000Z
DTEND:20260118T220000Z
LOCATION:Full Field
CONTACT:
SUMMARY:Bloomfield VS. Bye Week
DESCRIPTION:League Name: High School Girls Div B\nGame Type: Regular\nGame 
 Status: Pending\nHome Team: Bloomfield\nAway Team: Bye Week\n
END:VEVENT
BEGIN:VEVENT
UID:16952899@ezleagues.ezfacility.com
DTSTAMP:20260420T083554Z
CREATED:20260420T083554Z
DTSTART:20260125T130000Z
DTEND:20260125T140000Z
LOCATION:Full Field
CONTACT:
SUMMARY:Bloomfield VS. Utica White
DESCRIPTION:League Name: High School Girls Div B\nGame Type: Regular\nGame 
 Status: Complete\nHome Team: Bloomfield\nAway Team: Utica White\nHome Scor
 e: 1\nAway Score: 1
END:VEVENT
BEGIN:VEVENT
UID:16952904@ezleagues.ezfacility.com
DTSTAMP:20260420T083554Z
CREATED:20260420T083554Z
DTSTART:20260201T200000Z
DTEND:20260201T210000Z
LOCATION:Full Field
CONTACT:
SUMMARY:Bloomfield VS. Utica Orange
DESCRIPTION:League Name: High School Girls Div B\nGame Type: Regular\nGame 
 Status: Complete\nHome Team: Bloomfield\nAway Team: Utica Orange\nHome Sco
 re: 4\nAway Score: 6
END:VEVENT
BEGIN:VEVENT
UID:16952908@ezleagues.ezfacility.com
DTSTAMP:20260420T083554Z
CREATED:20260420T083554Z
DTSTART:20260208T200000Z
DTEND:20260208T210000Z
LOCATION:Full Field
CONTACT:
SUMMARY:Stevenson Blue VS. Bloomfield
DESCRIPTION:League Name: High School Girls Div B\nGame Type: Regular\nGame 
 Status: Complete\nHome Team: Stevenson Blue\nAway Team: Bloomfield\nHome S
 core: 1\nAway Score: 7
END:VEVENT
BEGIN:VEVENT
UID:16952912@ezleagues.ezfacility.com
DTSTAMP:20260420T083554Z
CREATED:20260420T083554Z
DTSTART:20260215T150000Z
DTEND:20260215T160000Z
LOCATION:Full Field
CONTACT:
SUMMARY:Troy Silver VS. Bloomfield
DESCRIPTION:League Name: High School Girls Div B\nGame Type: Regular\nGame 
 Status: Complete\nHome Team: Troy Silver\nAway Team: Bloomfield\nHome Scor
 e: 0\nAway Score: 0
END:VEVENT
BEGIN:VEVENT
UID:16952915@ezleagues.ezfacility.com
DTSTAMP:20260420T083554Z
CREATED:20260420T083554Z
DTSTART:20260222T130000Z
DTEND:20260222T140000Z
LOCATION:Full Field
CONTACT:
SUMMARY:Troy Athens VS. Bloomfield
DESCRIPTION:League Name: High School Girls Div B\nGame Type: Regular\nGame 
 Status: Complete\nHome Team: Troy Athens\nAway Team: Bloomfield\nHome Scor
 e: 6\nAway Score: 7
END:VEVENT
BEGIN:VEVENT
UID:16952918@ezleagues.ezfacility.com
DTSTAMP:20260420T083554Z
CREATED:20260420T083554Z
DTSTART:20260301T130000Z
DTEND:20260301T140000Z
LOCATION:Full Field
CONTACT:
SUMMARY:Lake Orion VS. Bloomfield
DESCRIPTION:League Name: High School Girls Div B\nGame Type: Regular\nGame 
 Status: Complete\nHome Team: Lake Orion\nAway Team: Bloomfield\nHome Score
 : 8\nAway Score: 2
END:VEVENT
END:VCALENDAR
