BEGIN:VCALENDAR
VERSION:2.0
PRODID:-//EZFacility.com, Inc.//EZL 2.5.5.28621
BEGIN:VEVENT
UID:16899272@ezleagues.ezfacility.com
DTSTAMP:20260421T045259Z
CREATED:20260421T045259Z
DTSTART:20210108T010000Z
DTEND:20210108T020000Z
LOCATION:Field 2
CONTACT:
SUMMARY:Rams VS. Los Bichos
DESCRIPTION:League Name: WS Futbol Sala Wednesday Open Men's League Winter 
 2025-26\nGame Type: Regular\nGame Status: Complete\nHome Team: Rams\nAway 
 Team: Los Bichos\nHome Score: 10\nAway Score: 0
END:VEVENT
BEGIN:VEVENT
UID:16899338@ezleagues.ezfacility.com
DTSTAMP:20260421T045259Z
CREATED:20260421T045259Z
DTSTART:20210326T003000Z
DTEND:20210326T013000Z
LOCATION:Field 3
CONTACT:
SUMMARY:Los Bichos VS. Rams
DESCRIPTION:League Name: WS Futbol Sala Wednesday Open Men's League Winter 
 2025-26\nGame Type: Regular\nGame Status: Complete\nHome Team: Los Bichos\
 nAway Team: Rams\nHome Score: 0\nAway Score: 10
END:VEVENT
BEGIN:VEVENT
UID:16899253@ezleagues.ezfacility.com
DTSTAMP:20260421T045259Z
CREATED:20260421T045259Z
DTSTART:20251218T013000Z
DTEND:20251218T023000Z
LOCATION:Field 3
CONTACT:
SUMMARY:Los Bichos VS. WS FC
DESCRIPTION:League Name: WS Futbol Sala Wednesday Open Men's League Winter 
 2025-26\nGame Type: Regular\nGame Status: Complete\nHome Team: Los Bichos\
 nAway Team: WS FC\nHome Score: 15\nAway Score: 8
END:VEVENT
BEGIN:VEVENT
UID:16899279@ezleagues.ezfacility.com
DTSTAMP:20260421T045259Z
CREATED:20260421T045259Z
DTSTART:20260115T023000Z
DTEND:20260115T033000Z
LOCATION:Field 3
CONTACT:
SUMMARY:Inter Miami VS. Los Bichos
DESCRIPTION:League Name: WS Futbol Sala Wednesday Open Men's League Winter 
 2025-26\nGame Type: Regular\nGame Status: Complete\nHome Team: Inter Miami
 \nAway Team: Los Bichos\nHome Score: 8\nAway Score: 13
END:VEVENT
BEGIN:VEVENT
UID:16899286@ezleagues.ezfacility.com
DTSTAMP:20260421T045259Z
CREATED:20260421T045259Z
DTSTART:20260122T023000Z
DTEND:20260122T033000Z
LOCATION:Field 3
CONTACT:
SUMMARY:Alto Riesgo VS. Los Bichos
DESCRIPTION:League Name: WS Futbol Sala Wednesday Open Men's League Winter 
 2025-26\nGame Type: Regular\nGame Status: Complete\nHome Team: Alto Riesgo
 \nAway Team: Los Bichos\nHome Score: 2\nAway Score: 15
END:VEVENT
BEGIN:VEVENT
UID:16899299@ezleagues.ezfacility.com
DTSTAMP:20260421T045259Z
CREATED:20260421T045259Z
DTSTART:20260205T010000Z
DTEND:20260205T020000Z
LOCATION:Field 1
CONTACT:
SUMMARY:Los Bichos VS. Project FC
DESCRIPTION:League Name: WS Futbol Sala Wednesday Open Men's League Winter 
 2025-26\nGame Type: Regular\nGame Status: Complete\nHome Team: Los Bichos\
 nAway Team: Project FC\nHome Score: 17\nAway Score: 5
END:VEVENT
BEGIN:VEVENT
UID:16899248@ezleagues.ezfacility.com
DTSTAMP:20260421T045259Z
CREATED:20260421T045259Z
DTSTART:20260205T020000Z
DTEND:20260205T030000Z
LOCATION:Field 2
CONTACT:
SUMMARY:Los Bichos VS. Arsenal
DESCRIPTION:League Name: WS Futbol Sala Wednesday Open Men's League Winter 
 2025-26\nGame Type: Regular\nGame Status: Complete\nHome Team: Los Bichos\
 nAway Team: Arsenal\nHome Score: 11\nAway Score: 12
END:VEVENT
BEGIN:VEVENT
UID:16899304@ezleagues.ezfacility.com
DTSTAMP:20260421T045259Z
CREATED:20260421T045259Z
DTSTART:20260212T023000Z
DTEND:20260212T033000Z
LOCATION:Field 3
CONTACT:
SUMMARY:Los Bichos VS. Tigres FC
DESCRIPTION:League Name: WS Futbol Sala Wednesday Open Men's League Winter 
 2025-26\nGame Type: Regular\nGame Status: Complete\nHome Team: Los Bichos\
 nAway Team: Tigres FC\nHome Score: 12\nAway Score: 7
END:VEVENT
BEGIN:VEVENT
UID:16899309@ezleagues.ezfacility.com
DTSTAMP:20260421T045259Z
CREATED:20260421T045259Z
DTSTART:20260219T020000Z
DTEND:20260219T030000Z
LOCATION:Field 2
CONTACT:
SUMMARY:Los Bichos VS. Primos FC
DESCRIPTION:League Name: WS Futbol Sala Wednesday Open Men's League Winter 
 2025-26\nGame Type: Regular\nGame Status: Complete\nHome Team: Los Bichos\
 nAway Team: Primos FC\nHome Score: 4\nAway Score: 7
END:VEVENT
BEGIN:VEVENT
UID:16899314@ezleagues.ezfacility.com
DTSTAMP:20260421T045259Z
CREATED:20260421T045259Z
DTSTART:20260226T023000Z
DTEND:20260226T033000Z
LOCATION:Field 3
CONTACT:
SUMMARY:Arsenal VS. Los Bichos
DESCRIPTION:League Name: WS Futbol Sala Wednesday Open Men's League Winter 
 2025-26\nGame Type: Regular\nGame Status: Complete\nHome Team: Arsenal\nAw
 ay Team: Los Bichos\nHome Score: 7\nAway Score: 14
END:VEVENT
BEGIN:VEVENT
UID:16899319@ezleagues.ezfacility.com
DTSTAMP:20260421T045259Z
CREATED:20260421T045259Z
DTSTART:20260305T020000Z
DTEND:20260305T030000Z
LOCATION:Field 2
CONTACT:
SUMMARY:WS FC VS. Los Bichos
DESCRIPTION:League Name: WS Futbol Sala Wednesday Open Men's League Winter 
 2025-26\nGame Type: Regular\nGame Status: Complete\nHome Team: WS FC\nAway
  Team: Los Bichos\nHome Score: 5\nAway Score: 6
END:VEVENT
BEGIN:VEVENT
UID:16899324@ezleagues.ezfacility.com
DTSTAMP:20260421T045259Z
CREATED:20260421T045259Z
DTSTART:20260312T000000Z
DTEND:20260312T010000Z
LOCATION:Field 3
CONTACT:
SUMMARY:Los Bichos VS. Aguilas United
DESCRIPTION:League Name: WS Futbol Sala Wednesday Open Men's League Winter 
 2025-26\nGame Type: Regular\nGame Status: Complete\nHome Team: Los Bichos\
 nAway Team: Aguilas United\nHome Score: 6\nAway Score: 11
END:VEVENT
BEGIN:VEVENT
UID:16899331@ezleagues.ezfacility.com
DTSTAMP:20260421T045259Z
CREATED:20260421T045259Z
DTSTART:20260319T013000Z
DTEND:20260319T023000Z
LOCATION:Field 3
CONTACT:
SUMMARY:Los Bichos VS. Bayern Munich
DESCRIPTION:League Name: WS Futbol Sala Wednesday Open Men's League Winter 
 2025-26\nGame Type: Regular\nGame Status: Complete\nHome Team: Los Bichos\
 nAway Team: Bayern Munich\nHome Score: 10\nAway Score: 9
END:VEVENT
BEGIN:VEVENT
UID:16899375@ezleagues.ezfacility.com
DTSTAMP:20260421T045259Z
CREATED:20260421T045259Z
DTSTART:20260409T003000Z
DTEND:20260409T013000Z
LOCATION:Field 2
CONTACT:
SUMMARY:Primos FC VS. Los Bichos
DESCRIPTION:League Name: WS Futbol Sala Wednesday Open Men's League Winter 
 2025-26\nGame Type: Regular\nGame Status: Complete\nHome Team: Primos FC\n
 Away Team: Los Bichos\nHome Score: 10\nAway Score: 10
END:VEVENT
BEGIN:VEVENT
UID:16899359@ezleagues.ezfacility.com
DTSTAMP:20260421T045259Z
CREATED:20260421T045259Z
DTSTART:20260416T010000Z
DTEND:20260416T020000Z
LOCATION:Field 2
CONTACT:
SUMMARY:Los Bichos VS. Herencia FC
DESCRIPTION:League Name: WS Futbol Sala Wednesday Open Men's League Winter 
 2025-26\nGame Type: Regular\nGame Status: Pending\nHome Team: Los Bichos\n
 Away Team: Herencia FC\n
END:VEVENT
BEGIN:VEVENT
UID:16899365@ezleagues.ezfacility.com
DTSTAMP:20260421T045259Z
CREATED:20260421T045259Z
DTSTART:20260423T010000Z
DTEND:20260423T020000Z
LOCATION:Field 1
CONTACT:
SUMMARY:Project FC VS. Los Bichos
DESCRIPTION:League Name: WS Futbol Sala Wednesday Open Men's League Winter 
 2025-26\nGame Type: Regular\nGame Status: Pending\nHome Team: Project FC\n
 Away Team: Los Bichos\n
END:VEVENT
BEGIN:VEVENT
UID:16899370@ezleagues.ezfacility.com
DTSTAMP:20260421T045259Z
CREATED:20260421T045259Z
DTSTART:20260430T010000Z
DTEND:20260430T020000Z
LOCATION:Field 1
CONTACT:
SUMMARY:Tigres FC VS. Los Bichos
DESCRIPTION:League Name: WS Futbol Sala Wednesday Open Men's League Winter 
 2025-26\nGame Type: Regular\nGame Status: Pending\nHome Team: Tigres FC\nA
 way Team: Los Bichos\n
END:VEVENT
BEGIN:VEVENT
UID:16899258@ezleagues.ezfacility.com
DTSTAMP:20260421T045259Z
CREATED:20260421T045259Z
DTSTART:20260514T010000Z
DTEND:20260514T020000Z
LOCATION:Field 1
CONTACT:
SUMMARY:Aguilas United VS. Los Bichos
DESCRIPTION:League Name: WS Futbol Sala Wednesday Open Men's League Winter 
 2025-26\nGame Type: Regular\nGame Status: Pending\nHome Team: Aguilas Unit
 ed\nAway Team: Los Bichos\n
END:VEVENT
BEGIN:VEVENT
UID:16899265@ezleagues.ezfacility.com
DTSTAMP:20260421T045259Z
CREATED:20260421T045259Z
DTSTART:20260521T000000Z
DTEND:20260521T010000Z
LOCATION:Field 1
CONTACT:
SUMMARY:Bayern Munich VS. Los Bichos
DESCRIPTION:League Name: WS Futbol Sala Wednesday Open Men's League Winter 
 2025-26\nGame Type: Regular\nGame Status: Pending\nHome Team: Bayern Munic
 h\nAway Team: Los Bichos\n
END:VEVENT
BEGIN:VEVENT
UID:16899293@ezleagues.ezfacility.com
DTSTAMP:20260421T045259Z
CREATED:20260421T045259Z
DTSTART:20260528T010000Z
DTEND:20260528T020000Z
LOCATION:Field 1
CONTACT:
SUMMARY:Herencia FC VS. Los Bichos
DESCRIPTION:League Name: WS Futbol Sala Wednesday Open Men's League Winter 
 2025-26\nGame Type: Regular\nGame Status: Pending\nHome Team: Herencia FC\
 nAway Team: Los Bichos\n
END:VEVENT
BEGIN:VEVENT
UID:16899345@ezleagues.ezfacility.com
DTSTAMP:20260421T045259Z
CREATED:20260421T045259Z
DTSTART:20260604T010000Z
DTEND:20260604T020000Z
LOCATION:Field 2
CONTACT:
SUMMARY:Los Bichos VS. Inter Miami
DESCRIPTION:League Name: WS Futbol Sala Wednesday Open Men's League Winter 
 2025-26\nGame Type: Regular\nGame Status: Pending\nHome Team: Los Bichos\n
 Away Team: Inter Miami\n
END:VEVENT
BEGIN:VEVENT
UID:16899352@ezleagues.ezfacility.com
DTSTAMP:20260421T045259Z
CREATED:20260421T045259Z
DTSTART:20260611T003000Z
DTEND:20260611T013000Z
LOCATION:Field 3
CONTACT:
SUMMARY:Los Bichos VS. Alto Riesgo
DESCRIPTION:League Name: WS Futbol Sala Wednesday Open Men's League Winter 
 2025-26\nGame Type: Regular\nGame Status: Pending\nHome Team: Los Bichos\n
 Away Team: Alto Riesgo\n
END:VEVENT
END:VCALENDAR
