BEGIN:VCALENDAR
VERSION:2.0
PRODID:-//EZFacility.com, Inc.//EZL 2.5.5.28621
BEGIN:VEVENT
UID:16951724@ezleagues.ezfacility.com
DTSTAMP:20260426T033840Z
CREATED:20260426T033840Z
DTSTART:20260103T200000Z
DTEND:20260103T204000Z
LOCATION:Game Field
CONTACT:Hernandez
SUMMARY:ForReal Madrid VS. Atletico Boys
DESCRIPTION:League Name: 10 under boys\nGame Type: Regular\nGame Status: Co
 mplete\nHome Team: ForReal Madrid\nAway Team: Atletico Boys\nHome Score: 9
 \nAway Score: 3
END:VEVENT
BEGIN:VEVENT
UID:16951730@ezleagues.ezfacility.com
DTSTAMP:20260426T033840Z
CREATED:20260426T033840Z
DTSTART:20260110T204000Z
DTEND:20260110T212000Z
LOCATION:Game Field
CONTACT:Hernandez
SUMMARY:Atletico Boys VS. Los inmortales
DESCRIPTION:League Name: 10 under boys\nGame Type: Regular\nGame Status: Co
 mplete\nHome Team: Atletico Boys\nAway Team: Los inmortales\nHome Score: 0
 \nAway Score: 12
END:VEVENT
BEGIN:VEVENT
UID:16951735@ezleagues.ezfacility.com
DTSTAMP:20260426T033840Z
CREATED:20260426T033840Z
DTSTART:20260117T212000Z
DTEND:20260117T220000Z
LOCATION:Game Field
CONTACT:Hernandez
SUMMARY:Natomas Kryptonites VS. Atletico Boys
DESCRIPTION:League Name: 10 under boys\nGame Type: Regular\nGame Status: Co
 mplete\nHome Team: Natomas Kryptonites\nAway Team: Atletico Boys\nHome Sco
 re: 0\nAway Score: 5
END:VEVENT
BEGIN:VEVENT
UID:16951739@ezleagues.ezfacility.com
DTSTAMP:20260426T033840Z
CREATED:20260426T033840Z
DTSTART:20260124T192000Z
DTEND:20260124T200000Z
LOCATION:Game Field
CONTACT:Le
SUMMARY:Manchester United VS. Atletico Boys
DESCRIPTION:League Name: 10 under boys\nGame Type: Regular\nGame Status: Co
 mplete\nHome Team: Manchester United\nAway Team: Atletico Boys\nHome Score
 : 9\nAway Score: 2
END:VEVENT
BEGIN:VEVENT
UID:16951743@ezleagues.ezfacility.com
DTSTAMP:20260426T033840Z
CREATED:20260426T033840Z
DTSTART:20260131T212000Z
DTEND:20260131T220000Z
LOCATION:Game Field
CONTACT:Hernandez
SUMMARY:Toritos Neza VS. Atletico Boys
DESCRIPTION:League Name: 10 under boys\nGame Type: Regular\nGame Status: Co
 mplete\nHome Team: Toritos Neza\nAway Team: Atletico Boys\nHome Score: 6\n
 Away Score: 1
END:VEVENT
BEGIN:VEVENT
UID:16951747@ezleagues.ezfacility.com
DTSTAMP:20260426T033840Z
CREATED:20260426T033840Z
DTSTART:20260207T184000Z
DTEND:20260207T192000Z
LOCATION:Game Field
CONTACT:Aguilar
SUMMARY:Hawks VS. Atletico Boys
DESCRIPTION:League Name: 10 under boys\nGame Type: Regular\nGame Status: Co
 mplete\nHome Team: Hawks\nAway Team: Atletico Boys\nHome Score: 1\nAway Sc
 ore: 14
END:VEVENT
BEGIN:VEVENT
UID:16951753@ezleagues.ezfacility.com
DTSTAMP:20260426T033840Z
CREATED:20260426T033840Z
DTSTART:20260214T212000Z
DTEND:20260214T220000Z
LOCATION:Game Field
CONTACT:Aguilar
SUMMARY:Brawlers VS. Atletico Boys
DESCRIPTION:League Name: 10 under boys\nGame Type: Regular\nGame Status: Co
 mplete\nHome Team: Brawlers\nAway Team: Atletico Boys\nHome Score: 7\nAway
  Score: 4
END:VEVENT
BEGIN:VEVENT
UID:16951759@ezleagues.ezfacility.com
DTSTAMP:20260426T033840Z
CREATED:20260426T033840Z
DTSTART:20260221T200000Z
DTEND:20260221T204000Z
LOCATION:Game Field
CONTACT:Le
SUMMARY:Toritos Neza VS. Atletico Boys
DESCRIPTION:League Name: 10 under boys\nGame Type: Regular\nGame Status: Co
 mplete\nHome Team: Toritos Neza\nAway Team: Atletico Boys\nHome Score: 14\
 nAway Score: 1
END:VEVENT
END:VCALENDAR
