BEGIN:VCALENDAR
VERSION:2.0
PRODID:-//EZFacility.com, Inc.//EZL 2.5.5.28621
BEGIN:VEVENT
UID:16899658@ezleagues.ezfacility.com
DTSTAMP:20260426T033537Z
CREATED:20260426T033537Z
DTSTART:20260106T033000Z
DTEND:20260106T044500Z
LOCATION:Rink B
CONTACT:
SUMMARY:Twisted Teaze VS. Legion SS
DESCRIPTION:League Name: IVAHL SS-WS26\nGame Type: Regular\nGame Status: Pe
 nding\nHome Team: Twisted Teaze\nAway Team: Legion SS\n
END:VEVENT
BEGIN:VEVENT
UID:16899661@ezleagues.ezfacility.com
DTSTAMP:20260426T033537Z
CREATED:20260426T033537Z
DTSTART:20260115T052500Z
DTEND:20260115T064000Z
LOCATION:Rink A
CONTACT:
SUMMARY:Twisted Teaze VS. Hitmen SS
DESCRIPTION:League Name: IVAHL SS-WS26\nGame Type: Regular\nGame Status: Pe
 nding\nHome Team: Twisted Teaze\nAway Team: Hitmen SS\n
END:VEVENT
BEGIN:VEVENT
UID:16899667@ezleagues.ezfacility.com
DTSTAMP:20260426T033537Z
CREATED:20260426T033537Z
DTSTART:20260129T052500Z
DTEND:20260129T064000Z
LOCATION:Rink A
CONTACT:
SUMMARY:Twisted Teaze VS. Dirty Danglers
DESCRIPTION:League Name: IVAHL SS-WS26\nGame Type: Regular\nGame Status: Pe
 nding\nHome Team: Twisted Teaze\nAway Team: Dirty Danglers\n
END:VEVENT
BEGIN:VEVENT
UID:16899670@ezleagues.ezfacility.com
DTSTAMP:20260426T033537Z
CREATED:20260426T033537Z
DTSTART:20260205T052500Z
DTEND:20260205T064000Z
LOCATION:Rink A
CONTACT:
SUMMARY:Twisted Teaze VS. Beer Money SS
DESCRIPTION:League Name: IVAHL SS-WS26\nGame Type: Regular\nGame Status: Pe
 nding\nHome Team: Twisted Teaze\nAway Team: Beer Money SS\n
END:VEVENT
BEGIN:VEVENT
UID:16899673@ezleagues.ezfacility.com
DTSTAMP:20260426T033537Z
CREATED:20260426T033537Z
DTSTART:20260212T052500Z
DTEND:20260212T064000Z
LOCATION:Rink A
CONTACT:
SUMMARY:Twisted Teaze VS. Legion SS
DESCRIPTION:League Name: IVAHL SS-WS26\nGame Type: Regular\nGame Status: Pe
 nding\nHome Team: Twisted Teaze\nAway Team: Legion SS\n
END:VEVENT
BEGIN:VEVENT
UID:16899676@ezleagues.ezfacility.com
DTSTAMP:20260426T033537Z
CREATED:20260426T033537Z
DTSTART:20260219T052500Z
DTEND:20260219T064000Z
LOCATION:Rink A
CONTACT:
SUMMARY:Twisted Teaze VS. Hitmen SS
DESCRIPTION:League Name: IVAHL SS-WS26\nGame Type: Regular\nGame Status: Pe
 nding\nHome Team: Twisted Teaze\nAway Team: Hitmen SS\n
END:VEVENT
BEGIN:VEVENT
UID:16899679@ezleagues.ezfacility.com
DTSTAMP:20260426T033537Z
CREATED:20260426T033537Z
DTSTART:20260226T052500Z
DTEND:20260226T064000Z
LOCATION:Rink A
CONTACT:
SUMMARY:Twisted Teaze VS. Mandolorian Mercs SS
DESCRIPTION:League Name: IVAHL SS-WS26\nGame Type: Regular\nGame Status: Pe
 nding\nHome Team: Twisted Teaze\nAway Team: Mandolorian Mercs SS\n
END:VEVENT
BEGIN:VEVENT
UID:16899682@ezleagues.ezfacility.com
DTSTAMP:20260426T033537Z
CREATED:20260426T033537Z
DTSTART:20260303T045500Z
DTEND:20260303T061000Z
LOCATION:Rink B
CONTACT:
SUMMARY:Twisted Teaze VS. Dirty Danglers
DESCRIPTION:League Name: IVAHL SS-WS26\nGame Type: Regular\nGame Status: Pe
 nding\nHome Team: Twisted Teaze\nAway Team: Dirty Danglers\n
END:VEVENT
BEGIN:VEVENT
UID:16899685@ezleagues.ezfacility.com
DTSTAMP:20260426T033537Z
CREATED:20260426T033537Z
DTSTART:20260310T035500Z
DTEND:20260310T051000Z
LOCATION:Rink B
CONTACT:
SUMMARY:Twisted Teaze VS. Beer Money SS
DESCRIPTION:League Name: IVAHL SS-WS26\nGame Type: Regular\nGame Status: Pe
 nding\nHome Team: Twisted Teaze\nAway Team: Beer Money SS\n
END:VEVENT
BEGIN:VEVENT
UID:16899688@ezleagues.ezfacility.com
DTSTAMP:20260426T033537Z
CREATED:20260426T033537Z
DTSTART:20260317T035500Z
DTEND:20260317T051000Z
LOCATION:Rink B
CONTACT:
SUMMARY:Legion SS VS. Twisted Teaze
DESCRIPTION:League Name: IVAHL SS-WS26\nGame Type: Regular\nGame Status: Pe
 nding\nHome Team: Legion SS\nAway Team: Twisted Teaze\n
END:VEVENT
BEGIN:VEVENT
UID:16899691@ezleagues.ezfacility.com
DTSTAMP:20260426T033537Z
CREATED:20260426T033537Z
DTSTART:20260326T042500Z
DTEND:20260326T054000Z
LOCATION:Rink A
CONTACT:
SUMMARY:Hitmen SS VS. Twisted Teaze
DESCRIPTION:League Name: IVAHL SS-WS26\nGame Type: Regular\nGame Status: Pe
 nding\nHome Team: Hitmen SS\nAway Team: Twisted Teaze\n
END:VEVENT
BEGIN:VEVENT
UID:16899694@ezleagues.ezfacility.com
DTSTAMP:20260426T033537Z
CREATED:20260426T033537Z
DTSTART:20260402T042500Z
DTEND:20260402T054000Z
LOCATION:Rink A
CONTACT:
SUMMARY:Mandolorian Mercs SS VS. Twisted Teaze
DESCRIPTION:League Name: IVAHL SS-WS26\nGame Type: Regular\nGame Status: Pe
 nding\nHome Team: Mandolorian Mercs SS\nAway Team: Twisted Teaze\n
END:VEVENT
BEGIN:VEVENT
UID:16899697@ezleagues.ezfacility.com
DTSTAMP:20260426T033537Z
CREATED:20260426T033537Z
DTSTART:20260409T042500Z
DTEND:20260409T054000Z
LOCATION:Rink A
CONTACT:
SUMMARY:Dirty Danglers VS. Twisted Teaze
DESCRIPTION:League Name: IVAHL SS-WS26\nGame Type: Regular\nGame Status: Pe
 nding\nHome Team: Dirty Danglers\nAway Team: Twisted Teaze\n
END:VEVENT
BEGIN:VEVENT
UID:16899700@ezleagues.ezfacility.com
DTSTAMP:20260426T033537Z
CREATED:20260426T033537Z
DTSTART:20260414T023000Z
DTEND:20260414T034500Z
LOCATION:Rink B
CONTACT:
SUMMARY:Beer Money SS VS. Twisted Teaze
DESCRIPTION:League Name: IVAHL SS-WS26\nGame Type: Regular\nGame Status: Pe
 nding\nHome Team: Beer Money SS\nAway Team: Twisted Teaze\n
END:VEVENT
BEGIN:VEVENT
UID:16899703@ezleagues.ezfacility.com
DTSTAMP:20260426T033537Z
CREATED:20260426T033537Z
DTSTART:20260423T042500Z
DTEND:20260423T054000Z
LOCATION:Rink A
CONTACT:
SUMMARY:Legion SS VS. Twisted Teaze
DESCRIPTION:League Name: IVAHL SS-WS26\nGame Type: Regular\nGame Status: Pe
 nding\nHome Team: Legion SS\nAway Team: Twisted Teaze\n
END:VEVENT
BEGIN:VEVENT
UID:16899706@ezleagues.ezfacility.com
DTSTAMP:20260426T033537Z
CREATED:20260426T033537Z
DTSTART:20260430T042500Z
DTEND:20260430T054000Z
LOCATION:Rink A
CONTACT:
SUMMARY:Hitmen SS VS. Twisted Teaze
DESCRIPTION:League Name: IVAHL SS-WS26\nGame Type: Regular\nGame Status: Pe
 nding\nHome Team: Hitmen SS\nAway Team: Twisted Teaze\n
END:VEVENT
BEGIN:VEVENT
UID:16899709@ezleagues.ezfacility.com
DTSTAMP:20260426T033537Z
CREATED:20260426T033537Z
DTSTART:20260507T042500Z
DTEND:20260507T054000Z
LOCATION:Rink A
CONTACT:
SUMMARY:Mandolorian Mercs SS VS. Twisted Teaze
DESCRIPTION:League Name: IVAHL SS-WS26\nGame Type: Regular\nGame Status: Pe
 nding\nHome Team: Mandolorian Mercs SS\nAway Team: Twisted Teaze\n
END:VEVENT
BEGIN:VEVENT
UID:16899712@ezleagues.ezfacility.com
DTSTAMP:20260426T033537Z
CREATED:20260426T033537Z
DTSTART:20260512T023000Z
DTEND:20260512T034500Z
LOCATION:Rink B
CONTACT:
SUMMARY:Dirty Danglers VS. Twisted Teaze
DESCRIPTION:League Name: IVAHL SS-WS26\nGame Type: Regular\nGame Status: Pe
 nding\nHome Team: Dirty Danglers\nAway Team: Twisted Teaze\n
END:VEVENT
BEGIN:VEVENT
UID:16899715@ezleagues.ezfacility.com
DTSTAMP:20260426T033537Z
CREATED:20260426T033537Z
DTSTART:20260521T042500Z
DTEND:20260521T054000Z
LOCATION:Rink A
CONTACT:
SUMMARY:Beer Money SS VS. Twisted Teaze
DESCRIPTION:League Name: IVAHL SS-WS26\nGame Type: Regular\nGame Status: Pe
 nding\nHome Team: Beer Money SS\nAway Team: Twisted Teaze\n
END:VEVENT
BEGIN:VEVENT
UID:16899664@ezleagues.ezfacility.com
DTSTAMP:20260426T033537Z
CREATED:20260426T033537Z
DTSTART:20260528T042500Z
DTEND:20260528T054000Z
LOCATION:Rink A
CONTACT:
SUMMARY:Twisted Teaze VS. Mandolorian Mercs SS
DESCRIPTION:League Name: IVAHL SS-WS26\nGame Type: Regular\nGame Status: Pe
 nding\nHome Team: Twisted Teaze\nAway Team: Mandolorian Mercs SS\n
END:VEVENT
BEGIN:VEVENT
UID:17066014@ezleagues.ezfacility.com
DTSTAMP:20260426T033537Z
CREATED:20260426T033537Z
DTSTART:20260620T163000Z
DTEND:20260620T174500Z
LOCATION:Rink A
CONTACT:
SUMMARY:Twisted Teaze VS. Beer Money SS
DESCRIPTION:League Name: IVAHL SS-WS26\nGame Type: Regular\nGame Status: Pe
 nding\nHome Team: Twisted Teaze\nAway Team: Beer Money SS\n
END:VEVENT
BEGIN:VEVENT
UID:17066015@ezleagues.ezfacility.com
DTSTAMP:20260426T033537Z
CREATED:20260426T033537Z
DTSTART:20260621T010000Z
DTEND:20260621T021500Z
LOCATION:Rink A
CONTACT:
SUMMARY:Twisted Teaze VS. Beer Money SS
DESCRIPTION:League Name: IVAHL SS-WS26\nGame Type: Regular\nGame Status: Pe
 nding\nHome Team: Twisted Teaze\nAway Team: Beer Money SS\n
END:VEVENT
BEGIN:VEVENT
UID:17066016@ezleagues.ezfacility.com
DTSTAMP:20260426T033537Z
CREATED:20260426T033537Z
DTSTART:20260621T184000Z
DTEND:20260621T195500Z
LOCATION:Rink B
CONTACT:
SUMMARY:Twisted Teaze VS. Hitmen SS
DESCRIPTION:League Name: IVAHL SS-WS26\nGame Type: Regular\nGame Status: Pe
 nding\nHome Team: Twisted Teaze\nAway Team: Hitmen SS\n
END:VEVENT
BEGIN:VEVENT
UID:17066017@ezleagues.ezfacility.com
DTSTAMP:20260426T033537Z
CREATED:20260426T033537Z
DTSTART:20260627T163000Z
DTEND:20260627T174500Z
LOCATION:Rink A
CONTACT:
SUMMARY:Twisted Teaze VS. Dirty Danglers
DESCRIPTION:League Name: IVAHL SS-WS26\nGame Type: Regular\nGame Status: Pe
 nding\nHome Team: Twisted Teaze\nAway Team: Dirty Danglers\n
END:VEVENT
BEGIN:VEVENT
UID:17066018@ezleagues.ezfacility.com
DTSTAMP:20260426T033537Z
CREATED:20260426T033537Z
DTSTART:20260629T004000Z
DTEND:20260629T015500Z
LOCATION:Rink A
CONTACT:
SUMMARY:Twisted Teaze VS. Mandolorian Mercs SS
DESCRIPTION:League Name: IVAHL SS-WS26\nGame Type: Regular\nGame Status: Pe
 nding\nHome Team: Twisted Teaze\nAway Team: Mandolorian Mercs SS\n
END:VEVENT
END:VCALENDAR
