BEGIN:VCALENDAR
VERSION:2.0
PRODID:-//EZFacility.com, Inc.//EZL 2.5.5.28621
BEGIN:VEVENT
UID:16986045@ezleagues.ezfacility.com
DTSTAMP:20260424T153417Z
CREATED:20260424T153417Z
DTSTART:20260205T070000Z
DTEND:20260205T081500Z
LOCATION:Mountain View Ice Arena
CONTACT:Broetje\, Hoffmann\, Murphy (scorekeeper)
SUMMARY:Re-Habs VS. Foreign Agents
DESCRIPTION:League Name: Spring Adult League 2026 - A League\nGame Type: Re
 gular\nGame Status: Complete\nHome Team: Re-Habs\nAway Team: Foreign Agent
 s\nHome Score: 1\nAway Score: 5
END:VEVENT
BEGIN:VEVENT
UID:16986048@ezleagues.ezfacility.com
DTSTAMP:20260424T153417Z
CREATED:20260424T153417Z
DTSTART:20260212T040000Z
DTEND:20260212T051500Z
LOCATION:Mountain View Ice Arena
CONTACT:Broetje\, Hoffmann\, Murphy (scorekeeper)
SUMMARY:Foreign Agents VS. Double Mountain 
DESCRIPTION:League Name: Spring Adult League 2026 - A League\nGame Type: Re
 gular\nGame Status: Complete\nHome Team: Foreign Agents\nAway Team: Double
  Mountain \nHome Score: 7\nAway Score: 6
END:VEVENT
BEGIN:VEVENT
UID:16986050@ezleagues.ezfacility.com
DTSTAMP:20260424T153417Z
CREATED:20260424T153417Z
DTSTART:20260219T053000Z
DTEND:20260219T064500Z
LOCATION:Mountain View Ice Arena
CONTACT:Hoffmann\, Murphy (scorekeeper)\, Pfister
SUMMARY:Foreign Agents VS. Knights
DESCRIPTION:League Name: Spring Adult League 2026 - A League\nGame Type: Re
 gular\nGame Status: Complete\nHome Team: Foreign Agents\nAway Team: Knight
 s\nHome Score: 3\nAway Score: 5
END:VEVENT
BEGIN:VEVENT
UID:16986052@ezleagues.ezfacility.com
DTSTAMP:20260424T153417Z
CREATED:20260424T153417Z
DTSTART:20260226T053000Z
DTEND:20260226T064500Z
LOCATION:Mountain View Ice Arena
CONTACT:Broetje\, Hoffmann\, Murphy (scorekeeper)
SUMMARY:Bottom Feeders VS. Foreign Agents
DESCRIPTION:League Name: Spring Adult League 2026 - A League\nGame Type: Re
 gular\nGame Status: Complete\nHome Team: Bottom Feeders\nAway Team: Foreig
 n Agents\nHome Score: 11\nAway Score: 7
END:VEVENT
BEGIN:VEVENT
UID:16986056@ezleagues.ezfacility.com
DTSTAMP:20260424T153417Z
CREATED:20260424T153417Z
DTSTART:20260305T040000Z
DTEND:20260305T051500Z
LOCATION:Mountain View Ice Arena
CONTACT:Hoffmann\, Murphy (scorekeeper)\, Pfister
SUMMARY:Finnish Mafia VS. Foreign Agents
DESCRIPTION:League Name: Spring Adult League 2026 - A League\nGame Type: Re
 gular\nGame Status: Complete\nHome Team: Finnish Mafia\nAway Team: Foreign
  Agents\nHome Score: 9\nAway Score: 6
END:VEVENT
BEGIN:VEVENT
UID:16986060@ezleagues.ezfacility.com
DTSTAMP:20260424T153417Z
CREATED:20260424T153417Z
DTSTART:20260312T053000Z
DTEND:20260312T064500Z
LOCATION:Mountain View Ice Arena
CONTACT:Broetje\, Clay (scorekeeper)\, Hoffmann
SUMMARY:Foreign Agents VS. Re-Habs
DESCRIPTION:League Name: Spring Adult League 2026 - A League\nGame Type: Re
 gular\nGame Status: Complete\nHome Team: Foreign Agents\nAway Team: Re-Hab
 s\nHome Score: 3\nAway Score: 5
END:VEVENT
BEGIN:VEVENT
UID:16986063@ezleagues.ezfacility.com
DTSTAMP:20260424T153417Z
CREATED:20260424T153417Z
DTSTART:20260319T053000Z
DTEND:20260319T064500Z
LOCATION:Mountain View Ice Arena
CONTACT:Clay (scorekeeper)\, Hoffmann\, Pfister
SUMMARY:Double Mountain  VS. Foreign Agents
DESCRIPTION:League Name: Spring Adult League 2026 - A League\nGame Type: Re
 gular\nGame Status: Complete\nHome Team: Double Mountain \nAway Team: Fore
 ign Agents\nHome Score: 5\nAway Score: 7
END:VEVENT
BEGIN:VEVENT
UID:16986065@ezleagues.ezfacility.com
DTSTAMP:20260424T153417Z
CREATED:20260424T153417Z
DTSTART:20260326T023000Z
DTEND:20260326T034500Z
LOCATION:Mountain View Ice Arena
CONTACT:Broetje\, Hoffmann\, Murphy (scorekeeper)
SUMMARY:Knights VS. Foreign Agents
DESCRIPTION:League Name: Spring Adult League 2026 - A League\nGame Type: Re
 gular\nGame Status: Complete\nHome Team: Knights\nAway Team: Foreign Agent
 s\nHome Score: 14\nAway Score: 3
END:VEVENT
BEGIN:VEVENT
UID:16986067@ezleagues.ezfacility.com
DTSTAMP:20260424T153417Z
CREATED:20260424T153417Z
DTSTART:20260402T040000Z
DTEND:20260402T051500Z
LOCATION:Mountain View Ice Arena
CONTACT:Hoffmann\, Murphy (scorekeeper)\, Pfister
SUMMARY:Foreign Agents VS. Bottom Feeders
DESCRIPTION:League Name: Spring Adult League 2026 - A League\nGame Type: Re
 gular\nGame Status: Complete\nHome Team: Foreign Agents\nAway Team: Bottom
  Feeders\nHome Score: 4\nAway Score: 5
END:VEVENT
BEGIN:VEVENT
UID:16986071@ezleagues.ezfacility.com
DTSTAMP:20260424T153417Z
CREATED:20260424T153417Z
DTSTART:20260409T023000Z
DTEND:20260409T034500Z
LOCATION:Mountain View Ice Arena
CONTACT:Clay (scorekeeper)\, Hoffmann\, Pfister
SUMMARY:Foreign Agents VS. Finnish Mafia
DESCRIPTION:League Name: Spring Adult League 2026 - A League\nGame Type: Re
 gular\nGame Status: Complete\nHome Team: Foreign Agents\nAway Team: Finnis
 h Mafia\nHome Score: 5\nAway Score: 11
END:VEVENT
BEGIN:VEVENT
UID:16986075@ezleagues.ezfacility.com
DTSTAMP:20260424T153417Z
CREATED:20260424T153417Z
DTSTART:20260416T053000Z
DTEND:20260416T064500Z
LOCATION:Mountain View Ice Arena
CONTACT:Broetje\, Hoffmann\, Murphy (scorekeeper)
SUMMARY:Foreign Agents VS. Re-Habs
DESCRIPTION:League Name: Spring Adult League 2026 - A League\nGame Type: Re
 gular\nGame Status: Complete\nHome Team: Foreign Agents\nAway Team: Re-Hab
 s\nHome Score: 5\nAway Score: 4
END:VEVENT
BEGIN:VEVENT
UID:16986078@ezleagues.ezfacility.com
DTSTAMP:20260424T153417Z
CREATED:20260424T153417Z
DTSTART:20260423T053000Z
DTEND:20260423T064500Z
LOCATION:Mountain View Ice Arena
CONTACT:
SUMMARY:Double Mountain  VS. Foreign Agents
DESCRIPTION:League Name: Spring Adult League 2026 - A League\nGame Type: Re
 gular\nGame Status: Complete\nHome Team: Double Mountain \nAway Team: Fore
 ign Agents\nHome Score: 5\nAway Score: 3
END:VEVENT
BEGIN:VEVENT
UID:16986080@ezleagues.ezfacility.com
DTSTAMP:20260424T153417Z
CREATED:20260424T153417Z
DTSTART:20260430T040000Z
DTEND:20260430T051500Z
LOCATION:Mountain View Ice Arena
CONTACT:
SUMMARY:Knights VS. Foreign Agents
DESCRIPTION:League Name: Spring Adult League 2026 - A League\nGame Type: Re
 gular\nGame Status: Pending\nHome Team: Knights\nAway Team: Foreign Agents
 \n
END:VEVENT
BEGIN:VEVENT
UID:16986082@ezleagues.ezfacility.com
DTSTAMP:20260424T153417Z
CREATED:20260424T153417Z
DTSTART:20260507T040000Z
DTEND:20260507T051500Z
LOCATION:Mountain View Ice Arena
CONTACT:
SUMMARY:Foreign Agents VS. Bottom Feeders
DESCRIPTION:League Name: Spring Adult League 2026 - A League\nGame Type: Re
 gular\nGame Status: Pending\nHome Team: Foreign Agents\nAway Team: Bottom 
 Feeders\n
END:VEVENT
BEGIN:VEVENT
UID:16986086@ezleagues.ezfacility.com
DTSTAMP:20260424T153417Z
CREATED:20260424T153417Z
DTSTART:20260514T023000Z
DTEND:20260514T034500Z
LOCATION:Mountain View Ice Arena
CONTACT:
SUMMARY:Foreign Agents VS. Finnish Mafia
DESCRIPTION:League Name: Spring Adult League 2026 - A League\nGame Type: Re
 gular\nGame Status: Pending\nHome Team: Foreign Agents\nAway Team: Finnish
  Mafia\n
END:VEVENT
END:VCALENDAR
