BEGIN:VCALENDAR
VERSION:2.0
PRODID:-//EZFacility.com, Inc.//EZL 2.5.5.28621
BEGIN:VEVENT
UID:16985999@ezleagues.ezfacility.com
DTSTAMP:20260421T013900Z
CREATED:20260421T013900Z
DTSTART:20260204T053000Z
DTEND:20260204T064500Z
LOCATION:Mountain View Ice Arena
CONTACT:Blanchette\, Bylski\, Cates (scorekeeper)
SUMMARY:The Pfriem Team VS. Mighty Gooey Ducks
DESCRIPTION:League Name: Spring Adult League 2026 - B League\nGame Type: Re
 gular\nGame Status: Complete\nHome Team: The Pfriem Team\nAway Team: Might
 y Gooey Ducks\nHome Score: 6\nAway Score: 3
END:VEVENT
BEGIN:VEVENT
UID:16986003@ezleagues.ezfacility.com
DTSTAMP:20260421T013900Z
CREATED:20260421T013900Z
DTSTART:20260211T040000Z
DTEND:20260211T051500Z
LOCATION:Mountain View Ice Arena
CONTACT:Baisden (scorekeeper)\, Bylski\, Hoffmann
SUMMARY:Outlaws VS. Mighty Gooey Ducks
DESCRIPTION:League Name: Spring Adult League 2026 - B League\nGame Type: Re
 gular\nGame Status: Complete\nHome Team: Outlaws\nAway Team: Mighty Gooey 
 Ducks\nHome Score: 1\nAway Score: 4
END:VEVENT
BEGIN:VEVENT
UID:16986006@ezleagues.ezfacility.com
DTSTAMP:20260421T013900Z
CREATED:20260421T013900Z
DTSTART:20260218T070000Z
DTEND:20260218T081500Z
LOCATION:Mountain View Ice Arena
CONTACT:Blanchette\, Clay (scorekeeper)\, Dean
SUMMARY:Mighty Gooey Ducks VS. Nutcrackers
DESCRIPTION:League Name: Spring Adult League 2026 - B League\nGame Type: Re
 gular\nGame Status: Complete\nHome Team: Mighty Gooey Ducks\nAway Team: Nu
 tcrackers\nHome Score: 5\nAway Score: 3
END:VEVENT
BEGIN:VEVENT
UID:16986008@ezleagues.ezfacility.com
DTSTAMP:20260421T013900Z
CREATED:20260421T013900Z
DTSTART:20260225T040000Z
DTEND:20260225T051500Z
LOCATION:Mountain View Ice Arena
CONTACT:Blanchette\, Bylski\, Clay (scorekeeper)
SUMMARY:Mighty Gooey Ducks VS. Toxic Turtles
DESCRIPTION:League Name: Spring Adult League 2026 - B League\nGame Type: Re
 gular\nGame Status: Complete\nHome Team: Mighty Gooey Ducks\nAway Team: To
 xic Turtles\nHome Score: 6\nAway Score: 0
END:VEVENT
BEGIN:VEVENT
UID:16986010@ezleagues.ezfacility.com
DTSTAMP:20260421T013900Z
CREATED:20260421T013900Z
DTSTART:20260304T053000Z
DTEND:20260304T064500Z
LOCATION:Mountain View Ice Arena
CONTACT:Blanchette\, Bylski\, Clay (scorekeeper)
SUMMARY:Baja Blasters VS. Mighty Gooey Ducks
DESCRIPTION:League Name: Spring Adult League 2026 - B League\nGame Type: Re
 gular\nGame Status: Complete\nHome Team: Baja Blasters\nAway Team: Mighty 
 Gooey Ducks\nHome Score: 4\nAway Score: 5
END:VEVENT
BEGIN:VEVENT
UID:16986014@ezleagues.ezfacility.com
DTSTAMP:20260421T013900Z
CREATED:20260421T013900Z
DTSTART:20260311T030000Z
DTEND:20260311T041500Z
LOCATION:Mountain View Ice Arena
CONTACT:Baisden (scorekeeper)\, Bylski\, Dean
SUMMARY:Mighty Gooey Ducks VS. The Pfriem Team
DESCRIPTION:League Name: Spring Adult League 2026 - B League\nGame Type: Re
 gular\nGame Status: Complete\nHome Team: Mighty Gooey Ducks\nAway Team: Th
 e Pfriem Team\nHome Score: 8\nAway Score: 1
END:VEVENT
BEGIN:VEVENT
UID:16986018@ezleagues.ezfacility.com
DTSTAMP:20260421T013900Z
CREATED:20260421T013900Z
DTSTART:20260318T060000Z
DTEND:20260318T071500Z
LOCATION:Mountain View Ice Arena
CONTACT:Bylski\, Clay (scorekeeper)\, Dean
SUMMARY:Mighty Gooey Ducks VS. Outlaws
DESCRIPTION:League Name: Spring Adult League 2026 - B League\nGame Type: Re
 gular\nGame Status: Complete\nHome Team: Mighty Gooey Ducks\nAway Team: Ou
 tlaws\nHome Score: 4\nAway Score: 5
END:VEVENT
BEGIN:VEVENT
UID:16986021@ezleagues.ezfacility.com
DTSTAMP:20260421T013900Z
CREATED:20260421T013900Z
DTSTART:20260325T043000Z
DTEND:20260325T054500Z
LOCATION:Mountain View Ice Arena
CONTACT:Baisden (scorekeeper)\, Blanchette\, Bylski
SUMMARY:Nutcrackers VS. Mighty Gooey Ducks
DESCRIPTION:League Name: Spring Adult League 2026 - B League\nGame Type: Re
 gular\nGame Status: Complete\nHome Team: Nutcrackers\nAway Team: Mighty Go
 oey Ducks\nHome Score: 6\nAway Score: 3
END:VEVENT
BEGIN:VEVENT
UID:16986023@ezleagues.ezfacility.com
DTSTAMP:20260421T013900Z
CREATED:20260421T013900Z
DTSTART:20260401T030000Z
DTEND:20260401T041500Z
LOCATION:Mountain View Ice Arena
CONTACT:Blanchette\, Bylski\, Clay (scorekeeper)
SUMMARY:Toxic Turtles VS. Mighty Gooey Ducks
DESCRIPTION:League Name: Spring Adult League 2026 - B League\nGame Type: Re
 gular\nGame Status: Complete\nHome Team: Toxic Turtles\nAway Team: Mighty 
 Gooey Ducks\nHome Score: 2\nAway Score: 6
END:VEVENT
BEGIN:VEVENT
UID:16986025@ezleagues.ezfacility.com
DTSTAMP:20260421T013900Z
CREATED:20260421T013900Z
DTSTART:20260408T060000Z
DTEND:20260408T071500Z
LOCATION:Mountain View Ice Arena
CONTACT:Baisden (scorekeeper)\, Blanchette\, Mischke
SUMMARY:Baja Blasters VS. Mighty Gooey Ducks
DESCRIPTION:League Name: Spring Adult League 2026 - B League\nGame Type: Re
 gular\nGame Status: Complete\nHome Team: Baja Blasters\nAway Team: Mighty 
 Gooey Ducks\nHome Score: 0\nAway Score: 7
END:VEVENT
BEGIN:VEVENT
UID:16986029@ezleagues.ezfacility.com
DTSTAMP:20260421T013900Z
CREATED:20260421T013900Z
DTSTART:20260415T043000Z
DTEND:20260415T054500Z
LOCATION:Mountain View Ice Arena
CONTACT:Bylski\, Clay (scorekeeper)\, Mischke
SUMMARY:Mighty Gooey Ducks VS. The Pfriem Team
DESCRIPTION:League Name: Spring Adult League 2026 - B League\nGame Type: Re
 gular\nGame Status: Complete\nHome Team: Mighty Gooey Ducks\nAway Team: Th
 e Pfriem Team\nHome Score: 2\nAway Score: 7
END:VEVENT
BEGIN:VEVENT
UID:16986033@ezleagues.ezfacility.com
DTSTAMP:20260421T013900Z
CREATED:20260421T013900Z
DTSTART:20260422T060000Z
DTEND:20260422T071500Z
LOCATION:Mountain View Ice Arena
CONTACT:
SUMMARY:Mighty Gooey Ducks VS. Outlaws
DESCRIPTION:League Name: Spring Adult League 2026 - B League\nGame Type: Re
 gular\nGame Status: Pending\nHome Team: Mighty Gooey Ducks\nAway Team: Out
 laws\n
END:VEVENT
BEGIN:VEVENT
UID:16986036@ezleagues.ezfacility.com
DTSTAMP:20260421T013900Z
CREATED:20260421T013900Z
DTSTART:20260429T060000Z
DTEND:20260429T071500Z
LOCATION:Mountain View Ice Arena
CONTACT:
SUMMARY:Nutcrackers VS. Mighty Gooey Ducks
DESCRIPTION:League Name: Spring Adult League 2026 - B League\nGame Type: Re
 gular\nGame Status: Pending\nHome Team: Nutcrackers\nAway Team: Mighty Goo
 ey Ducks\n
END:VEVENT
BEGIN:VEVENT
UID:16986038@ezleagues.ezfacility.com
DTSTAMP:20260421T013900Z
CREATED:20260421T013900Z
DTSTART:20260506T030000Z
DTEND:20260506T041500Z
LOCATION:Mountain View Ice Arena
CONTACT:
SUMMARY:Toxic Turtles VS. Mighty Gooey Ducks
DESCRIPTION:League Name: Spring Adult League 2026 - B League\nGame Type: Re
 gular\nGame Status: Pending\nHome Team: Toxic Turtles\nAway Team: Mighty G
 ooey Ducks\n
END:VEVENT
BEGIN:VEVENT
UID:16986040@ezleagues.ezfacility.com
DTSTAMP:20260421T013900Z
CREATED:20260421T013900Z
DTSTART:20260513T060000Z
DTEND:20260513T071500Z
LOCATION:Mountain View Ice Arena
CONTACT:
SUMMARY:Mighty Gooey Ducks VS. Baja Blasters
DESCRIPTION:League Name: Spring Adult League 2026 - B League\nGame Type: Re
 gular\nGame Status: Pending\nHome Team: Mighty Gooey Ducks\nAway Team: Baj
 a Blasters\n
END:VEVENT
END:VCALENDAR
