BEGIN:VCALENDAR
VERSION:2.0
PRODID:-//EZFacility.com, Inc.//EZL 2.5.5.28621
BEGIN:VEVENT
UID:16900856@ezleagues.ezfacility.com
DTSTAMP:20260426T033738Z
CREATED:20260426T033738Z
DTSTART:20251212T013000Z
DTEND:20251212T023000Z
LOCATION:Black Field
CONTACT:Patterson
SUMMARY:G-A's Finest VS. Misfits
DESCRIPTION:League Name: Adult Co-Ed Open Thursdays\nGame Type: Regular\nGa
 me Status: Complete\nHome Team: G-A's Finest\nAway Team: Misfits\nHome Sco
 re: 4\nAway Score: 12
END:VEVENT
BEGIN:VEVENT
UID:16905750@ezleagues.ezfacility.com
DTSTAMP:20260426T033738Z
CREATED:20260426T033738Z
DTSTART:20251219T013000Z
DTEND:20251219T023000Z
LOCATION:Red Field
CONTACT:Vargas
SUMMARY:Misfits VS. Lets Go Parking
DESCRIPTION:League Name: Adult Co-Ed Open Thursdays\nGame Type: Regular\nGa
 me Status: Complete\nHome Team: Misfits\nAway Team: Lets Go Parking\nHome 
 Score: 12\nAway Score: 1
END:VEVENT
BEGIN:VEVENT
UID:16900867@ezleagues.ezfacility.com
DTSTAMP:20260426T033738Z
CREATED:20260426T033738Z
DTSTART:20260109T013000Z
DTEND:20260109T023000Z
LOCATION:Red Field
CONTACT:Vandermeeden
SUMMARY:Misfits VS. Between the Spreadsheets
DESCRIPTION:League Name: Adult Co-Ed Open Thursdays\nGame Type: Regular\nGa
 me Status: Complete\nHome Team: Misfits\nAway Team: Between the Spreadshee
 ts\nHome Score: 9\nAway Score: 7
END:VEVENT
BEGIN:VEVENT
UID:16900874@ezleagues.ezfacility.com
DTSTAMP:20260426T033738Z
CREATED:20260426T033738Z
DTSTART:20260116T003000Z
DTEND:20260116T013000Z
LOCATION:Black Field
CONTACT: I Santos
SUMMARY:Misfits VS. Swiggity Swooty
DESCRIPTION:League Name: Adult Co-Ed Open Thursdays\nGame Type: Regular\nGa
 me Status: Complete\nHome Team: Misfits\nAway Team: Swiggity Swooty\nHome 
 Score: 1\nAway Score: 2
END:VEVENT
BEGIN:VEVENT
UID:16900879@ezleagues.ezfacility.com
DTSTAMP:20260426T033738Z
CREATED:20260426T033738Z
DTSTART:20260122T233000Z
DTEND:20260123T003000Z
LOCATION:Red Field
CONTACT:Gullon-Brock
SUMMARY:Misfits VS. Lets Go Parking
DESCRIPTION:League Name: Adult Co-Ed Open Thursdays\nGame Type: Regular\nGa
 me Status: Complete\nHome Team: Misfits\nAway Team: Lets Go Parking\nHome 
 Score: 10\nAway Score: 2
END:VEVENT
BEGIN:VEVENT
UID:16900881@ezleagues.ezfacility.com
DTSTAMP:20260426T033738Z
CREATED:20260426T033738Z
DTSTART:20260129T233000Z
DTEND:20260130T003000Z
LOCATION:Black Field
CONTACT: I Santos
SUMMARY:Misfits VS. Ball Benders
DESCRIPTION:League Name: Adult Co-Ed Open Thursdays\nGame Type: Regular\nGa
 me Status: Complete\nHome Team: Misfits\nAway Team: Ball Benders\nHome Sco
 re: 5\nAway Score: 8
END:VEVENT
BEGIN:VEVENT
UID:16900866@ezleagues.ezfacility.com
DTSTAMP:20260426T033738Z
CREATED:20260426T033738Z
DTSTART:20260206T000000Z
DTEND:20260206T010000Z
LOCATION:Red Field
CONTACT:Vandermeeden
SUMMARY:TPFC VS. Misfits
DESCRIPTION:League Name: Adult Co-Ed Open Thursdays\nGame Type: Regular\nGa
 me Status: Complete\nHome Team: TPFC\nAway Team: Misfits\nHome Score: 7\nA
 way Score: 6
END:VEVENT
BEGIN:VEVENT
UID:16905853@ezleagues.ezfacility.com
DTSTAMP:20260426T033738Z
CREATED:20260426T033738Z
DTSTART:20260206T010000Z
DTEND:20260206T020000Z
LOCATION:Red Field
CONTACT:Vandermeeden
SUMMARY:BCFC VS. Misfits
DESCRIPTION:League Name: Adult Co-Ed Open Thursdays\nGame Type: Regular\nGa
 me Status: Complete\nHome Team: BCFC\nAway Team: Misfits\nHome Score: 11\n
 Away Score: 12
END:VEVENT
END:VCALENDAR
