BEGIN:VCALENDAR
VERSION:2.0
PRODID:-//EZFacility.com, Inc.//EZL 2.5.5.28621
BEGIN:VEVENT
UID:16902475@ezleagues.ezfacility.com
DTSTAMP:20260422T094920Z
CREATED:20260422T094920Z
DTSTART:20251222T030000Z
DTEND:20251222T040000Z
LOCATION:Field 1
CONTACT:
SUMMARY:FC QUICHE VS. LOS LATINOS FC
DESCRIPTION:League Name: LATINO LEAGUE 2ND SESSION WINTER 2025\nGame Type: 
 Regular\nGame Status: Complete\nHome Team: FC QUICHE\nAway Team: LOS LATIN
 OS FC\nHome Score: 3\nAway Score: 12
END:VEVENT
BEGIN:VEVENT
UID:16902484@ezleagues.ezfacility.com
DTSTAMP:20260422T094920Z
CREATED:20260422T094920Z
DTSTART:20251228T200000Z
DTEND:20251228T210000Z
LOCATION:Field 1
CONTACT:
SUMMARY:YOUNG BOYS FC VS. FC QUICHE
DESCRIPTION:League Name: LATINO LEAGUE 2ND SESSION WINTER 2025\nGame Type: 
 Regular\nGame Status: Complete\nHome Team: YOUNG BOYS FC\nAway Team: FC QU
 ICHE\nHome Score: 6\nAway Score: 5
END:VEVENT
BEGIN:VEVENT
UID:16902493@ezleagues.ezfacility.com
DTSTAMP:20260422T094920Z
CREATED:20260422T094920Z
DTSTART:20260105T020000Z
DTEND:20260105T030000Z
LOCATION:Field 1
CONTACT:
SUMMARY:REAL CHINIQUE VS. FC QUICHE
DESCRIPTION:League Name: LATINO LEAGUE 2ND SESSION WINTER 2025\nGame Type: 
 Regular\nGame Status: Complete\nHome Team: REAL CHINIQUE\nAway Team: FC QU
 ICHE\nHome Score: 5\nAway Score: 7
END:VEVENT
BEGIN:VEVENT
UID:16902502@ezleagues.ezfacility.com
DTSTAMP:20260422T094920Z
CREATED:20260422T094920Z
DTSTART:20260111T210000Z
DTEND:20260111T220000Z
LOCATION:Field 1
CONTACT:
SUMMARY:FC QUICHE VS. LOS CAPYBARAS FC
DESCRIPTION:League Name: LATINO LEAGUE 2ND SESSION WINTER 2025\nGame Type: 
 Regular\nGame Status: Complete\nHome Team: FC QUICHE\nAway Team: LOS CAPYB
 ARAS FC\nHome Score: 11\nAway Score: 3
END:VEVENT
BEGIN:VEVENT
UID:16902511@ezleagues.ezfacility.com
DTSTAMP:20260422T094920Z
CREATED:20260422T094920Z
DTSTART:20260119T020000Z
DTEND:20260119T030000Z
LOCATION:Field 1
CONTACT:
SUMMARY:FC QUICHE VS. HM SIN NOMBRE
DESCRIPTION:League Name: LATINO LEAGUE 2ND SESSION WINTER 2025\nGame Type: 
 Regular\nGame Status: Complete\nHome Team: FC QUICHE\nAway Team: HM SIN NO
 MBRE\nHome Score: 12\nAway Score: 6
END:VEVENT
BEGIN:VEVENT
UID:16902519@ezleagues.ezfacility.com
DTSTAMP:20260422T094920Z
CREATED:20260422T094920Z
DTSTART:20260202T010000Z
DTEND:20260202T020000Z
LOCATION:Field 1
CONTACT:
SUMMARY:LEGENDARY FOOTBALLERS FC VS. FC QUICHE
DESCRIPTION:League Name: LATINO LEAGUE 2ND SESSION WINTER 2025\nGame Type: 
 Regular\nGame Status: Complete\nHome Team: LEGENDARY FOOTBALLERS FC\nAway 
 Team: FC QUICHE\nHome Score: 11\nAway Score: 3
END:VEVENT
BEGIN:VEVENT
UID:16902466@ezleagues.ezfacility.com
DTSTAMP:20260422T094920Z
CREATED:20260422T094920Z
DTSTART:20260208T220000Z
DTEND:20260208T230000Z
LOCATION:Field 1
CONTACT:
SUMMARY:FC QUICHE VS. JOVEN UNIDOS
DESCRIPTION:League Name: LATINO LEAGUE 2ND SESSION WINTER 2025\nGame Type: 
 Regular\nGame Status: Complete\nHome Team: FC QUICHE\nAway Team: JOVEN UNI
 DOS\nHome Score: 3\nAway Score: 0
END:VEVENT
END:VCALENDAR
