BEGIN:VCALENDAR
VERSION:2.0
PRODID:-//EZFacility.com, Inc.//EZL 2.5.5.28621
BEGIN:VEVENT
UID:16903737@ezleagues.ezfacility.com
DTSTAMP:20260426T033657Z
CREATED:20260426T033657Z
DTSTART:20251208T013000Z
DTEND:20251208T022500Z
LOCATION:VA Army National Guard Field 2
CONTACT:
SUMMARY:Storm VS. WWWD
DESCRIPTION:League Name: Sunday Women's Over 40\nGame Type: Regular\nGame S
 tatus: Complete\nHome Team: Storm\nAway Team: WWWD\nHome Score: 5\nAway Sc
 ore: 2
END:VEVENT
BEGIN:VEVENT
UID:16903744@ezleagues.ezfacility.com
DTSTAMP:20260426T033657Z
CREATED:20260426T033657Z
DTSTART:20251215T003000Z
DTEND:20251215T012500Z
LOCATION:VA Army National Guard Field 2
CONTACT:
SUMMARY:WWWD VS. Buzzkill
DESCRIPTION:League Name: Sunday Women's Over 40\nGame Type: Regular\nGame S
 tatus: Complete\nHome Team: WWWD\nAway Team: Buzzkill\nHome Score: 1\nAway
  Score: 9
END:VEVENT
BEGIN:VEVENT
UID:16903749@ezleagues.ezfacility.com
DTSTAMP:20260426T033657Z
CREATED:20260426T033657Z
DTSTART:20251222T032000Z
DTEND:20251222T041500Z
LOCATION:VA Army National Guard Field 2
CONTACT:
SUMMARY:WWWD VS. Greenday
DESCRIPTION:League Name: Sunday Women's Over 40\nGame Type: Regular\nGame S
 tatus: Complete\nHome Team: WWWD\nAway Team: Greenday\nHome Score: 1\nAway
  Score: 11
END:VEVENT
BEGIN:VEVENT
UID:16903761@ezleagues.ezfacility.com
DTSTAMP:20260426T033657Z
CREATED:20260426T033657Z
DTSTART:20260105T022500Z
DTEND:20260105T032000Z
LOCATION:VA Army National Guard Field 2
CONTACT:
SUMMARY:WWWD VS. Mid Life Kickers
DESCRIPTION:League Name: Sunday Women's Over 40\nGame Type: Regular\nGame S
 tatus: Complete\nHome Team: WWWD\nAway Team: Mid Life Kickers\nHome Score:
  5\nAway Score: 7
END:VEVENT
BEGIN:VEVENT
UID:16903768@ezleagues.ezfacility.com
DTSTAMP:20260426T033657Z
CREATED:20260426T033657Z
DTSTART:20260112T032000Z
DTEND:20260112T041500Z
LOCATION:VA Army National Guard Field 2
CONTACT:
SUMMARY:WWWD VS. Reds
DESCRIPTION:League Name: Sunday Women's Over 40\nGame Type: Regular\nGame S
 tatus: Complete\nHome Team: WWWD\nAway Team: Reds\nHome Score: 0\nAway Sco
 re: 3
END:VEVENT
BEGIN:VEVENT
UID:16903774@ezleagues.ezfacility.com
DTSTAMP:20260426T033657Z
CREATED:20260426T033657Z
DTSTART:20260119T003500Z
DTEND:20260119T013000Z
LOCATION:VA Army National Guard Field 2
CONTACT:
SUMMARY:WWWD VS. Royals
DESCRIPTION:League Name: Sunday Women's Over 40\nGame Type: Regular\nGame S
 tatus: Complete\nHome Team: WWWD\nAway Team: Royals\nHome Score: 0\nAway S
 core: 0
END:VEVENT
BEGIN:VEVENT
UID:16903777@ezleagues.ezfacility.com
DTSTAMP:20260426T033657Z
CREATED:20260426T033657Z
DTSTART:20260126T000000Z
DTEND:20260126T005500Z
LOCATION:Field 1
CONTACT:
SUMMARY:Royals VS. WWWD
DESCRIPTION:League Name: Sunday Women's Over 40\nGame Type: Postseason\nGam
 e Status: Complete\nHome Team: Royals\nAway Team: WWWD\nHome Score: 12\nAw
 ay Score: 2
END:VEVENT
END:VCALENDAR
