BEGIN:VCALENDAR
VERSION:2.0
PRODID:-//EZFacility.com, Inc.//EZL 2.5.5.28621
BEGIN:VEVENT
UID:16907003@ezleagues.ezfacility.com
DTSTAMP:20260424T041435Z
CREATED:20260424T041435Z
DTSTART:20260104T170000Z
DTEND:20260104T174500Z
LOCATION:Mini Field 
CONTACT:
SUMMARY:United Fc Rec 2 VS. Hoverla FC
DESCRIPTION:League Name: U7 Coed Black 2nd session '26\nGame Type: Regular\
 nGame Status: Pending\nHome Team: United Fc Rec 2\nAway Team: Hoverla FC\n
END:VEVENT
BEGIN:VEVENT
UID:16907007@ezleagues.ezfacility.com
DTSTAMP:20260424T041435Z
CREATED:20260424T041435Z
DTSTART:20260110T211500Z
DTEND:20260110T220000Z
LOCATION:Mini Field 
CONTACT:
SUMMARY:TSH 7 Timmington VS. United Fc Rec 2
DESCRIPTION:League Name: U7 Coed Black 2nd session '26\nGame Type: Regular\
 nGame Status: Pending\nHome Team: TSH 7 Timmington\nAway Team: United Fc R
 ec 2\n
END:VEVENT
BEGIN:VEVENT
UID:16907010@ezleagues.ezfacility.com
DTSTAMP:20260424T041435Z
CREATED:20260424T041435Z
DTSTART:20260118T174500Z
DTEND:20260118T183000Z
LOCATION:Mini Field 
CONTACT:
SUMMARY:The Shredders VS. United Fc Rec 2
DESCRIPTION:League Name: U7 Coed Black 2nd session '26\nGame Type: Regular\
 nGame Status: Pending\nHome Team: The Shredders\nAway Team: United Fc Rec 
 2\n
END:VEVENT
BEGIN:VEVENT
UID:16907014@ezleagues.ezfacility.com
DTSTAMP:20260424T041435Z
CREATED:20260424T041435Z
DTSTART:20260201T153000Z
DTEND:20260201T161500Z
LOCATION:Mini Field 
CONTACT:
SUMMARY:United Fc Rec 2 VS. FC Freedom 19/20 Yellow
DESCRIPTION:League Name: U7 Coed Black 2nd session '26\nGame Type: Regular\
 nGame Status: Pending\nHome Team: United Fc Rec 2\nAway Team: FC Freedom 1
 9/20 Yellow\n
END:VEVENT
BEGIN:VEVENT
UID:16907018@ezleagues.ezfacility.com
DTSTAMP:20260424T041435Z
CREATED:20260424T041435Z
DTSTART:20260208T161500Z
DTEND:20260208T170000Z
LOCATION:Mini Field 
CONTACT:
SUMMARY:Hoverla FC VS. United Fc Rec 2
DESCRIPTION:League Name: U7 Coed Black 2nd session '26\nGame Type: Regular\
 nGame Status: Pending\nHome Team: Hoverla FC\nAway Team: United Fc Rec 2\n
END:VEVENT
BEGIN:VEVENT
UID:16907022@ezleagues.ezfacility.com
DTSTAMP:20260424T041435Z
CREATED:20260424T041435Z
DTSTART:20260215T161500Z
DTEND:20260215T170000Z
LOCATION:Mini Field 
CONTACT:
SUMMARY:United Fc Rec 2 VS. TSH 7 Timmington
DESCRIPTION:League Name: U7 Coed Black 2nd session '26\nGame Type: Regular\
 nGame Status: Pending\nHome Team: United Fc Rec 2\nAway Team: TSH 7 Timmin
 gton\n
END:VEVENT
BEGIN:VEVENT
UID:16907025@ezleagues.ezfacility.com
DTSTAMP:20260424T041435Z
CREATED:20260424T041435Z
DTSTART:20260222T161500Z
DTEND:20260222T170000Z
LOCATION:Mini Field 
CONTACT:
SUMMARY:United Fc Rec 2 VS. The Shredders
DESCRIPTION:League Name: U7 Coed Black 2nd session '26\nGame Type: Regular\
 nGame Status: Pending\nHome Team: United Fc Rec 2\nAway Team: The Shredder
 s\n
END:VEVENT
BEGIN:VEVENT
UID:16907029@ezleagues.ezfacility.com
DTSTAMP:20260424T041435Z
CREATED:20260424T041435Z
DTSTART:20260308T143000Z
DTEND:20260308T151500Z
LOCATION:Mini Field 
CONTACT:
SUMMARY:FC Freedom 19/20 Yellow VS. United Fc Rec 2
DESCRIPTION:League Name: U7 Coed Black 2nd session '26\nGame Type: Regular\
 nGame Status: Pending\nHome Team: FC Freedom 19/20 Yellow\nAway Team: Unit
 ed Fc Rec 2\n
END:VEVENT
END:VCALENDAR
