BEGIN:VCALENDAR
VERSION:2.0
PRODID:-//EZFacility.com, Inc.//EZL 2.5.5.28621
BEGIN:VEVENT
UID:16912435@ezleagues.ezfacility.com
DTSTAMP:20260425T112457Z
CREATED:20260425T112457Z
DTSTART:20260106T220000Z
DTEND:20260106T230000Z
LOCATION:Turf Field
CONTACT:
SUMMARY:Black  VS. Red
DESCRIPTION:League Name: Winter 2026 U14 Soccer\nGame Type: Regular\nGame S
 tatus: Complete\nHome Team: Black \nAway Team: Red\nHome Score: 2\nAway Sc
 ore: 2
END:VEVENT
BEGIN:VEVENT
UID:16912438@ezleagues.ezfacility.com
DTSTAMP:20260425T112457Z
CREATED:20260425T112457Z
DTSTART:20260113T220000Z
DTEND:20260113T230000Z
LOCATION:Turf Field
CONTACT:
SUMMARY:Blue VS. Red
DESCRIPTION:League Name: Winter 2026 U14 Soccer\nGame Type: Regular\nGame S
 tatus: Complete\nHome Team: Blue\nAway Team: Red\nHome Score: 0\nAway Scor
 e: 3
END:VEVENT
BEGIN:VEVENT
UID:16912440@ezleagues.ezfacility.com
DTSTAMP:20260425T112457Z
CREATED:20260425T112457Z
DTSTART:20260120T230000Z
DTEND:20260121T000000Z
LOCATION:Turf Field
CONTACT:
SUMMARY:Red VS. White
DESCRIPTION:League Name: Winter 2026 U14 Soccer\nGame Type: Regular\nGame S
 tatus: Complete\nHome Team: Red\nAway Team: White\nHome Score: 4\nAway Sco
 re: 1
END:VEVENT
BEGIN:VEVENT
UID:16912441@ezleagues.ezfacility.com
DTSTAMP:20260425T112457Z
CREATED:20260425T112457Z
DTSTART:20260127T220000Z
DTEND:20260127T230000Z
LOCATION:Turf Field
CONTACT:
SUMMARY:Black  VS. Red
DESCRIPTION:League Name: Winter 2026 U14 Soccer\nGame Type: Regular\nGame S
 tatus: Complete\nHome Team: Black \nAway Team: Red\nHome Score: 2\nAway Sc
 ore: 1
END:VEVENT
BEGIN:VEVENT
UID:16912444@ezleagues.ezfacility.com
DTSTAMP:20260425T112457Z
CREATED:20260425T112457Z
DTSTART:20260203T220000Z
DTEND:20260203T230000Z
LOCATION:Turf Field
CONTACT:
SUMMARY:Blue VS. Red
DESCRIPTION:League Name: Winter 2026 U14 Soccer\nGame Type: Regular\nGame S
 tatus: Complete\nHome Team: Blue\nAway Team: Red\nHome Score: 2\nAway Scor
 e: 1
END:VEVENT
BEGIN:VEVENT
UID:16912446@ezleagues.ezfacility.com
DTSTAMP:20260425T112457Z
CREATED:20260425T112457Z
DTSTART:20260210T230000Z
DTEND:20260211T000000Z
LOCATION:Turf Field
CONTACT:
SUMMARY:Red VS. White
DESCRIPTION:League Name: Winter 2026 U14 Soccer\nGame Type: Regular\nGame S
 tatus: Complete\nHome Team: Red\nAway Team: White\nHome Score: 3\nAway Sco
 re: 3
END:VEVENT
BEGIN:VEVENT
UID:16912447@ezleagues.ezfacility.com
DTSTAMP:20260425T112457Z
CREATED:20260425T112457Z
DTSTART:20260217T220000Z
DTEND:20260217T230000Z
LOCATION:Turf Field
CONTACT:
SUMMARY:Black  VS. Red
DESCRIPTION:League Name: Winter 2026 U14 Soccer\nGame Type: Regular\nGame S
 tatus: Complete\nHome Team: Black \nAway Team: Red\nHome Score: 11\nAway S
 core: 1
END:VEVENT
BEGIN:VEVENT
UID:16912450@ezleagues.ezfacility.com
DTSTAMP:20260425T112457Z
CREATED:20260425T112457Z
DTSTART:20260224T220000Z
DTEND:20260224T230000Z
LOCATION:Turf Field
CONTACT:
SUMMARY:Red VS. Blue
DESCRIPTION:League Name: Winter 2026 U14 Soccer\nGame Type: Regular\nGame S
 tatus: Complete\nHome Team: Red\nAway Team: Blue\nHome Score: 4\nAway Scor
 e: 3
END:VEVENT
BEGIN:VEVENT
UID:16912452@ezleagues.ezfacility.com
DTSTAMP:20260425T112457Z
CREATED:20260425T112457Z
DTSTART:20260303T230000Z
DTEND:20260304T000000Z
LOCATION:Turf Field
CONTACT:
SUMMARY:White VS. Red
DESCRIPTION:League Name: Winter 2026 U14 Soccer\nGame Type: Regular\nGame S
 tatus: Complete\nHome Team: White\nAway Team: Red\nHome Score: 5\nAway Sco
 re: 1
END:VEVENT
BEGIN:VEVENT
UID:16912453@ezleagues.ezfacility.com
DTSTAMP:20260425T112457Z
CREATED:20260425T112457Z
DTSTART:20260310T210000Z
DTEND:20260310T220000Z
LOCATION:Turf Field
CONTACT:
SUMMARY:Red VS. Black 
DESCRIPTION:League Name: Winter 2026 U14 Soccer\nGame Type: Regular\nGame S
 tatus: Complete\nHome Team: Red\nAway Team: Black \nHome Score: 0\nAway Sc
 ore: 7
END:VEVENT
BEGIN:VEVENT
UID:16912458@ezleagues.ezfacility.com
DTSTAMP:20260425T112457Z
CREATED:20260425T112457Z
DTSTART:20260324T220000Z
DTEND:20260324T230000Z
LOCATION:Turf Field
CONTACT:
SUMMARY:White VS. Red
DESCRIPTION:League Name: Winter 2026 U14 Soccer\nGame Type: Regular\nGame S
 tatus: Complete\nHome Team: White\nAway Team: Red\nHome Score: 6\nAway Sco
 re: 3
END:VEVENT
BEGIN:VEVENT
UID:16912459@ezleagues.ezfacility.com
DTSTAMP:20260425T112457Z
CREATED:20260425T112457Z
DTSTART:20260331T210000Z
DTEND:20260331T220000Z
LOCATION:Turf Field
CONTACT:
SUMMARY:Red VS. Black 
DESCRIPTION:League Name: Winter 2026 U14 Soccer\nGame Type: Regular\nGame S
 tatus: Complete\nHome Team: Red\nAway Team: Black \nHome Score: 1\nAway Sc
 ore: 6
END:VEVENT
BEGIN:VEVENT
UID:16912461@ezleagues.ezfacility.com
DTSTAMP:20260425T112457Z
CREATED:20260425T112457Z
DTSTART:20260407T220000Z
DTEND:20260407T230000Z
LOCATION:Turf Field
CONTACT:
SUMMARY:White VS. Red
DESCRIPTION:League Name: Winter 2026 U14 Soccer\nGame Type: Postseason\nGam
 e Status: Complete\nHome Team: White\nAway Team: Red\nHome Score: 9\nAway 
 Score: 0
END:VEVENT
BEGIN:VEVENT
UID:16912456@ezleagues.ezfacility.com
DTSTAMP:20260425T112457Z
CREATED:20260425T112457Z
DTSTART:20260414T210000Z
DTEND:20260414T220000Z
LOCATION:Turf Field
CONTACT:
SUMMARY:Blue VS. Red
DESCRIPTION:League Name: Winter 2026 U14 Soccer\nGame Type: Regular\nGame S
 tatus: Complete\nHome Team: Blue\nAway Team: Red\nHome Score: 6\nAway Scor
 e: 2
END:VEVENT
END:VCALENDAR
