BEGIN:VCALENDAR
VERSION:2.0
PRODID:-//EZFacility.com, Inc.//EZL 2.5.5.28621
BEGIN:VEVENT
UID:16914134@ezleagues.ezfacility.com
DTSTAMP:20260424T050509Z
CREATED:20260424T050509Z
DTSTART:20260107T230000Z
DTEND:20260108T000000Z
LOCATION:Turf Field
CONTACT:
SUMMARY:White VS. Blue
DESCRIPTION:League Name: Winter 2026 U12 Soccer\nGame Type: Regular\nGame S
 tatus: Pending\nHome Team: White\nAway Team: Blue\n
END:VEVENT
BEGIN:VEVENT
UID:16914137@ezleagues.ezfacility.com
DTSTAMP:20260424T050509Z
CREATED:20260424T050509Z
DTSTART:20260114T220000Z
DTEND:20260114T230000Z
LOCATION:Turf Field
CONTACT:
SUMMARY:Blue VS. Red
DESCRIPTION:League Name: Winter 2026 U12 Soccer\nGame Type: Regular\nGame S
 tatus: Pending\nHome Team: Blue\nAway Team: Red\n
END:VEVENT
BEGIN:VEVENT
UID:16914139@ezleagues.ezfacility.com
DTSTAMP:20260424T050509Z
CREATED:20260424T050509Z
DTSTART:20260121T220000Z
DTEND:20260121T230000Z
LOCATION:Turf Field
CONTACT:
SUMMARY:Black VS. Blue
DESCRIPTION:League Name: Winter 2026 U12 Soccer\nGame Type: Regular\nGame S
 tatus: Pending\nHome Team: Black\nAway Team: Blue\n
END:VEVENT
BEGIN:VEVENT
UID:16914140@ezleagues.ezfacility.com
DTSTAMP:20260424T050509Z
CREATED:20260424T050509Z
DTSTART:20260128T230000Z
DTEND:20260129T000000Z
LOCATION:Turf Field
CONTACT:
SUMMARY:White VS. Blue
DESCRIPTION:League Name: Winter 2026 U12 Soccer\nGame Type: Regular\nGame S
 tatus: Pending\nHome Team: White\nAway Team: Blue\n
END:VEVENT
BEGIN:VEVENT
UID:16914143@ezleagues.ezfacility.com
DTSTAMP:20260424T050509Z
CREATED:20260424T050509Z
DTSTART:20260204T220000Z
DTEND:20260204T230000Z
LOCATION:Turf Field
CONTACT:
SUMMARY:Blue VS. Red
DESCRIPTION:League Name: Winter 2026 U12 Soccer\nGame Type: Regular\nGame S
 tatus: Pending\nHome Team: Blue\nAway Team: Red\n
END:VEVENT
BEGIN:VEVENT
UID:16914145@ezleagues.ezfacility.com
DTSTAMP:20260424T050509Z
CREATED:20260424T050509Z
DTSTART:20260211T220000Z
DTEND:20260211T230000Z
LOCATION:Turf Field
CONTACT:
SUMMARY:Black VS. Blue
DESCRIPTION:League Name: Winter 2026 U12 Soccer\nGame Type: Regular\nGame S
 tatus: Pending\nHome Team: Black\nAway Team: Blue\n
END:VEVENT
BEGIN:VEVENT
UID:16914146@ezleagues.ezfacility.com
DTSTAMP:20260424T050509Z
CREATED:20260424T050509Z
DTSTART:20260218T230000Z
DTEND:20260219T000000Z
LOCATION:Turf Field
CONTACT:
SUMMARY:Blue VS. White
DESCRIPTION:League Name: Winter 2026 U12 Soccer\nGame Type: Regular\nGame S
 tatus: Pending\nHome Team: Blue\nAway Team: White\n
END:VEVENT
BEGIN:VEVENT
UID:16914149@ezleagues.ezfacility.com
DTSTAMP:20260424T050509Z
CREATED:20260424T050509Z
DTSTART:20260225T220000Z
DTEND:20260225T230000Z
LOCATION:Turf Field
CONTACT:
SUMMARY:Red VS. Blue
DESCRIPTION:League Name: Winter 2026 U12 Soccer\nGame Type: Regular\nGame S
 tatus: Pending\nHome Team: Red\nAway Team: Blue\n
END:VEVENT
BEGIN:VEVENT
UID:16914151@ezleagues.ezfacility.com
DTSTAMP:20260424T050509Z
CREATED:20260424T050509Z
DTSTART:20260304T220000Z
DTEND:20260304T230000Z
LOCATION:Turf Field
CONTACT:
SUMMARY:Blue VS. Black
DESCRIPTION:League Name: Winter 2026 U12 Soccer\nGame Type: Regular\nGame S
 tatus: Pending\nHome Team: Blue\nAway Team: Black\n
END:VEVENT
BEGIN:VEVENT
UID:16914152@ezleagues.ezfacility.com
DTSTAMP:20260424T050509Z
CREATED:20260424T050509Z
DTSTART:20260311T220000Z
DTEND:20260311T230000Z
LOCATION:Turf Field
CONTACT:
SUMMARY:Blue VS. White
DESCRIPTION:League Name: Winter 2026 U12 Soccer\nGame Type: Regular\nGame S
 tatus: Pending\nHome Team: Blue\nAway Team: White\n
END:VEVENT
BEGIN:VEVENT
UID:16914157@ezleagues.ezfacility.com
DTSTAMP:20260424T050509Z
CREATED:20260424T050509Z
DTSTART:20260325T210000Z
DTEND:20260325T220000Z
LOCATION:Turf Field
CONTACT:
SUMMARY:Blue VS. Black
DESCRIPTION:League Name: Winter 2026 U12 Soccer\nGame Type: Regular\nGame S
 tatus: Pending\nHome Team: Blue\nAway Team: Black\n
END:VEVENT
BEGIN:VEVENT
UID:16914158@ezleagues.ezfacility.com
DTSTAMP:20260424T050509Z
CREATED:20260424T050509Z
DTSTART:20260401T220000Z
DTEND:20260401T230000Z
LOCATION:Turf Field
CONTACT:
SUMMARY:Blue VS. White
DESCRIPTION:League Name: Winter 2026 U12 Soccer\nGame Type: Regular\nGame S
 tatus: Pending\nHome Team: Blue\nAway Team: White\n
END:VEVENT
BEGIN:VEVENT
UID:16914161@ezleagues.ezfacility.com
DTSTAMP:20260424T050509Z
CREATED:20260424T050509Z
DTSTART:20260408T210000Z
DTEND:20260408T220000Z
LOCATION:Turf Field
CONTACT:
SUMMARY:Red VS. Blue
DESCRIPTION:League Name: Winter 2026 U12 Soccer\nGame Type: Regular\nGame S
 tatus: Pending\nHome Team: Red\nAway Team: Blue\n
END:VEVENT
BEGIN:VEVENT
UID:16914155@ezleagues.ezfacility.com
DTSTAMP:20260424T050509Z
CREATED:20260424T050509Z
DTSTART:20260415T210000Z
DTEND:20260415T220000Z
LOCATION:Turf Field
CONTACT:
SUMMARY:Red VS. Blue
DESCRIPTION:League Name: Winter 2026 U12 Soccer\nGame Type: Regular\nGame S
 tatus: Pending\nHome Team: Red\nAway Team: Blue\n
END:VEVENT
END:VCALENDAR
