BEGIN:VCALENDAR
VERSION:2.0
PRODID:-//EZFacility.com, Inc.//EZL 2.5.5.28621
BEGIN:VEVENT
UID:16914691@ezleagues.ezfacility.com
DTSTAMP:20260426T035040Z
CREATED:20260426T035040Z
DTSTART:20251223T000000Z
DTEND:20251223T005000Z
LOCATION:Indoor Field
CONTACT:
SUMMARY:Gold Rush VS. DKSC 16B 
DESCRIPTION:League Name: 2014/2015 Premier Winter 2025\nGame Type: Regular\
 nGame Status: Complete\nHome Team: Gold Rush\nAway Team: DKSC 16B \nHome S
 core: 1\nAway Score: 18
END:VEVENT
BEGIN:VEVENT
UID:16914697@ezleagues.ezfacility.com
DTSTAMP:20260426T035040Z
CREATED:20260426T035040Z
DTSTART:20251231T005000Z
DTEND:20251231T014000Z
LOCATION:Indoor Field
CONTACT:
SUMMARY:DKSC 16B  VS. Mambas
DESCRIPTION:League Name: 2014/2015 Premier Winter 2025\nGame Type: Regular\
 nGame Status: Complete\nHome Team: DKSC 16B \nAway Team: Mambas\nHome Scor
 e: 9\nAway Score: 6
END:VEVENT
BEGIN:VEVENT
UID:16914703@ezleagues.ezfacility.com
DTSTAMP:20260426T035040Z
CREATED:20260426T035040Z
DTSTART:20260106T005000Z
DTEND:20260106T014000Z
LOCATION:Indoor Field
CONTACT:
SUMMARY:Matadors VS. DKSC 16B 
DESCRIPTION:League Name: 2014/2015 Premier Winter 2025\nGame Type: Regular\
 nGame Status: Complete\nHome Team: Matadors\nAway Team: DKSC 16B \nHome Sc
 ore: 3\nAway Score: 7
END:VEVENT
BEGIN:VEVENT
UID:16914709@ezleagues.ezfacility.com
DTSTAMP:20260426T035040Z
CREATED:20260426T035040Z
DTSTART:20260113T005000Z
DTEND:20260113T014000Z
LOCATION:Outdoor Field
CONTACT:
SUMMARY:DKSC 16B  VS. Panthers FC
DESCRIPTION:League Name: 2014/2015 Premier Winter 2025\nGame Type: Regular\
 nGame Status: Complete\nHome Team: DKSC 16B \nAway Team: Panthers FC\nHome
  Score: 6\nAway Score: 2
END:VEVENT
BEGIN:VEVENT
UID:16914715@ezleagues.ezfacility.com
DTSTAMP:20260426T035040Z
CREATED:20260426T035040Z
DTSTART:20260120T005000Z
DTEND:20260120T014000Z
LOCATION:Indoor Field
CONTACT:
SUMMARY:Strykers VS. DKSC 16B 
DESCRIPTION:League Name: 2014/2015 Premier Winter 2025\nGame Type: Regular\
 nGame Status: Complete\nHome Team: Strykers\nAway Team: DKSC 16B \nHome Sc
 ore: 1\nAway Score: 14
END:VEVENT
BEGIN:VEVENT
UID:16914727@ezleagues.ezfacility.com
DTSTAMP:20260426T035040Z
CREATED:20260426T035040Z
DTSTART:20260204T000000Z
DTEND:20260204T005000Z
LOCATION:Indoor Field
CONTACT:
SUMMARY:EP-FC B VS. DKSC 16B 
DESCRIPTION:League Name: 2014/2015 Premier Winter 2025\nGame Type: Regular\
 nGame Status: Complete\nHome Team: EP-FC B\nAway Team: DKSC 16B \nHome Sco
 re: 6\nAway Score: 4
END:VEVENT
BEGIN:VEVENT
UID:16914733@ezleagues.ezfacility.com
DTSTAMP:20260426T035040Z
CREATED:20260426T035040Z
DTSTART:20260217T014000Z
DTEND:20260217T023000Z
LOCATION:Indoor Field
CONTACT:
SUMMARY:DKSC 16B  VS. Olympia B
DESCRIPTION:League Name: 2014/2015 Premier Winter 2025\nGame Type: Regular\
 nGame Status: Complete\nHome Team: DKSC 16B \nAway Team: Olympia B\nHome S
 core: 4\nAway Score: 6
END:VEVENT
BEGIN:VEVENT
UID:17022938@ezleagues.ezfacility.com
DTSTAMP:20260426T035040Z
CREATED:20260426T035040Z
DTSTART:20260309T235000Z
DTEND:20260310T004000Z
LOCATION:Indoor Field
CONTACT:
SUMMARY:DKSC 16B  VS. Matadors
DESCRIPTION:League Name: 2014/2015 Premier Winter 2025\nGame Type: Postseas
 on\nGame Status: Pending\nHome Team: DKSC 16B \nAway Team: Matadors\n
END:VEVENT
END:VCALENDAR
