BEGIN:VCALENDAR
VERSION:2.0
PRODID:-//EZFacility.com, Inc.//EZL 2.5.5.28621
BEGIN:VEVENT
UID:16914691@ezleagues.ezfacility.com
DTSTAMP:20260426T034918Z
CREATED:20260426T034918Z
DTSTART:20251223T000000Z
DTEND:20251223T005000Z
LOCATION:Indoor Field
CONTACT:
SUMMARY:Gold Rush VS. DKSC 16B 
DESCRIPTION:League Name: 2014/2015 Premier Winter 2025\nGame Type: Regular\
 nGame Status: Complete\nHome Team: Gold Rush\nAway Team: DKSC 16B \nHome S
 core: 1\nAway Score: 18
END:VEVENT
BEGIN:VEVENT
UID:16914698@ezleagues.ezfacility.com
DTSTAMP:20260426T034918Z
CREATED:20260426T034918Z
DTSTART:20251231T000000Z
DTEND:20251231T005000Z
LOCATION:Indoor Field
CONTACT:
SUMMARY:Matadors VS. Gold Rush
DESCRIPTION:League Name: 2014/2015 Premier Winter 2025\nGame Type: Regular\
 nGame Status: Complete\nHome Team: Matadors\nAway Team: Gold Rush\nHome Sc
 ore: 24\nAway Score: 3
END:VEVENT
BEGIN:VEVENT
UID:16914712@ezleagues.ezfacility.com
DTSTAMP:20260426T034918Z
CREATED:20260426T034918Z
DTSTART:20260114T000000Z
DTEND:20260114T005000Z
LOCATION:Outdoor Field
CONTACT:
SUMMARY:EP-FC B VS. Gold Rush
DESCRIPTION:League Name: 2014/2015 Premier Winter 2025\nGame Type: Regular\
 nGame Status: Complete\nHome Team: EP-FC B\nAway Team: Gold Rush\nHome Sco
 re: 21\nAway Score: 3
END:VEVENT
BEGIN:VEVENT
UID:16914719@ezleagues.ezfacility.com
DTSTAMP:20260426T034918Z
CREATED:20260426T034918Z
DTSTART:20260120T000000Z
DTEND:20260120T005000Z
LOCATION:Indoor Field
CONTACT:
SUMMARY:Gold Rush VS. Marshall FC
DESCRIPTION:League Name: 2014/2015 Premier Winter 2025\nGame Type: Regular\
 nGame Status: Complete\nHome Team: Gold Rush\nAway Team: Marshall FC\nHome
  Score: 2\nAway Score: 24
END:VEVENT
BEGIN:VEVENT
UID:16914732@ezleagues.ezfacility.com
DTSTAMP:20260426T034918Z
CREATED:20260426T034918Z
DTSTART:20260203T000000Z
DTEND:20260203T005000Z
LOCATION:Indoor Field
CONTACT:
SUMMARY:Mambas VS. Gold Rush
DESCRIPTION:League Name: 2014/2015 Premier Winter 2025\nGame Type: Regular\
 nGame Status: Complete\nHome Team: Mambas\nAway Team: Gold Rush\nHome Scor
 e: 16\nAway Score: 8
END:VEVENT
BEGIN:VEVENT
UID:16914737@ezleagues.ezfacility.com
DTSTAMP:20260426T034918Z
CREATED:20260426T034918Z
DTSTART:20260211T000000Z
DTEND:20260211T005000Z
LOCATION:Indoor Field
CONTACT:
SUMMARY:Gold Rush VS. Panthers FC
DESCRIPTION:League Name: 2014/2015 Premier Winter 2025\nGame Type: Regular\
 nGame Status: Complete\nHome Team: Gold Rush\nAway Team: Panthers FC\nHome
  Score: 5\nAway Score: 21
END:VEVENT
BEGIN:VEVENT
UID:16914726@ezleagues.ezfacility.com
DTSTAMP:20260426T034918Z
CREATED:20260426T034918Z
DTSTART:20260224T000000Z
DTEND:20260224T005000Z
LOCATION:Indoor Field
CONTACT:
SUMMARY:East Texas United SC 16B VS. Gold Rush
DESCRIPTION:League Name: 2014/2015 Premier Winter 2025\nGame Type: Regular\
 nGame Status: Complete\nHome Team: East Texas United SC 16B\nAway Team: Go
 ld Rush\nHome Score: 21\nAway Score: 5
END:VEVENT
END:VCALENDAR
