BEGIN:VCALENDAR
VERSION:2.0
PRODID:-//EZFacility.com, Inc.//EZL 2.5.5.28621
BEGIN:VEVENT
UID:16915285@ezleagues.ezfacility.com
DTSTAMP:20260426T034820Z
CREATED:20260426T034820Z
DTSTART:20260113T000000Z
DTEND:20260113T010000Z
LOCATION:Turf Field
CONTACT:Evans
SUMMARY:The Betty's VS. Kicks  Giggles
DESCRIPTION:League Name: Winter 2026 Women's Soccer\nGame Type: Regular\nGa
 me Status: Complete\nHome Team: The Betty's\nAway Team: Kicks  Giggles\nHo
 me Score: 0\nAway Score: 4
END:VEVENT
BEGIN:VEVENT
UID:16915288@ezleagues.ezfacility.com
DTSTAMP:20260426T034820Z
CREATED:20260426T034820Z
DTSTART:20260120T020000Z
DTEND:20260120T030000Z
LOCATION:Turf Field
CONTACT:
SUMMARY:Hooligans VS. The Betty's
DESCRIPTION:League Name: Winter 2026 Women's Soccer\nGame Type: Regular\nGa
 me Status: Rescheduled\nHome Team: Hooligans\nAway Team: The Betty's\n
END:VEVENT
BEGIN:VEVENT
UID:16915291@ezleagues.ezfacility.com
DTSTAMP:20260426T034820Z
CREATED:20260426T034820Z
DTSTART:20260127T010000Z
DTEND:20260127T020000Z
LOCATION:Turf Field
CONTACT:Evans
SUMMARY:The Betty's VS. Woman in Black
DESCRIPTION:League Name: Winter 2026 Women's Soccer\nGame Type: Regular\nGa
 me Status: Complete\nHome Team: The Betty's\nAway Team: Woman in Black\nHo
 me Score: 0\nAway Score: 2
END:VEVENT
BEGIN:VEVENT
UID:16915294@ezleagues.ezfacility.com
DTSTAMP:20260426T034820Z
CREATED:20260426T034820Z
DTSTART:20260203T010000Z
DTEND:20260203T020000Z
LOCATION:Turf Field
CONTACT:Evans
SUMMARY:The Betty's VS. Misfits
DESCRIPTION:League Name: Winter 2026 Women's Soccer\nGame Type: Regular\nGa
 me Status: Complete\nHome Team: The Betty's\nAway Team: Misfits\nHome Scor
 e: 0\nAway Score: 6
END:VEVENT
BEGIN:VEVENT
UID:16915299@ezleagues.ezfacility.com
DTSTAMP:20260426T034820Z
CREATED:20260426T034820Z
DTSTART:20260210T000000Z
DTEND:20260210T010000Z
LOCATION:Turf Field
CONTACT:Evans
SUMMARY:The Ladybugs VS. The Betty's
DESCRIPTION:League Name: Winter 2026 Women's Soccer\nGame Type: Regular\nGa
 me Status: Complete\nHome Team: The Ladybugs\nAway Team: The Betty's\nHome
  Score: 5\nAway Score: 0
END:VEVENT
BEGIN:VEVENT
UID:16915304@ezleagues.ezfacility.com
DTSTAMP:20260426T034820Z
CREATED:20260426T034820Z
DTSTART:20260217T010000Z
DTEND:20260217T020000Z
LOCATION:Turf Field
CONTACT:Evans
SUMMARY:The Betty's VS. Purple Crush
DESCRIPTION:League Name: Winter 2026 Women's Soccer\nGame Type: Regular\nGa
 me Status: Complete\nHome Team: The Betty's\nAway Team: Purple Crush\nHome
  Score: 0\nAway Score: 4
END:VEVENT
BEGIN:VEVENT
UID:16915313@ezleagues.ezfacility.com
DTSTAMP:20260426T034820Z
CREATED:20260426T034820Z
DTSTART:20260303T020000Z
DTEND:20260303T030000Z
LOCATION:Turf Field
CONTACT:Evans
SUMMARY:Kicks  Giggles VS. The Betty's
DESCRIPTION:League Name: Winter 2026 Women's Soccer\nGame Type: Regular\nGa
 me Status: Complete\nHome Team: Kicks  Giggles\nAway Team: The Betty's\nHo
 me Score: 4\nAway Score: 1
END:VEVENT
BEGIN:VEVENT
UID:16915316@ezleagues.ezfacility.com
DTSTAMP:20260426T034820Z
CREATED:20260426T034820Z
DTSTART:20260310T010000Z
DTEND:20260310T020000Z
LOCATION:Turf Field
CONTACT:Evans
SUMMARY:The Betty's VS. Hooligans
DESCRIPTION:League Name: Winter 2026 Women's Soccer\nGame Type: Regular\nGa
 me Status: Complete\nHome Team: The Betty's\nAway Team: Hooligans\nHome Sc
 ore: 0\nAway Score: 9
END:VEVENT
BEGIN:VEVENT
UID:16915319@ezleagues.ezfacility.com
DTSTAMP:20260426T034820Z
CREATED:20260426T034820Z
DTSTART:20260316T230000Z
DTEND:20260317T000000Z
LOCATION:Turf Field
CONTACT:Evans
SUMMARY:Woman in Black VS. The Betty's
DESCRIPTION:League Name: Winter 2026 Women's Soccer\nGame Type: Regular\nGa
 me Status: Complete\nHome Team: Woman in Black\nAway Team: The Betty's\nHo
 me Score: 5\nAway Score: 0
END:VEVENT
BEGIN:VEVENT
UID:16915352@ezleagues.ezfacility.com
DTSTAMP:20260426T034820Z
CREATED:20260426T034820Z
DTSTART:20260318T230000Z
DTEND:20260319T000000Z
LOCATION:Turf Field
CONTACT:Bell
SUMMARY:The Betty's VS. The Ladybugs
DESCRIPTION:League Name: Winter 2026 Women's Soccer\nGame Type: Regular\nGa
 me Status: Complete\nHome Team: The Betty's\nAway Team: The Ladybugs\nHome
  Score: 2\nAway Score: 3
END:VEVENT
BEGIN:VEVENT
UID:16915322@ezleagues.ezfacility.com
DTSTAMP:20260426T034820Z
CREATED:20260426T034820Z
DTSTART:20260324T010000Z
DTEND:20260324T020000Z
LOCATION:Turf Field
CONTACT:Evans
SUMMARY:Misfits VS. The Betty's
DESCRIPTION:League Name: Winter 2026 Women's Soccer\nGame Type: Regular\nGa
 me Status: Complete\nHome Team: Misfits\nAway Team: The Betty's\nHome Scor
 e: 7\nAway Score: 1
END:VEVENT
BEGIN:VEVENT
UID:16915327@ezleagues.ezfacility.com
DTSTAMP:20260426T034820Z
CREATED:20260426T034820Z
DTSTART:20260330T230000Z
DTEND:20260331T000000Z
LOCATION:Turf Field
CONTACT:Evans
SUMMARY:The Betty's VS. The Ladybugs
DESCRIPTION:League Name: Winter 2026 Women's Soccer\nGame Type: Regular\nGa
 me Status: Complete\nHome Team: The Betty's\nAway Team: The Ladybugs\nHome
  Score: 1\nAway Score: 5
END:VEVENT
BEGIN:VEVENT
UID:16915332@ezleagues.ezfacility.com
DTSTAMP:20260426T034820Z
CREATED:20260426T034820Z
DTSTART:20260407T010000Z
DTEND:20260407T020000Z
LOCATION:Turf Field
CONTACT:Evans
SUMMARY:Purple Crush VS. The Betty's
DESCRIPTION:League Name: Winter 2026 Women's Soccer\nGame Type: Regular\nGa
 me Status: Complete\nHome Team: Purple Crush\nAway Team: The Betty's\nHome
  Score: 7\nAway Score: 1
END:VEVENT
BEGIN:VEVENT
UID:16915341@ezleagues.ezfacility.com
DTSTAMP:20260426T034820Z
CREATED:20260426T034820Z
DTSTART:20260421T000000Z
DTEND:20260421T010000Z
LOCATION:Turf Field
CONTACT:Evans
SUMMARY:The Betty's VS. Kicks  Giggles
DESCRIPTION:League Name: Winter 2026 Women's Soccer\nGame Type: Regular\nGa
 me Status: Complete\nHome Team: The Betty's\nAway Team: Kicks  Giggles\nHo
 me Score: 1\nAway Score: 4
END:VEVENT
BEGIN:VEVENT
UID:16974146@ezleagues.ezfacility.com
DTSTAMP:20260426T034820Z
CREATED:20260426T034820Z
DTSTART:20260428T010000Z
DTEND:20260428T020000Z
LOCATION:Turf Field
CONTACT:Evans
SUMMARY:Hooligans VS. The Betty's
DESCRIPTION:League Name: Winter 2026 Women's Soccer\nGame Type: Regular\nGa
 me Status: Pending\nHome Team: Hooligans\nAway Team: The Betty's\n
END:VEVENT
END:VCALENDAR
