BEGIN:VCALENDAR
VERSION:2.0
PRODID:-//EZFacility.com, Inc.//EZL 2.5.5.28621
BEGIN:VEVENT
UID:16915776@ezleagues.ezfacility.com
DTSTAMP:20260424T041410Z
CREATED:20260424T041410Z
DTSTART:20260103T191500Z
DTEND:20260103T200000Z
LOCATION:Turf Field A
CONTACT:
SUMMARY:Roma FC 2015B Blue VS. CUSC 2015B Select FF
DESCRIPTION:League Name: RSL U11 Boys Blue Division\nGame Type: Regular\nGa
 me Status: Complete\nHome Team: Roma FC 2015B Blue\nAway Team: CUSC 2015B 
 Select FF\nHome Score: 5\nAway Score: 0
END:VEVENT
BEGIN:VEVENT
UID:16915777@ezleagues.ezfacility.com
DTSTAMP:20260424T041410Z
CREATED:20260424T041410Z
DTSTART:20260103T200000Z
DTEND:20260103T204500Z
LOCATION:Turf Field B
CONTACT:
SUMMARY:CUSC 2015B Select FF VS. Manteno FC 2015B
DESCRIPTION:League Name: RSL U11 Boys Blue Division\nGame Type: Regular\nGa
 me Status: Complete\nHome Team: CUSC 2015B Select FF\nAway Team: Manteno F
 C 2015B\nHome Score: 1\nAway Score: 3
END:VEVENT
BEGIN:VEVENT
UID:16915781@ezleagues.ezfacility.com
DTSTAMP:20260424T041410Z
CREATED:20260424T041410Z
DTSTART:20260117T161500Z
DTEND:20260117T170000Z
LOCATION:Turf Field B
CONTACT:
SUMMARY:Roma FC 2015B Blue VS. CUSC 2015B Select FF
DESCRIPTION:League Name: RSL U11 Boys Blue Division\nGame Type: Regular\nGa
 me Status: Complete\nHome Team: Roma FC 2015B Blue\nAway Team: CUSC 2015B 
 Select FF\nHome Score: 5\nAway Score: 0
END:VEVENT
BEGIN:VEVENT
UID:16915782@ezleagues.ezfacility.com
DTSTAMP:20260424T041410Z
CREATED:20260424T041410Z
DTSTART:20260124T161500Z
DTEND:20260124T170000Z
LOCATION:Turf Field B
CONTACT:
SUMMARY:CUSC 2015B Select FF VS. AYSO Romeoville 2015/2016B Gray
DESCRIPTION:League Name: RSL U11 Boys Blue Division\nGame Type: Regular\nGa
 me Status: Complete\nHome Team: CUSC 2015B Select FF\nAway Team: AYSO Rome
 oville 2015/2016B Gray\nHome Score: 2\nAway Score: 1
END:VEVENT
BEGIN:VEVENT
UID:16915784@ezleagues.ezfacility.com
DTSTAMP:20260424T041410Z
CREATED:20260424T041410Z
DTSTART:20260131T144500Z
DTEND:20260131T153000Z
LOCATION:Turf Field A
CONTACT:
SUMMARY:CUSC 2015B Select FF VS. AYSO Romeoville 2015/2016B Gray
DESCRIPTION:League Name: RSL U11 Boys Blue Division\nGame Type: Regular\nGa
 me Status: Complete\nHome Team: CUSC 2015B Select FF\nAway Team: AYSO Rome
 oville 2015/2016B Gray\nHome Score: 3\nAway Score: 0
END:VEVENT
BEGIN:VEVENT
UID:16915785@ezleagues.ezfacility.com
DTSTAMP:20260424T041410Z
CREATED:20260424T041410Z
DTSTART:20260131T161500Z
DTEND:20260131T170000Z
LOCATION:Turf Field A
CONTACT:
SUMMARY:CUSC 2015B Select FF VS. Storm SC 2015B Blue
DESCRIPTION:League Name: RSL U11 Boys Blue Division\nGame Type: Regular\nGa
 me Status: Complete\nHome Team: CUSC 2015B Select FF\nAway Team: Storm SC 
 2015B Blue\nHome Score: 2\nAway Score: 5
END:VEVENT
BEGIN:VEVENT
UID:16915786@ezleagues.ezfacility.com
DTSTAMP:20260424T041410Z
CREATED:20260424T041410Z
DTSTART:20260207T170000Z
DTEND:20260207T174500Z
LOCATION:Turf Field B
CONTACT:
SUMMARY:CUSC 2015B Select FF VS. Storm SC 2015B Blue
DESCRIPTION:League Name: RSL U11 Boys Blue Division\nGame Type: Regular\nGa
 me Status: Complete\nHome Team: CUSC 2015B Select FF\nAway Team: Storm SC 
 2015B Blue\nHome Score: 1\nAway Score: 2
END:VEVENT
BEGIN:VEVENT
UID:16915790@ezleagues.ezfacility.com
DTSTAMP:20260424T041410Z
CREATED:20260424T041410Z
DTSTART:20260214T191500Z
DTEND:20260214T200000Z
LOCATION:Turf Field B
CONTACT:
SUMMARY:CUSC 2015B Select FF VS. Manteno FC 2015B
DESCRIPTION:League Name: RSL U11 Boys Blue Division\nGame Type: Regular\nGa
 me Status: Complete\nHome Team: CUSC 2015B Select FF\nAway Team: Manteno F
 C 2015B\nHome Score: 2\nAway Score: 2
END:VEVENT
END:VCALENDAR
