BEGIN:VCALENDAR
VERSION:2.0
PRODID:-//EZFacility.com, Inc.//EZL 2.5.5.28621
BEGIN:VEVENT
UID:16915777@ezleagues.ezfacility.com
DTSTAMP:20260424T041438Z
CREATED:20260424T041438Z
DTSTART:20260103T200000Z
DTEND:20260103T204500Z
LOCATION:Turf Field B
CONTACT:
SUMMARY:CUSC 2015B Select FF VS. Manteno FC 2015B
DESCRIPTION:League Name: RSL U11 Boys Blue Division\nGame Type: Regular\nGa
 me Status: Complete\nHome Team: CUSC 2015B Select FF\nAway Team: Manteno F
 C 2015B\nHome Score: 1\nAway Score: 3
END:VEVENT
BEGIN:VEVENT
UID:16915779@ezleagues.ezfacility.com
DTSTAMP:20260424T041438Z
CREATED:20260424T041438Z
DTSTART:20260110T204500Z
DTEND:20260110T213000Z
LOCATION:Turf Field A
CONTACT:
SUMMARY:Manteno FC 2015B VS. AYSO Romeoville 2015/2016B Gray
DESCRIPTION:League Name: RSL U11 Boys Blue Division\nGame Type: Regular\nGa
 me Status: Complete\nHome Team: Manteno FC 2015B\nAway Team: AYSO Romeovil
 le 2015/2016B Gray\nHome Score: 7\nAway Score: 2
END:VEVENT
BEGIN:VEVENT
UID:16915780@ezleagues.ezfacility.com
DTSTAMP:20260424T041438Z
CREATED:20260424T041438Z
DTSTART:20260117T140000Z
DTEND:20260117T144500Z
LOCATION:Turf Field B
CONTACT:
SUMMARY:Manteno FC 2015B VS. Storm SC 2015B Blue
DESCRIPTION:League Name: RSL U11 Boys Blue Division\nGame Type: Regular\nGa
 me Status: Complete\nHome Team: Manteno FC 2015B\nAway Team: Storm SC 2015
 B Blue\nHome Score: 2\nAway Score: 0
END:VEVENT
BEGIN:VEVENT
UID:16915783@ezleagues.ezfacility.com
DTSTAMP:20260424T041438Z
CREATED:20260424T041438Z
DTSTART:20260124T204500Z
DTEND:20260124T213000Z
LOCATION:Turf Field B
CONTACT:
SUMMARY:Roma FC 2015B Blue VS. Manteno FC 2015B
DESCRIPTION:League Name: RSL U11 Boys Blue Division\nGame Type: Regular\nGa
 me Status: Complete\nHome Team: Roma FC 2015B Blue\nAway Team: Manteno FC 
 2015B\nHome Score: 5\nAway Score: 2
END:VEVENT
BEGIN:VEVENT
UID:16915789@ezleagues.ezfacility.com
DTSTAMP:20260424T041438Z
CREATED:20260424T041438Z
DTSTART:20260214T174500Z
DTEND:20260214T183000Z
LOCATION:Turf Field B
CONTACT:
SUMMARY:Roma FC 2015B Blue VS. Manteno FC 2015B
DESCRIPTION:League Name: RSL U11 Boys Blue Division\nGame Type: Regular\nGa
 me Status: Complete\nHome Team: Roma FC 2015B Blue\nAway Team: Manteno FC 
 2015B\nHome Score: 1\nAway Score: 1
END:VEVENT
BEGIN:VEVENT
UID:16915790@ezleagues.ezfacility.com
DTSTAMP:20260424T041438Z
CREATED:20260424T041438Z
DTSTART:20260214T191500Z
DTEND:20260214T200000Z
LOCATION:Turf Field B
CONTACT:
SUMMARY:CUSC 2015B Select FF VS. Manteno FC 2015B
DESCRIPTION:League Name: RSL U11 Boys Blue Division\nGame Type: Regular\nGa
 me Status: Complete\nHome Team: CUSC 2015B Select FF\nAway Team: Manteno F
 C 2015B\nHome Score: 2\nAway Score: 2
END:VEVENT
BEGIN:VEVENT
UID:16915792@ezleagues.ezfacility.com
DTSTAMP:20260424T041438Z
CREATED:20260424T041438Z
DTSTART:20260221T204500Z
DTEND:20260221T213000Z
LOCATION:Turf Field B
CONTACT:
SUMMARY:Manteno FC 2015B VS. AYSO Romeoville 2015/2016B Gray
DESCRIPTION:League Name: RSL U11 Boys Blue Division\nGame Type: Regular\nGa
 me Status: Complete\nHome Team: Manteno FC 2015B\nAway Team: AYSO Romeovil
 le 2015/2016B Gray\nHome Score: 2\nAway Score: 1
END:VEVENT
BEGIN:VEVENT
UID:16915796@ezleagues.ezfacility.com
DTSTAMP:20260424T041438Z
CREATED:20260424T041438Z
DTSTART:20260228T204500Z
DTEND:20260228T213000Z
LOCATION:Turf Field B
CONTACT:
SUMMARY:Manteno FC 2015B VS. Storm SC 2015B Blue
DESCRIPTION:League Name: RSL U11 Boys Blue Division\nGame Type: Regular\nGa
 me Status: Complete\nHome Team: Manteno FC 2015B\nAway Team: Storm SC 2015
 B Blue\nHome Score: 0\nAway Score: 4
END:VEVENT
END:VCALENDAR
