BEGIN:VCALENDAR
VERSION:2.0
PRODID:-//EZFacility.com, Inc.//EZL 2.5.5.28621
BEGIN:VEVENT
UID:16917236@ezleagues.ezfacility.com
DTSTAMP:20260419T150302Z
CREATED:20260419T150302Z
DTSTART:20260108T204500Z
DTEND:20260108T213000Z
LOCATION:Pitch 3
CONTACT:
SUMMARY:Crystal Phallus VS. 5 Big Corys
DESCRIPTION:League Name: Thursday Championship\nGame Type: Regular\nGame St
 atus: Complete\nHome Team: Crystal Phallus\nAway Team: 5 Big Corys\nHome S
 core: 9\nAway Score: 7
END:VEVENT
BEGIN:VEVENT
UID:16917240@ezleagues.ezfacility.com
DTSTAMP:20260419T150302Z
CREATED:20260419T150302Z
DTSTART:20260115T191500Z
DTEND:20260115T200000Z
LOCATION:Pitch 3
CONTACT:
SUMMARY:Crystal Phallus VS. Unathletico Madrid
DESCRIPTION:League Name: Thursday Championship\nGame Type: Regular\nGame St
 atus: Complete\nHome Team: Crystal Phallus\nAway Team: Unathletico Madrid\
 nHome Score: 10\nAway Score: 8
END:VEVENT
BEGIN:VEVENT
UID:16917244@ezleagues.ezfacility.com
DTSTAMP:20260419T150302Z
CREATED:20260419T150302Z
DTSTART:20260122T200000Z
DTEND:20260122T204500Z
LOCATION:Pitch 3
CONTACT:
SUMMARY:Crystal Phallus VS. Out On Bale
DESCRIPTION:League Name: Thursday Championship\nGame Type: Regular\nGame St
 atus: Complete\nHome Team: Crystal Phallus\nAway Team: Out On Bale\nHome S
 core: 14\nAway Score: 6
END:VEVENT
BEGIN:VEVENT
UID:16917248@ezleagues.ezfacility.com
DTSTAMP:20260419T150302Z
CREATED:20260419T150302Z
DTSTART:20260129T200000Z
DTEND:20260129T204500Z
LOCATION:Pitch 3
CONTACT:
SUMMARY:Crystal Phallus VS. AFC West End
DESCRIPTION:League Name: Thursday Championship\nGame Type: Regular\nGame St
 atus: Complete\nHome Team: Crystal Phallus\nAway Team: AFC West End\nHome 
 Score: 17\nAway Score: 8
END:VEVENT
BEGIN:VEVENT
UID:16917252@ezleagues.ezfacility.com
DTSTAMP:20260419T150302Z
CREATED:20260419T150302Z
DTSTART:20260205T200000Z
DTEND:20260205T204500Z
LOCATION:Pitch 3
CONTACT:
SUMMARY:Crystal Phallus VS. Real Pendle
DESCRIPTION:League Name: Thursday Championship\nGame Type: Regular\nGame St
 atus: Complete\nHome Team: Crystal Phallus\nAway Team: Real Pendle\nHome S
 core: 20\nAway Score: 6
END:VEVENT
BEGIN:VEVENT
UID:16917256@ezleagues.ezfacility.com
DTSTAMP:20260419T150302Z
CREATED:20260419T150302Z
DTSTART:20260212T183000Z
DTEND:20260212T191500Z
LOCATION:Pitch 3
CONTACT:
SUMMARY:Crystal Phallus VS. LJT FC
DESCRIPTION:League Name: Thursday Championship\nGame Type: Regular\nGame St
 atus: Complete\nHome Team: Crystal Phallus\nAway Team: LJT FC\nHome Score:
  5\nAway Score: 0
END:VEVENT
BEGIN:VEVENT
UID:16917268@ezleagues.ezfacility.com
DTSTAMP:20260419T150302Z
CREATED:20260419T150302Z
DTSTART:20260212T200000Z
DTEND:20260212T204500Z
LOCATION:Pitch 3
CONTACT:
SUMMARY:Unathletico Madrid VS. Crystal Phallus
DESCRIPTION:League Name: Thursday Championship\nGame Type: Regular\nGame St
 atus: Complete\nHome Team: Unathletico Madrid\nAway Team: Crystal Phallus\
 nHome Score: 10\nAway Score: 11
END:VEVENT
BEGIN:VEVENT
UID:16917260@ezleagues.ezfacility.com
DTSTAMP:20260419T150302Z
CREATED:20260419T150302Z
DTSTART:20260219T200000Z
DTEND:20260219T204500Z
LOCATION:Pitch 3
CONTACT:
SUMMARY:Crystal Phallus VS. Raiders Elite
DESCRIPTION:League Name: Thursday Championship\nGame Type: Regular\nGame St
 atus: Complete\nHome Team: Crystal Phallus\nAway Team: Raiders Elite\nHome
  Score: 0\nAway Score: 5
END:VEVENT
BEGIN:VEVENT
UID:16917264@ezleagues.ezfacility.com
DTSTAMP:20260419T150302Z
CREATED:20260419T150302Z
DTSTART:20260226T200000Z
DTEND:20260226T204500Z
LOCATION:Pitch 3
CONTACT:
SUMMARY:5 Big Corys VS. Crystal Phallus
DESCRIPTION:League Name: Thursday Championship\nGame Type: Regular\nGame St
 atus: Complete\nHome Team: 5 Big Corys\nAway Team: Crystal Phallus\nHome S
 core: 6\nAway Score: 16
END:VEVENT
BEGIN:VEVENT
UID:16917272@ezleagues.ezfacility.com
DTSTAMP:20260419T150302Z
CREATED:20260419T150302Z
DTSTART:20260312T200000Z
DTEND:20260312T204500Z
LOCATION:Pitch 3
CONTACT:
SUMMARY:Out On Bale VS. Crystal Phallus
DESCRIPTION:League Name: Thursday Championship\nGame Type: Regular\nGame St
 atus: Complete\nHome Team: Out On Bale\nAway Team: Crystal Phallus\nHome S
 core: 10\nAway Score: 11
END:VEVENT
BEGIN:VEVENT
UID:16917276@ezleagues.ezfacility.com
DTSTAMP:20260419T150302Z
CREATED:20260419T150302Z
DTSTART:20260319T200000Z
DTEND:20260319T204500Z
LOCATION:Pitch 3
CONTACT:
SUMMARY:AFC West End VS. Crystal Phallus
DESCRIPTION:League Name: Thursday Championship\nGame Type: Regular\nGame St
 atus: Complete\nHome Team: AFC West End\nAway Team: Crystal Phallus\nHome 
 Score: 6\nAway Score: 17
END:VEVENT
BEGIN:VEVENT
UID:16917288@ezleagues.ezfacility.com
DTSTAMP:20260419T150302Z
CREATED:20260419T150302Z
DTSTART:20260402T190000Z
DTEND:20260402T194500Z
LOCATION:Pitch 3
CONTACT:
SUMMARY:Raiders Elite VS. Crystal Phallus
DESCRIPTION:League Name: Thursday Championship\nGame Type: Regular\nGame St
 atus: Complete\nHome Team: Raiders Elite\nAway Team: Crystal Phallus\nHome
  Score: 8\nAway Score: 5
END:VEVENT
BEGIN:VEVENT
UID:16917284@ezleagues.ezfacility.com
DTSTAMP:20260419T150302Z
CREATED:20260419T150302Z
DTSTART:20260416T190000Z
DTEND:20260416T194500Z
LOCATION:Pitch 3
CONTACT:
SUMMARY:LJT FC VS. Crystal Phallus
DESCRIPTION:League Name: Thursday Championship\nGame Type: Regular\nGame St
 atus: Complete\nHome Team: LJT FC\nAway Team: Crystal Phallus\nHome Score:
  5\nAway Score: 23
END:VEVENT
BEGIN:VEVENT
UID:16917280@ezleagues.ezfacility.com
DTSTAMP:20260419T150302Z
CREATED:20260419T150302Z
DTSTART:20260423T190000Z
DTEND:20260423T194500Z
LOCATION:Pitch 4
CONTACT:
SUMMARY:Real Pendle VS. Crystal Phallus
DESCRIPTION:League Name: Thursday Championship\nGame Type: Regular\nGame St
 atus: Pending\nHome Team: Real Pendle\nAway Team: Crystal Phallus\n
END:VEVENT
END:VCALENDAR
