BEGIN:VCALENDAR
VERSION:2.0
PRODID:-//EZFacility.com, Inc.//EZL 2.5.5.28621
BEGIN:VEVENT
UID:16922366@ezleagues.ezfacility.com
DTSTAMP:20260423T192856Z
CREATED:20260423T192856Z
DTSTART:20260104T031500Z
DTEND:20260104T040000Z
LOCATION:Field 1
CONTACT:Lombas 
SUMMARY:Santa Cruz United 2012G Blue VS. SC United 2012G Gray 
DESCRIPTION:League Name: Youth League - Girls 2011/2012\nGame Type: Regular
 \nGame Status: Complete\nHome Team: Santa Cruz United 2012G Blue\nAway Tea
 m: SC United 2012G Gray \nHome Score: 12\nAway Score: 1
END:VEVENT
BEGIN:VEVENT
UID:16922370@ezleagues.ezfacility.com
DTSTAMP:20260423T192856Z
CREATED:20260423T192856Z
DTSTART:20260111T010000Z
DTEND:20260111T014500Z
LOCATION:Field 2
CONTACT:Enrique 
SUMMARY:Chicas FC VS. SC United 2012G Gray 
DESCRIPTION:League Name: Youth League - Girls 2011/2012\nGame Type: Regular
 \nGame Status: Complete\nHome Team: Chicas FC\nAway Team: SC United 2012G 
 Gray \nHome Score: 5\nAway Score: 2
END:VEVENT
BEGIN:VEVENT
UID:16922374@ezleagues.ezfacility.com
DTSTAMP:20260423T192856Z
CREATED:20260423T192856Z
DTSTART:20260118T040000Z
DTEND:20260118T044500Z
LOCATION:Field 1
CONTACT:Andrade
SUMMARY:PV United12G VS. SC United 2012G Gray 
DESCRIPTION:League Name: Youth League - Girls 2011/2012\nGame Type: Regular
 \nGame Status: Complete\nHome Team: PV United12G\nAway Team: SC United 201
 2G Gray \nHome Score: 3\nAway Score: 0
END:VEVENT
BEGIN:VEVENT
UID:16922378@ezleagues.ezfacility.com
DTSTAMP:20260423T192856Z
CREATED:20260423T192856Z
DTSTART:20260124T231500Z
DTEND:20260125T000000Z
LOCATION:Field 1
CONTACT:JLuis 
SUMMARY:Brujitas 2012 VS. SC United 2012G Gray 
DESCRIPTION:League Name: Youth League - Girls 2011/2012\nGame Type: Regular
 \nGame Status: Complete\nHome Team: Brujitas 2012\nAway Team: SC United 20
 12G Gray \nHome Score: 12\nAway Score: 1
END:VEVENT
BEGIN:VEVENT
UID:16922384@ezleagues.ezfacility.com
DTSTAMP:20260423T192856Z
CREATED:20260423T192856Z
DTSTART:20260201T023000Z
DTEND:20260201T031500Z
LOCATION:Field 1
CONTACT:
SUMMARY:SC United 2012G Gray  VS. SC Jaws 2012 Blue
DESCRIPTION:League Name: Youth League - Girls 2011/2012\nGame Type: Regular
 \nGame Status: Complete\nHome Team: SC United 2012G Gray \nAway Team: SC J
 aws 2012 Blue\nHome Score: 0\nAway Score: 5
END:VEVENT
BEGIN:VEVENT
UID:16922390@ezleagues.ezfacility.com
DTSTAMP:20260423T192856Z
CREATED:20260423T192856Z
DTSTART:20260208T023000Z
DTEND:20260208T031500Z
LOCATION:Field 1
CONTACT:Lombas 
SUMMARY:SC United 2012G Gray  VS. Penguins 
DESCRIPTION:League Name: Youth League - Girls 2011/2012\nGame Type: Regular
 \nGame Status: Complete\nHome Team: SC United 2012G Gray \nAway Team: Peng
 uins \nHome Score: 6\nAway Score: 6
END:VEVENT
BEGIN:VEVENT
UID:16922396@ezleagues.ezfacility.com
DTSTAMP:20260423T192856Z
CREATED:20260423T192856Z
DTSTART:20260215T004500Z
DTEND:20260215T013000Z
LOCATION:Field 1
CONTACT:
SUMMARY:SC United 2012G Gray  VS. Monterey Surf G11/12 Academy I
DESCRIPTION:League Name: Youth League - Girls 2011/2012\nGame Type: Regular
 \nGame Status: Complete\nHome Team: SC United 2012G Gray \nAway Team: Mont
 erey Surf G11/12 Academy I\nHome Score: 3\nAway Score: 0
END:VEVENT
BEGIN:VEVENT
UID:16922402@ezleagues.ezfacility.com
DTSTAMP:20260423T192856Z
CREATED:20260423T192856Z
DTSTART:20260222T004500Z
DTEND:20260222T013000Z
LOCATION:Field 1
CONTACT:
SUMMARY:SC United 2012G Gray  VS. SANTA CRUZ UNITED 2012GSOUTH
DESCRIPTION:League Name: Youth League - Girls 2011/2012\nGame Type: Regular
 \nGame Status: Complete\nHome Team: SC United 2012G Gray \nAway Team: SANT
 A CRUZ UNITED 2012GSOUTH\nHome Score: 0\nAway Score: 3
END:VEVENT
END:VCALENDAR
