BEGIN:VCALENDAR
VERSION:2.0
PRODID:-//EZFacility.com, Inc.//EZL 2.5.5.28621
BEGIN:VEVENT
UID:16922186@ezleagues.ezfacility.com
DTSTAMP:20260424T030319Z
CREATED:20260424T030319Z
DTSTART:20260103T194500Z
DTEND:20260103T203000Z
LOCATION:Field 1
CONTACT:Garcia 
SUMMARY:Salinas Earthquakes VS. Santa Cruz Mavericks
DESCRIPTION:League Name: Youth League - Girls 2014\nGame Type: Regular\nGam
 e Status: Complete\nHome Team: Salinas Earthquakes\nAway Team: Santa Cruz 
 Mavericks\nHome Score: 7\nAway Score: 2
END:VEVENT
BEGIN:VEVENT
UID:16922191@ezleagues.ezfacility.com
DTSTAMP:20260424T030319Z
CREATED:20260424T030319Z
DTSTART:20260110T233000Z
DTEND:20260111T001500Z
LOCATION:Field 2
CONTACT:Enrique 
SUMMARY:Pink objections VS. Santa Cruz Mavericks
DESCRIPTION:League Name: Youth League - Girls 2014\nGame Type: Regular\nGam
 e Status: Complete\nHome Team: Pink objections\nAway Team: Santa Cruz Mave
 ricks\nHome Score: 0\nAway Score: 18
END:VEVENT
BEGIN:VEVENT
UID:16922196@ezleagues.ezfacility.com
DTSTAMP:20260424T030319Z
CREATED:20260424T030319Z
DTSTART:20260117T181500Z
DTEND:20260117T190000Z
LOCATION:Field 1
CONTACT:Lombas 
SUMMARY:ECFC 2014 Green VS. Santa Cruz Mavericks
DESCRIPTION:League Name: Youth League - Girls 2014\nGame Type: Regular\nGam
 e Status: Complete\nHome Team: ECFC 2014 Green\nAway Team: Santa Cruz Mave
 ricks\nHome Score: 2\nAway Score: 7
END:VEVENT
BEGIN:VEVENT
UID:16922201@ezleagues.ezfacility.com
DTSTAMP:20260424T030319Z
CREATED:20260424T030319Z
DTSTART:20260124T180000Z
DTEND:20260124T184500Z
LOCATION:Field 1
CONTACT:Lombas 
SUMMARY:Santa Cruz Mavericks VS. LOBITAS 
DESCRIPTION:League Name: Youth League - Girls 2014\nGame Type: Regular\nGam
 e Status: Complete\nHome Team: Santa Cruz Mavericks\nAway Team: LOBITAS \n
 Home Score: 4\nAway Score: 3
END:VEVENT
BEGIN:VEVENT
UID:16922206@ezleagues.ezfacility.com
DTSTAMP:20260424T030319Z
CREATED:20260424T030319Z
DTSTART:20260131T203000Z
DTEND:20260131T211500Z
LOCATION:Field 1
CONTACT:
SUMMARY:Riot VS. Santa Cruz Mavericks
DESCRIPTION:League Name: Youth League - Girls 2014\nGame Type: Regular\nGam
 e Status: Complete\nHome Team: Riot\nAway Team: Santa Cruz Mavericks\nHome
  Score: 1\nAway Score: 18
END:VEVENT
BEGIN:VEVENT
UID:16922211@ezleagues.ezfacility.com
DTSTAMP:20260424T030319Z
CREATED:20260424T030319Z
DTSTART:20260207T190000Z
DTEND:20260207T194500Z
LOCATION:Field 1
CONTACT:Garcia
SUMMARY:Santa Cruz Mavericks VS. Aptos Fog
DESCRIPTION:League Name: Youth League - Girls 2014\nGame Type: Regular\nGam
 e Status: Complete\nHome Team: Santa Cruz Mavericks\nAway Team: Aptos Fog\
 nHome Score: 9\nAway Score: 2
END:VEVENT
BEGIN:VEVENT
UID:16922218@ezleagues.ezfacility.com
DTSTAMP:20260424T030319Z
CREATED:20260424T030319Z
DTSTART:20260214T154500Z
DTEND:20260214T163000Z
LOCATION:Field 1
CONTACT:
SUMMARY:Santa Cruz Mavericks VS. EL CAMINO FC 
DESCRIPTION:League Name: Youth League - Girls 2014\nGame Type: Regular\nGam
 e Status: Complete\nHome Team: Santa Cruz Mavericks\nAway Team: EL CAMINO 
 FC \nHome Score: 2\nAway Score: 4
END:VEVENT
BEGIN:VEVENT
UID:16922225@ezleagues.ezfacility.com
DTSTAMP:20260424T030319Z
CREATED:20260424T030319Z
DTSTART:20260221T184500Z
DTEND:20260221T193000Z
LOCATION:Field 1
CONTACT:
SUMMARY:Santa Cruz Mavericks VS. Hollister United
DESCRIPTION:League Name: Youth League - Girls 2014\nGame Type: Regular\nGam
 e Status: Complete\nHome Team: Santa Cruz Mavericks\nAway Team: Hollister 
 United\nHome Score: 6\nAway Score: 1
END:VEVENT
END:VCALENDAR
