BEGIN:VCALENDAR
VERSION:2.0
PRODID:-//EZFacility.com, Inc.//EZL 2.5.5.28621
BEGIN:VEVENT
UID:16919456@ezleagues.ezfacility.com
DTSTAMP:20260423T103501Z
CREATED:20260423T103501Z
DTSTART:20260103T211500Z
DTEND:20260103T220000Z
LOCATION:Indoor West
CONTACT:
SUMMARY:Impact AA 2015 VS. SSFC Valkyrie 2016 JCH
DESCRIPTION:League Name: Girls 2015 Silver Indoor\nGame Type: Regular\nGame
  Status: Complete\nHome Team: Impact AA 2015\nAway Team: SSFC Valkyrie 201
 6 JCH\nHome Score: 1\nAway Score: 4
END:VEVENT
BEGIN:VEVENT
UID:16919464@ezleagues.ezfacility.com
DTSTAMP:20260423T103501Z
CREATED:20260423T103501Z
DTSTART:20260118T023000Z
DTEND:20260118T031500Z
LOCATION:Indoor East
CONTACT:
SUMMARY:Copper Mountain 16 RC/CB VS. SSFC Valkyrie 2016 JCH
DESCRIPTION:League Name: Girls 2015 Silver Indoor\nGame Type: Regular\nGame
  Status: Complete\nHome Team: Copper Mountain 16 RC/CB\nAway Team: SSFC Va
 lkyrie 2016 JCH\nHome Score: 2\nAway Score: 6
END:VEVENT
BEGIN:VEVENT
UID:16919474@ezleagues.ezfacility.com
DTSTAMP:20260423T103501Z
CREATED:20260423T103501Z
DTSTART:20260131T203000Z
DTEND:20260131T211500Z
LOCATION:Indoor West
CONTACT:
SUMMARY:SSFC Valkyrie 2016 JCH VS. SSFC Valkyrie 15 ES
DESCRIPTION:League Name: Girls 2015 Silver Indoor\nGame Type: Regular\nGame
  Status: Complete\nHome Team: SSFC Valkyrie 2016 JCH\nAway Team: SSFC Valk
 yrie 15 ES\nHome Score: 3\nAway Score: 1
END:VEVENT
BEGIN:VEVENT
UID:16919480@ezleagues.ezfacility.com
DTSTAMP:20260423T103501Z
CREATED:20260423T103501Z
DTSTART:20260221T213000Z
DTEND:20260221T221500Z
LOCATION:Indoor East
CONTACT:
SUMMARY:SSFC Valkyrie 2016 JCH VS. Copper Mountain 15 JK
DESCRIPTION:League Name: Girls 2015 Silver Indoor\nGame Type: Regular\nGame
  Status: Complete\nHome Team: SSFC Valkyrie 2016 JCH\nAway Team: Copper Mo
 untain 15 JK\nHome Score: 1\nAway Score: 6
END:VEVENT
BEGIN:VEVENT
UID:16919486@ezleagues.ezfacility.com
DTSTAMP:20260423T103501Z
CREATED:20260423T103501Z
DTSTART:20260225T005000Z
DTEND:20260225T013500Z
LOCATION:Indoor East
CONTACT:
SUMMARY:SSFC Valkyrie 2016 JCH VS. City SC 2015G Elite-ES
DESCRIPTION:League Name: Girls 2015 Silver Indoor\nGame Type: Regular\nGame
  Status: Complete\nHome Team: SSFC Valkyrie 2016 JCH\nAway Team: City SC 2
 015G Elite-ES\nHome Score: 3\nAway Score: 7
END:VEVENT
BEGIN:VEVENT
UID:16919468@ezleagues.ezfacility.com
DTSTAMP:20260423T103501Z
CREATED:20260423T103501Z
DTSTART:20260228T153000Z
DTEND:20260228T161500Z
LOCATION:Indoor East
CONTACT:
SUMMARY:Avalanche 2015 Blue SL VS. SSFC Valkyrie 2016 JCH
DESCRIPTION:League Name: Girls 2015 Silver Indoor\nGame Type: Regular\nGame
  Status: Complete\nHome Team: Avalanche 2015 Blue SL\nAway Team: SSFC Valk
 yrie 2016 JCH\nHome Score: 1\nAway Score: 5
END:VEVENT
BEGIN:VEVENT
UID:16919460@ezleagues.ezfacility.com
DTSTAMP:20260423T103501Z
CREATED:20260423T103501Z
DTSTART:20260307T201500Z
DTEND:20260307T210000Z
LOCATION:Indoor West
CONTACT:
SUMMARY:CFC G15 Red HH Indoor VS. SSFC Valkyrie 2016 JCH
DESCRIPTION:League Name: Girls 2015 Silver Indoor\nGame Type: Regular\nGame
  Status: Complete\nHome Team: CFC G15 Red HH Indoor\nAway Team: SSFC Valky
 rie 2016 JCH\nHome Score: 5\nAway Score: 2
END:VEVENT
BEGIN:VEVENT
UID:16919492@ezleagues.ezfacility.com
DTSTAMP:20260423T103501Z
CREATED:20260423T103501Z
DTSTART:20260328T163000Z
DTEND:20260328T171500Z
LOCATION:Indoor West
CONTACT:
SUMMARY:SSFC Valkyrie 2016 JCH VS. Lehi Storm
DESCRIPTION:League Name: Girls 2015 Silver Indoor\nGame Type: Regular\nGame
  Status: Complete\nHome Team: SSFC Valkyrie 2016 JCH\nAway Team: Lehi Stor
 m\nHome Score: 8\nAway Score: 2
END:VEVENT
END:VCALENDAR
