BEGIN:VCALENDAR
VERSION:2.0
PRODID:-//EZFacility.com, Inc.//EZL 2.5.5.28621
BEGIN:VEVENT
UID:16921196@ezleagues.ezfacility.com
DTSTAMP:20260424T044257Z
CREATED:20260424T044257Z
DTSTART:20251229T001500Z
DTEND:20251229T010000Z
LOCATION:Court 2
CONTACT:
SUMMARY:Face Down Ace Up VS. Dig it like its hot
DESCRIPTION:League Name: Winter Sunday Court 2 B Quads\nGame Type: Regular\
 nGame Status: Complete\nHome Team: Face Down Ace Up\nAway Team: Dig it lik
 e its hot\nHome Score: 0\nAway Score: 3
END:VEVENT
BEGIN:VEVENT
UID:16921200@ezleagues.ezfacility.com
DTSTAMP:20260424T044257Z
CREATED:20260424T044257Z
DTSTART:20260105T010000Z
DTEND:20260105T014500Z
LOCATION:Court 2
CONTACT:
SUMMARY:#RE/MAX RAHM VS. Face Down Ace Up
DESCRIPTION:League Name: Winter Sunday Court 2 B Quads\nGame Type: Regular\
 nGame Status: Complete\nHome Team: #RE/MAX RAHM\nAway Team: Face Down Ace 
 Up\nHome Score: 2\nAway Score: 1
END:VEVENT
BEGIN:VEVENT
UID:16921206@ezleagues.ezfacility.com
DTSTAMP:20260424T044257Z
CREATED:20260424T044257Z
DTSTART:20260112T023000Z
DTEND:20260112T031500Z
LOCATION:Court 2
CONTACT:
SUMMARY:Face Down Ace Up VS. Notorious D.I.G.
DESCRIPTION:League Name: Winter Sunday Court 2 B Quads\nGame Type: Regular\
 nGame Status: Complete\nHome Team: Face Down Ace Up\nAway Team: Notorious 
 D.I.G.\nHome Score: 1\nAway Score: 2
END:VEVENT
BEGIN:VEVENT
UID:16921212@ezleagues.ezfacility.com
DTSTAMP:20260424T044257Z
CREATED:20260424T044257Z
DTSTART:20260119T014500Z
DTEND:20260119T023000Z
LOCATION:Court 2
CONTACT:
SUMMARY:Face Down Ace Up VS. Here for Beer
DESCRIPTION:League Name: Winter Sunday Court 2 B Quads\nGame Type: Regular\
 nGame Status: Complete\nHome Team: Face Down Ace Up\nAway Team: Here for B
 eer\nHome Score: 3\nAway Score: 0
END:VEVENT
BEGIN:VEVENT
UID:16921224@ezleagues.ezfacility.com
DTSTAMP:20260424T044257Z
CREATED:20260424T044257Z
DTSTART:20260202T023000Z
DTEND:20260202T031500Z
LOCATION:Court 2
CONTACT:
SUMMARY:Face Down Ace Up VS. Dreaming the whale!!!
DESCRIPTION:League Name: Winter Sunday Court 2 B Quads\nGame Type: Regular\
 nGame Status: Complete\nHome Team: Face Down Ace Up\nAway Team: Dreaming t
 he whale!!!\nHome Score: 2\nAway Score: 1
END:VEVENT
BEGIN:VEVENT
UID:16921233@ezleagues.ezfacility.com
DTSTAMP:20260424T044257Z
CREATED:20260424T044257Z
DTSTART:20260216T014500Z
DTEND:20260216T023000Z
LOCATION:Court 2
CONTACT:
SUMMARY:Team B VS. Face Down Ace Up
DESCRIPTION:League Name: Winter Sunday Court 2 B Quads\nGame Type: Regular\
 nGame Status: Complete\nHome Team: Team B\nAway Team: Face Down Ace Up\nHo
 me Score: 0\nAway Score: 3
END:VEVENT
BEGIN:VEVENT
UID:16921237@ezleagues.ezfacility.com
DTSTAMP:20260424T044257Z
CREATED:20260424T044257Z
DTSTART:20260223T001500Z
DTEND:20260223T010000Z
LOCATION:Court 2
CONTACT:
SUMMARY:Frank’s Fault VS. Face Down Ace Up
DESCRIPTION:League Name: Winter Sunday Court 2 B Quads\nGame Type: Regular\
 nGame Status: Complete\nHome Team: Frank’s Fault\nAway Team: Face Down A
 ce Up\nHome Score: 0\nAway Score: 3
END:VEVENT
BEGIN:VEVENT
UID:16921241@ezleagues.ezfacility.com
DTSTAMP:20260424T044257Z
CREATED:20260424T044257Z
DTSTART:20260301T233000Z
DTEND:20260302T001500Z
LOCATION:Court 2
CONTACT:
SUMMARY:Dig it like its hot VS. Face Down Ace Up
DESCRIPTION:League Name: Winter Sunday Court 2 B Quads\nGame Type: Regular\
 nGame Status: Complete\nHome Team: Dig it like its hot\nAway Team: Face Do
 wn Ace Up\nHome Score: 1\nAway Score: 2
END:VEVENT
BEGIN:VEVENT
UID:16921229@ezleagues.ezfacility.com
DTSTAMP:20260424T044257Z
CREATED:20260424T044257Z
DTSTART:20260308T223000Z
DTEND:20260308T231500Z
LOCATION:Court 2
CONTACT:
SUMMARY:Half DINKs VS. Face Down Ace Up
DESCRIPTION:League Name: Winter Sunday Court 2 B Quads\nGame Type: Regular\
 nGame Status: Complete\nHome Team: Half DINKs\nAway Team: Face Down Ace Up
 \nHome Score: 0\nAway Score: 3
END:VEVENT
BEGIN:VEVENT
UID:16921218@ezleagues.ezfacility.com
DTSTAMP:20260424T044257Z
CREATED:20260424T044257Z
DTSTART:20260316T004500Z
DTEND:20260316T013000Z
LOCATION:Court 2
CONTACT:
SUMMARY:Face Down Ace Up VS. EZ Pass
DESCRIPTION:League Name: Winter Sunday Court 2 B Quads\nGame Type: Regular\
 nGame Status: Complete\nHome Team: Face Down Ace Up\nAway Team: EZ Pass\nH
 ome Score: 2\nAway Score: 1
END:VEVENT
END:VCALENDAR
