BEGIN:VCALENDAR
VERSION:2.0
PRODID:-//EZFacility.com, Inc.//EZL 2.5.5.28621
BEGIN:VEVENT
UID:16921198@ezleagues.ezfacility.com
DTSTAMP:20260424T043955Z
CREATED:20260424T043955Z
DTSTART:20251229T014500Z
DTEND:20251229T023000Z
LOCATION:Court 2
CONTACT:
SUMMARY:Notorious D.I.G. VS. Frank’s Fault
DESCRIPTION:League Name: Winter Sunday Court 2 B Quads\nGame Type: Regular\
 nGame Status: Complete\nHome Team: Notorious D.I.G.\nAway Team: Frank’s 
 Fault\nHome Score: 2\nAway Score: 1
END:VEVENT
BEGIN:VEVENT
UID:16921202@ezleagues.ezfacility.com
DTSTAMP:20260424T043955Z
CREATED:20260424T043955Z
DTSTART:20260104T233000Z
DTEND:20260105T001500Z
LOCATION:Court 2
CONTACT:
SUMMARY:Dig it like its hot VS. Notorious D.I.G.
DESCRIPTION:League Name: Winter Sunday Court 2 B Quads\nGame Type: Regular\
 nGame Status: Complete\nHome Team: Dig it like its hot\nAway Team: Notorio
 us D.I.G.\nHome Score: 3\nAway Score: 0
END:VEVENT
BEGIN:VEVENT
UID:16921206@ezleagues.ezfacility.com
DTSTAMP:20260424T043955Z
CREATED:20260424T043955Z
DTSTART:20260112T023000Z
DTEND:20260112T031500Z
LOCATION:Court 2
CONTACT:
SUMMARY:Face Down Ace Up VS. Notorious D.I.G.
DESCRIPTION:League Name: Winter Sunday Court 2 B Quads\nGame Type: Regular\
 nGame Status: Complete\nHome Team: Face Down Ace Up\nAway Team: Notorious 
 D.I.G.\nHome Score: 1\nAway Score: 2
END:VEVENT
BEGIN:VEVENT
UID:16921210@ezleagues.ezfacility.com
DTSTAMP:20260424T043955Z
CREATED:20260424T043955Z
DTSTART:20260119T001500Z
DTEND:20260119T010000Z
LOCATION:Court 2
CONTACT:
SUMMARY:#RE/MAX RAHM VS. Notorious D.I.G.
DESCRIPTION:League Name: Winter Sunday Court 2 B Quads\nGame Type: Regular\
 nGame Status: Complete\nHome Team: #RE/MAX RAHM\nAway Team: Notorious D.I.
 G.\nHome Score: 1\nAway Score: 2
END:VEVENT
BEGIN:VEVENT
UID:16921222@ezleagues.ezfacility.com
DTSTAMP:20260424T043955Z
CREATED:20260424T043955Z
DTSTART:20260202T010000Z
DTEND:20260202T014500Z
LOCATION:Court 2
CONTACT:
SUMMARY:Notorious D.I.G. VS. EZ Pass
DESCRIPTION:League Name: Winter Sunday Court 2 B Quads\nGame Type: Regular\
 nGame Status: Complete\nHome Team: Notorious D.I.G.\nAway Team: EZ Pass\nH
 ome Score: 0\nAway Score: 3
END:VEVENT
BEGIN:VEVENT
UID:16921234@ezleagues.ezfacility.com
DTSTAMP:20260424T043955Z
CREATED:20260424T043955Z
DTSTART:20260216T023000Z
DTEND:20260216T031500Z
LOCATION:Court 2
CONTACT:
SUMMARY:Notorious D.I.G. VS. Half DINKs
DESCRIPTION:League Name: Winter Sunday Court 2 B Quads\nGame Type: Regular\
 nGame Status: Complete\nHome Team: Notorious D.I.G.\nAway Team: Half DINKs
 \nHome Score: 0\nAway Score: 3
END:VEVENT
BEGIN:VEVENT
UID:16921239@ezleagues.ezfacility.com
DTSTAMP:20260424T043955Z
CREATED:20260424T043955Z
DTSTART:20260223T023000Z
DTEND:20260223T031500Z
LOCATION:Court 2
CONTACT:
SUMMARY:Team B VS. Notorious D.I.G.
DESCRIPTION:League Name: Winter Sunday Court 2 B Quads\nGame Type: Regular\
 nGame Status: Complete\nHome Team: Team B\nAway Team: Notorious D.I.G.\nHo
 me Score: 0\nAway Score: 3
END:VEVENT
BEGIN:VEVENT
UID:16921243@ezleagues.ezfacility.com
DTSTAMP:20260424T043955Z
CREATED:20260424T043955Z
DTSTART:20260302T014500Z
DTEND:20260302T023000Z
LOCATION:Court 2
CONTACT:
SUMMARY:Frank’s Fault VS. Notorious D.I.G.
DESCRIPTION:League Name: Winter Sunday Court 2 B Quads\nGame Type: Regular\
 nGame Status: Complete\nHome Team: Frank’s Fault\nAway Team: Notorious D
 .I.G.\nHome Score: 2\nAway Score: 1
END:VEVENT
BEGIN:VEVENT
UID:16921228@ezleagues.ezfacility.com
DTSTAMP:20260424T043955Z
CREATED:20260424T043955Z
DTSTART:20260309T004500Z
DTEND:20260309T013000Z
LOCATION:Court 2
CONTACT:
SUMMARY:Notorious D.I.G. VS. Dreaming the whale!!!
DESCRIPTION:League Name: Winter Sunday Court 2 B Quads\nGame Type: Regular\
 nGame Status: Complete\nHome Team: Notorious D.I.G.\nAway Team: Dreaming t
 he whale!!!\nHome Score: 2\nAway Score: 1
END:VEVENT
BEGIN:VEVENT
UID:16921216@ezleagues.ezfacility.com
DTSTAMP:20260424T043955Z
CREATED:20260424T043955Z
DTSTART:20260316T000000Z
DTEND:20260316T004500Z
LOCATION:Court 2
CONTACT:
SUMMARY:Notorious D.I.G. VS. Here for Beer
DESCRIPTION:League Name: Winter Sunday Court 2 B Quads\nGame Type: Regular\
 nGame Status: Complete\nHome Team: Notorious D.I.G.\nAway Team: Here for B
 eer\nHome Score: 2\nAway Score: 1
END:VEVENT
END:VCALENDAR
