BEGIN:VCALENDAR
VERSION:2.0
PRODID:-//EZFacility.com, Inc.//EZL 2.5.5.28621
BEGIN:VEVENT
UID:16923417@ezleagues.ezfacility.com
DTSTAMP:20260425T162849Z
CREATED:20260425T162849Z
DTSTART:20260106T010600Z
DTEND:20260106T015800Z
LOCATION:Field   ID 1
CONTACT:
SUMMARY:Flash FC VS. Internacionals +
DESCRIPTION:League Name: Winter Indoor 2026 Men's 50+ (Monday)\nGame Type: 
 Regular\nGame Status: Complete\nHome Team: Flash FC\nAway Team: Internacio
 nals +\nHome Score: 0\nAway Score: 4
END:VEVENT
BEGIN:VEVENT
UID:16923421@ezleagues.ezfacility.com
DTSTAMP:20260425T162849Z
CREATED:20260425T162849Z
DTSTART:20260113T001400Z
DTEND:20260113T010600Z
LOCATION:Field   ID 2
CONTACT:
SUMMARY:Internacionals + VS. TWINS
DESCRIPTION:League Name: Winter Indoor 2026 Men's 50+ (Monday)\nGame Type: 
 Regular\nGame Status: Complete\nHome Team: Internacionals +\nAway Team: TW
 INS\nHome Score: 10\nAway Score: 4
END:VEVENT
BEGIN:VEVENT
UID:16923427@ezleagues.ezfacility.com
DTSTAMP:20260425T162849Z
CREATED:20260425T162849Z
DTSTART:20260120T001400Z
DTEND:20260120T010600Z
LOCATION:Field   ID 1
CONTACT:
SUMMARY:Internacionals + VS. Blue Grinders
DESCRIPTION:League Name: Winter Indoor 2026 Men's 50+ (Monday)\nGame Type: 
 Regular\nGame Status: Complete\nHome Team: Internacionals +\nAway Team: Bl
 ue Grinders\nHome Score: 10\nAway Score: 4
END:VEVENT
BEGIN:VEVENT
UID:16923439@ezleagues.ezfacility.com
DTSTAMP:20260425T162849Z
CREATED:20260425T162849Z
DTSTART:20260203T010600Z
DTEND:20260203T015800Z
LOCATION:Field   ID 1
CONTACT:
SUMMARY:Internacionals + VS. Chuff Rats FC
DESCRIPTION:League Name: Winter Indoor 2026 Men's 50+ (Monday)\nGame Type: 
 Regular\nGame Status: Complete\nHome Team: Internacionals +\nAway Team: Ch
 uff Rats FC\nHome Score: 10\nAway Score: 2
END:VEVENT
BEGIN:VEVENT
UID:16923445@ezleagues.ezfacility.com
DTSTAMP:20260425T162849Z
CREATED:20260425T162849Z
DTSTART:20260210T001400Z
DTEND:20260210T010600Z
LOCATION:Field   ID 2
CONTACT:
SUMMARY:Hawaii Five O VS. Internacionals +
DESCRIPTION:League Name: Winter Indoor 2026 Men's 50+ (Monday)\nGame Type: 
 Regular\nGame Status: Complete\nHome Team: Hawaii Five O\nAway Team: Inter
 nacionals +\nHome Score: 4\nAway Score: 5
END:VEVENT
BEGIN:VEVENT
UID:16923450@ezleagues.ezfacility.com
DTSTAMP:20260425T162849Z
CREATED:20260425T162849Z
DTSTART:20260217T001400Z
DTEND:20260217T010600Z
LOCATION:Field   ID 2
CONTACT:
SUMMARY:Los Gigolos Gordos VS. Internacionals +
DESCRIPTION:League Name: Winter Indoor 2026 Men's 50+ (Monday)\nGame Type: 
 Regular\nGame Status: Complete\nHome Team: Los Gigolos Gordos\nAway Team: 
 Internacionals +\nHome Score: 8\nAway Score: 10
END:VEVENT
BEGIN:VEVENT
UID:16923458@ezleagues.ezfacility.com
DTSTAMP:20260425T162849Z
CREATED:20260425T162849Z
DTSTART:20260303T010600Z
DTEND:20260303T015800Z
LOCATION:Field   ID 2
CONTACT:
SUMMARY:New Haven VS. Internacionals +
DESCRIPTION:League Name: Winter Indoor 2026 Men's 50+ (Monday)\nGame Type: 
 Regular\nGame Status: Complete\nHome Team: New Haven\nAway Team: Internaci
 onals +\nHome Score: 2\nAway Score: 7
END:VEVENT
BEGIN:VEVENT
UID:16923462@ezleagues.ezfacility.com
DTSTAMP:20260425T162849Z
CREATED:20260425T162849Z
DTSTART:20260309T231400Z
DTEND:20260310T000600Z
LOCATION:Field   ID 1
CONTACT:
SUMMARY:Internacionals + VS. Flash FC
DESCRIPTION:League Name: Winter Indoor 2026 Men's 50+ (Monday)\nGame Type: 
 Regular\nGame Status: Complete\nHome Team: Internacionals +\nAway Team: Fl
 ash FC\nHome Score: 3\nAway Score: 2
END:VEVENT
BEGIN:VEVENT
UID:16923433@ezleagues.ezfacility.com
DTSTAMP:20260425T162849Z
CREATED:20260425T162849Z
DTSTART:20260317T000600Z
DTEND:20260317T005800Z
LOCATION:Field   ID 1
CONTACT:
SUMMARY:The Skywalkers VS. Internacionals +
DESCRIPTION:League Name: Winter Indoor 2026 Men's 50+ (Monday)\nGame Type: 
 Regular\nGame Status: Complete\nHome Team: The Skywalkers\nAway Team: Inte
 rnacionals +\nHome Score: 1\nAway Score: 8
END:VEVENT
END:VCALENDAR
