BEGIN:VCALENDAR
VERSION:2.0
PRODID:-//EZFacility.com, Inc.//EZL 2.5.5.28621
BEGIN:VEVENT
UID:16925306@ezleagues.ezfacility.com
DTSTAMP:20260422T094850Z
CREATED:20260422T094850Z
DTSTART:20260104T173000Z
DTEND:20260104T181000Z
LOCATION:Field 2
CONTACT:Garcia
SUMMARY:Hollister Warriors VS. Monterey Surf B17 Academy III
DESCRIPTION:League Name: Youth League - Boys 2017\nGame Type: Regular\nGame
  Status: Complete\nHome Team: Hollister Warriors\nAway Team: Monterey Surf
  B17 Academy III\nHome Score: 9\nAway Score: 0
END:VEVENT
BEGIN:VEVENT
UID:16925268@ezleagues.ezfacility.com
DTSTAMP:20260422T094850Z
CREATED:20260422T094850Z
DTSTART:20260111T173000Z
DTEND:20260111T181500Z
LOCATION:Field 2
CONTACT:Garcia
SUMMARY:Monterey Surf B17 Academy III VS. Pv United 2017 White
DESCRIPTION:League Name: Youth League - Boys 2017\nGame Type: Regular\nGame
  Status: Complete\nHome Team: Monterey Surf B17 Academy III\nAway Team: Pv
  United 2017 White\nHome Score: 0\nAway Score: 8
END:VEVENT
BEGIN:VEVENT
UID:16925280@ezleagues.ezfacility.com
DTSTAMP:20260422T094850Z
CREATED:20260422T094850Z
DTSTART:20260118T164500Z
DTEND:20260118T173000Z
LOCATION:Field 2
CONTACT:Garcia 
SUMMARY:Monterey Surf B17 Academy III VS. PV United 2017 Red
DESCRIPTION:League Name: Youth League - Boys 2017\nGame Type: Regular\nGame
  Status: Complete\nHome Team: Monterey Surf B17 Academy III\nAway Team: PV
  United 2017 Red\nHome Score: 1\nAway Score: 32
END:VEVENT
BEGIN:VEVENT
UID:16925289@ezleagues.ezfacility.com
DTSTAMP:20260422T094850Z
CREATED:20260422T094850Z
DTSTART:20260201T173000Z
DTEND:20260201T181500Z
LOCATION:Field 2
CONTACT:
SUMMARY:PV United 2017 Blue Boys VS. Monterey Surf B17 Academy III
DESCRIPTION:League Name: Youth League - Boys 2017\nGame Type: Regular\nGame
  Status: Complete\nHome Team: PV United 2017 Blue Boys\nAway Team: Montere
 y Surf B17 Academy III\nHome Score: 15\nAway Score: 0
END:VEVENT
BEGIN:VEVENT
UID:16925286@ezleagues.ezfacility.com
DTSTAMP:20260422T094850Z
CREATED:20260422T094850Z
DTSTART:20260201T190000Z
DTEND:20260201T194500Z
LOCATION:Field 2
CONTACT:
SUMMARY:Monterey Surf B17 Academy III VS. Central Coast Grey
DESCRIPTION:League Name: Youth League - Boys 2017\nGame Type: Regular\nGame
  Status: Complete\nHome Team: Monterey Surf B17 Academy III\nAway Team: Ce
 ntral Coast Grey\nHome Score: 0\nAway Score: 10
END:VEVENT
BEGIN:VEVENT
UID:16925293@ezleagues.ezfacility.com
DTSTAMP:20260422T094850Z
CREATED:20260422T094850Z
DTSTART:20260208T190000Z
DTEND:20260208T194500Z
LOCATION:Field 2
CONTACT:
SUMMARY:Monterey Surf B17 Academy III VS. Real Atletico FC 17B
DESCRIPTION:League Name: Youth League - Boys 2017\nGame Type: Regular\nGame
  Status: Complete\nHome Team: Monterey Surf B17 Academy III\nAway Team: Re
 al Atletico FC 17B\nHome Score: 0\nAway Score: 23
END:VEVENT
BEGIN:VEVENT
UID:16925297@ezleagues.ezfacility.com
DTSTAMP:20260422T094850Z
CREATED:20260422T094850Z
DTSTART:20260215T173000Z
DTEND:20260215T181500Z
LOCATION:Field 2
CONTACT:
SUMMARY:Real Atletico Blanco VS. Monterey Surf B17 Academy III
DESCRIPTION:League Name: Youth League - Boys 2017\nGame Type: Regular\nGame
  Status: Complete\nHome Team: Real Atletico Blanco\nAway Team: Monterey Su
 rf B17 Academy III\nHome Score: 16\nAway Score: 0
END:VEVENT
BEGIN:VEVENT
UID:16925302@ezleagues.ezfacility.com
DTSTAMP:20260422T094850Z
CREATED:20260422T094850Z
DTSTART:20260222T164500Z
DTEND:20260222T173000Z
LOCATION:Field 2
CONTACT:
SUMMARY:Monterey Surf B17 Academy II VS. Monterey Surf B17 Academy III
DESCRIPTION:League Name: Youth League - Boys 2017\nGame Type: Regular\nGame
  Status: Complete\nHome Team: Monterey Surf B17 Academy II\nAway Team: Mon
 terey Surf B17 Academy III\nHome Score: 0\nAway Score: 17
END:VEVENT
END:VCALENDAR
