BEGIN:VCALENDAR
VERSION:2.0
PRODID:-//EZFacility.com, Inc.//EZL 2.5.5.28621
BEGIN:VEVENT
UID:16925275@ezleagues.ezfacility.com
DTSTAMP:20260426T035121Z
CREATED:20260426T035121Z
DTSTART:20260104T190000Z
DTEND:20260104T194500Z
LOCATION:Field 2
CONTACT:Garcia
SUMMARY:Real Atletico Blanco VS. PV United 2017 Red
DESCRIPTION:League Name: Youth League - Boys 2017\nGame Type: Regular\nGame
  Status: Complete\nHome Team: Real Atletico Blanco\nAway Team: PV United 2
 017 Red\nHome Score: 2\nAway Score: 16
END:VEVENT
BEGIN:VEVENT
UID:16925279@ezleagues.ezfacility.com
DTSTAMP:20260426T035121Z
CREATED:20260426T035121Z
DTSTART:20260118T160000Z
DTEND:20260118T164500Z
LOCATION:Field 2
CONTACT:Garcia
SUMMARY:Hollister Warriors VS. Real Atletico Blanco
DESCRIPTION:League Name: Youth League - Boys 2017\nGame Type: Regular\nGame
  Status: Complete\nHome Team: Hollister Warriors\nAway Team: Real Atletico
  Blanco\nHome Score: 1\nAway Score: 8
END:VEVENT
BEGIN:VEVENT
UID:16925278@ezleagues.ezfacility.com
DTSTAMP:20260426T035121Z
CREATED:20260426T035121Z
DTSTART:20260118T173000Z
DTEND:20260118T181500Z
LOCATION:Field 2
CONTACT:Garcia
SUMMARY:Real Atletico Blanco VS. Monterey Surf B17 Academy II
DESCRIPTION:League Name: Youth League - Boys 2017\nGame Type: Regular\nGame
  Status: Complete\nHome Team: Real Atletico Blanco\nAway Team: Monterey Su
 rf B17 Academy II\nHome Score: 11\nAway Score: 6
END:VEVENT
BEGIN:VEVENT
UID:16925283@ezleagues.ezfacility.com
DTSTAMP:20260426T035121Z
CREATED:20260426T035121Z
DTSTART:20260125T194500Z
DTEND:20260125T203000Z
LOCATION:Field 2
CONTACT:Garcia
SUMMARY:Real Atletico Blanco VS. PV United 2017 Blue Boys
DESCRIPTION:League Name: Youth League - Boys 2017\nGame Type: Regular\nGame
  Status: Complete\nHome Team: Real Atletico Blanco\nAway Team: PV United 2
 017 Blue Boys\nHome Score: 0\nAway Score: 3
END:VEVENT
BEGIN:VEVENT
UID:16925287@ezleagues.ezfacility.com
DTSTAMP:20260426T035121Z
CREATED:20260426T035121Z
DTSTART:20260201T164500Z
DTEND:20260201T173000Z
LOCATION:Field 2
CONTACT:
SUMMARY:Real Atletico FC 17B VS. Real Atletico Blanco
DESCRIPTION:League Name: Youth League - Boys 2017\nGame Type: Regular\nGame
  Status: Complete\nHome Team: Real Atletico FC 17B\nAway Team: Real Atleti
 co Blanco\nHome Score: 3\nAway Score: 2
END:VEVENT
BEGIN:VEVENT
UID:16925291@ezleagues.ezfacility.com
DTSTAMP:20260426T035121Z
CREATED:20260426T035121Z
DTSTART:20260208T164500Z
DTEND:20260208T173000Z
LOCATION:Field 2
CONTACT:
SUMMARY:Central Coast Grey VS. Real Atletico Blanco
DESCRIPTION:League Name: Youth League - Boys 2017\nGame Type: Regular\nGame
  Status: Complete\nHome Team: Central Coast Grey\nAway Team: Real Atletico
  Blanco\nHome Score: 1\nAway Score: 16
END:VEVENT
BEGIN:VEVENT
UID:16925297@ezleagues.ezfacility.com
DTSTAMP:20260426T035121Z
CREATED:20260426T035121Z
DTSTART:20260215T173000Z
DTEND:20260215T181500Z
LOCATION:Field 2
CONTACT:
SUMMARY:Real Atletico Blanco VS. Monterey Surf B17 Academy III
DESCRIPTION:League Name: Youth League - Boys 2017\nGame Type: Regular\nGame
  Status: Complete\nHome Team: Real Atletico Blanco\nAway Team: Monterey Su
 rf B17 Academy III\nHome Score: 16\nAway Score: 0
END:VEVENT
BEGIN:VEVENT
UID:16925304@ezleagues.ezfacility.com
DTSTAMP:20260426T035121Z
CREATED:20260426T035121Z
DTSTART:20260222T190000Z
DTEND:20260222T194500Z
LOCATION:Field 2
CONTACT:
SUMMARY:Pv United 2017 White VS. Real Atletico Blanco
DESCRIPTION:League Name: Youth League - Boys 2017\nGame Type: Regular\nGame
  Status: Complete\nHome Team: Pv United 2017 White\nAway Team: Real Atleti
 co Blanco\nHome Score: 2\nAway Score: 19
END:VEVENT
END:VCALENDAR
