BEGIN:VCALENDAR
VERSION:2.0
PRODID:-//EZFacility.com, Inc.//EZL 2.5.5.28621
BEGIN:VEVENT
UID:16925867@ezleagues.ezfacility.com
DTSTAMP:20260425T195236Z
CREATED:20260425T195236Z
DTSTART:20251227T153500Z
DTEND:20251227T163500Z
LOCATION:Court 5 Basketball
CONTACT:
SUMMARY:6. Kingsway Montague VS. 7. Haddon Twp- Heck
DESCRIPTION:League Name: Marty Derer Holiday Classic 4th Grade National\nGa
 me Type: Regular\nGame Status: Complete\nHome Team: 6. Kingsway Montague\n
 Away Team: 7. Haddon Twp- Heck\nHome Score: 36\nAway Score: 16
END:VEVENT
BEGIN:VEVENT
UID:16925904@ezleagues.ezfacility.com
DTSTAMP:20260425T195236Z
CREATED:20260425T195236Z
DTSTART:20251227T174500Z
DTEND:20251227T184500Z
LOCATION:Court 5 Basketball
CONTACT:
SUMMARY:6. Kingsway Montague VS. 8. Runnemede Boose
DESCRIPTION:League Name: Marty Derer Holiday Classic 4th Grade National\nGa
 me Type: Regular\nGame Status: Complete\nHome Team: 6. Kingsway Montague\n
 Away Team: 8. Runnemede Boose\nHome Score: 28\nAway Score: 35
END:VEVENT
BEGIN:VEVENT
UID:16925905@ezleagues.ezfacility.com
DTSTAMP:20260425T195236Z
CREATED:20260425T195236Z
DTSTART:20251228T150500Z
DTEND:20251228T160500Z
LOCATION:Court 4 Basketball
CONTACT:
SUMMARY:5. Raw Jones VS. 6. Kingsway Montague
DESCRIPTION:League Name: Marty Derer Holiday Classic 4th Grade National\nGa
 me Type: Regular\nGame Status: Complete\nHome Team: 5. Raw Jones\nAway Tea
 m: 6. Kingsway Montague\nHome Score: 26\nAway Score: 20
END:VEVENT
END:VCALENDAR
