BEGIN:VCALENDAR
VERSION:2.0
PRODID:-//EZFacility.com, Inc.//EZL 2.5.5.28621
BEGIN:VEVENT
UID:16926156@ezleagues.ezfacility.com
DTSTAMP:20260421T210822Z
CREATED:20260421T210822Z
DTSTART:20251227T185000Z
DTEND:20251227T195000Z
LOCATION:Court 4 Basketball
CONTACT:
SUMMARY:31. Kingsway Tyrell VS. 34. Harrison Golden
DESCRIPTION:League Name: Marty Derer Holiday Classic 7th Grade American\nGa
 me Type: Regular\nGame Status: Complete\nHome Team: 31. Kingsway Tyrell\nA
 way Team: 34. Harrison Golden\nHome Score: 35\nAway Score: 46
END:VEVENT
BEGIN:VEVENT
UID:16926157@ezleagues.ezfacility.com
DTSTAMP:20260421T210822Z
CREATED:20260421T210822Z
DTSTART:20251227T210000Z
DTEND:20251227T220000Z
LOCATION:Court 1 Basketball
CONTACT:
SUMMARY:31. Kingsway Tyrell VS. 33. MTL Tindal
DESCRIPTION:League Name: Marty Derer Holiday Classic 7th Grade American\nGa
 me Type: Regular\nGame Status: Complete\nHome Team: 31. Kingsway Tyrell\nA
 way Team: 33. MTL Tindal\nHome Score: 39\nAway Score: 48
END:VEVENT
BEGIN:VEVENT
UID:16926159@ezleagues.ezfacility.com
DTSTAMP:20260421T210822Z
CREATED:20260421T210822Z
DTSTART:20251228T140000Z
DTEND:20251228T150000Z
LOCATION:Court 1 Basketball
CONTACT:
SUMMARY:31. Kingsway Tyrell VS. 32. Monroe Ford
DESCRIPTION:League Name: Marty Derer Holiday Classic 7th Grade American\nGa
 me Type: Regular\nGame Status: Complete\nHome Team: 31. Kingsway Tyrell\nA
 way Team: 32. Monroe Ford\nHome Score: 53\nAway Score: 28
END:VEVENT
END:VCALENDAR
