BEGIN:VCALENDAR
VERSION:2.0
PRODID:-//EZFacility.com, Inc.//EZL 2.5.5.28621
BEGIN:VEVENT
UID:16931183@ezleagues.ezfacility.com
DTSTAMP:20260419T143609Z
CREATED:20260419T143609Z
DTSTART:20260104T040000Z
DTEND:20260104T045000Z
LOCATION:Court 7
CONTACT:Sleeper
SUMMARY:Temecula FC VS. ID (Man City)
DESCRIPTION:League Name: 2025 Futsal League (2010/11) Division\nGame Type: 
 Regular\nGame Status: Complete\nHome Team: Temecula FC\nAway Team: ID (Man
  City)\nHome Score: 2\nAway Score: 9
END:VEVENT
BEGIN:VEVENT
UID:16931186@ezleagues.ezfacility.com
DTSTAMP:20260419T143609Z
CREATED:20260419T143609Z
DTSTART:20260111T030000Z
DTEND:20260111T035000Z
LOCATION:Court 6
CONTACT:Payton
SUMMARY:FC Premier VS. Temecula FC
DESCRIPTION:League Name: 2025 Futsal League (2010/11) Division\nGame Type: 
 Regular\nGame Status: Complete\nHome Team: FC Premier\nAway Team: Temecula
  FC\nHome Score: 7\nAway Score: 1
END:VEVENT
BEGIN:VEVENT
UID:16931192@ezleagues.ezfacility.com
DTSTAMP:20260419T143609Z
CREATED:20260419T143609Z
DTSTART:20260125T040000Z
DTEND:20260125T045000Z
LOCATION:Court 7
CONTACT:Sleeper
SUMMARY:ID (Man United) VS. Temecula FC
DESCRIPTION:League Name: 2025 Futsal League (2010/11) Division\nGame Type: 
 Regular\nGame Status: Complete\nHome Team: ID (Man United)\nAway Team: Tem
 ecula FC\nHome Score: 8\nAway Score: 2
END:VEVENT
BEGIN:VEVENT
UID:16931202@ezleagues.ezfacility.com
DTSTAMP:20260419T143609Z
CREATED:20260419T143609Z
DTSTART:20260208T030000Z
DTEND:20260208T035000Z
LOCATION:Court 7
CONTACT:Sleeper
SUMMARY:Temecula FC VS. Futsalismo FC
DESCRIPTION:League Name: 2025 Futsal League (2010/11) Division\nGame Type: 
 Regular\nGame Status: Complete\nHome Team: Temecula FC\nAway Team: Futsali
 smo FC\nHome Score: 3\nAway Score: 5
END:VEVENT
BEGIN:VEVENT
UID:16931207@ezleagues.ezfacility.com
DTSTAMP:20260419T143609Z
CREATED:20260419T143609Z
DTSTART:20260215T040000Z
DTEND:20260215T045000Z
LOCATION:Court 6
CONTACT:Sleeper
SUMMARY:Temecula FC VS. ID (New Castle)
DESCRIPTION:League Name: 2025 Futsal League (2010/11) Division\nGame Type: 
 Regular\nGame Status: Complete\nHome Team: Temecula FC\nAway Team: ID (New
  Castle)\nHome Score: 2\nAway Score: 4
END:VEVENT
BEGIN:VEVENT
UID:16931189@ezleagues.ezfacility.com
DTSTAMP:20260419T143609Z
CREATED:20260419T143609Z
DTSTART:20260315T034500Z
DTEND:20260315T043500Z
LOCATION:Court 6
CONTACT:Payton
SUMMARY:ID (Liverpool) VS. Temecula FC
DESCRIPTION:League Name: 2025 Futsal League (2010/11) Division\nGame Type: 
 Regular\nGame Status: Complete\nHome Team: ID (Liverpool)\nAway Team: Teme
 cula FC\nHome Score: 9\nAway Score: 2
END:VEVENT
BEGIN:VEVENT
UID:16931197@ezleagues.ezfacility.com
DTSTAMP:20260419T143609Z
CREATED:20260419T143609Z
DTSTART:20260419T010000Z
DTEND:20260419T015000Z
LOCATION:Court 7
CONTACT:
SUMMARY:Temecula FC VS. ID (Chelsea)
DESCRIPTION:League Name: 2025 Futsal League (2010/11) Division\nGame Type: 
 Regular\nGame Status: Postponed\nHome Team: Temecula FC\nAway Team: ID (Ch
 elsea)\n
END:VEVENT
END:VCALENDAR
