BEGIN:VCALENDAR
VERSION:2.0
PRODID:-//EZFacility.com, Inc.//EZL 2.5.5.28621
BEGIN:VEVENT
UID:16927541@ezleagues.ezfacility.com
DTSTAMP:20260423T011351Z
CREATED:20260423T011351Z
DTSTART:20260111T162800Z
DTEND:20260111T172000Z
LOCATION:Field   ID 1
CONTACT:
SUMMARY:Ohio Premier Soccer Club VS. Green Dragons FC
DESCRIPTION:League Name: Winter Indoor 2026 Men's 40+ Black (Sundays)\nGame
  Type: Regular\nGame Status: Complete\nHome Team: Ohio Premier Soccer Club
 \nAway Team: Green Dragons FC\nHome Score: 6\nAway Score: 5
END:VEVENT
BEGIN:VEVENT
UID:16927546@ezleagues.ezfacility.com
DTSTAMP:20260423T011351Z
CREATED:20260423T011351Z
DTSTART:20260118T162800Z
DTEND:20260118T172000Z
LOCATION:Field   ID 1
CONTACT:
SUMMARY:MenChestHair United VS. Ohio Premier Soccer Club
DESCRIPTION:League Name: Winter Indoor 2026 Men's 40+ Black (Sundays)\nGame
  Type: Regular\nGame Status: Complete\nHome Team: MenChestHair United\nAwa
 y Team: Ohio Premier Soccer Club\nHome Score: 4\nAway Score: 9
END:VEVENT
BEGIN:VEVENT
UID:16927554@ezleagues.ezfacility.com
DTSTAMP:20260423T011351Z
CREATED:20260423T011351Z
DTSTART:20260201T153600Z
DTEND:20260201T162800Z
LOCATION:Field   ID 1
CONTACT:
SUMMARY:Lost Shepherd VS. Ohio Premier Soccer Club
DESCRIPTION:League Name: Winter Indoor 2026 Men's 40+ Black (Sundays)\nGame
  Type: Regular\nGame Status: Complete\nHome Team: Lost Shepherd\nAway Team
 : Ohio Premier Soccer Club\nHome Score: 0\nAway Score: 0
END:VEVENT
BEGIN:VEVENT
UID:16927558@ezleagues.ezfacility.com
DTSTAMP:20260423T011351Z
CREATED:20260423T011351Z
DTSTART:20260208T144400Z
DTEND:20260208T153600Z
LOCATION:Field   ID 1
CONTACT:
SUMMARY:Shamrock Rovers VS. Ohio Premier Soccer Club
DESCRIPTION:League Name: Winter Indoor 2026 Men's 40+ Black (Sundays)\nGame
  Type: Regular\nGame Status: Complete\nHome Team: Shamrock Rovers\nAway Te
 am: Ohio Premier Soccer Club\nHome Score: 1\nAway Score: 11
END:VEVENT
BEGIN:VEVENT
UID:16927562@ezleagues.ezfacility.com
DTSTAMP:20260423T011351Z
CREATED:20260423T011351Z
DTSTART:20260215T130000Z
DTEND:20260215T135200Z
LOCATION:Field   ID 1
CONTACT:
SUMMARY:Ohio Premier Soccer Club VS. DadBod FC
DESCRIPTION:League Name: Winter Indoor 2026 Men's 40+ Black (Sundays)\nGame
  Type: Regular\nGame Status: Complete\nHome Team: Ohio Premier Soccer Club
 \nAway Team: DadBod FC\nHome Score: 3\nAway Score: 5
END:VEVENT
BEGIN:VEVENT
UID:16927568@ezleagues.ezfacility.com
DTSTAMP:20260423T011351Z
CREATED:20260423T011351Z
DTSTART:20260222T135200Z
DTEND:20260222T144400Z
LOCATION:Field   ID 1
CONTACT:
SUMMARY:Ohio Premier Soccer Club VS. Flash FC
DESCRIPTION:League Name: Winter Indoor 2026 Men's 40+ Black (Sundays)\nGame
  Type: Regular\nGame Status: Complete\nHome Team: Ohio Premier Soccer Club
 \nAway Team: Flash FC\nHome Score: 3\nAway Score: 6
END:VEVENT
BEGIN:VEVENT
UID:16927574@ezleagues.ezfacility.com
DTSTAMP:20260423T011351Z
CREATED:20260423T011351Z
DTSTART:20260301T135200Z
DTEND:20260301T144400Z
LOCATION:Field   ID 1
CONTACT:
SUMMARY:Ohio Premier Soccer Club VS. Fast FC
DESCRIPTION:League Name: Winter Indoor 2026 Men's 40+ Black (Sundays)\nGame
  Type: Regular\nGame Status: Complete\nHome Team: Ohio Premier Soccer Club
 \nAway Team: Fast FC\nHome Score: 10\nAway Score: 9
END:VEVENT
BEGIN:VEVENT
UID:16927580@ezleagues.ezfacility.com
DTSTAMP:20260423T011351Z
CREATED:20260423T011351Z
DTSTART:20260308T134400Z
DTEND:20260308T143600Z
LOCATION:Field   ID 1
CONTACT:
SUMMARY:Ohio Premier Soccer Club VS. MFC
DESCRIPTION:League Name: Winter Indoor 2026 Men's 40+ Black (Sundays)\nGame
  Type: Regular\nGame Status: Complete\nHome Team: Ohio Premier Soccer Club
 \nAway Team: MFC\nHome Score: 6\nAway Score: 5
END:VEVENT
BEGIN:VEVENT
UID:16927550@ezleagues.ezfacility.com
DTSTAMP:20260423T011351Z
CREATED:20260423T011351Z
DTSTART:20260315T120000Z
DTEND:20260315T125200Z
LOCATION:Field   ID 2
CONTACT:
SUMMARY:Depotivo Columbus VS. Ohio Premier Soccer Club
DESCRIPTION:League Name: Winter Indoor 2026 Men's 40+ Black (Sundays)\nGame
  Type: Regular\nGame Status: Complete\nHome Team: Depotivo Columbus\nAway 
 Team: Ohio Premier Soccer Club\nHome Score: 9\nAway Score: 3
END:VEVENT
END:VCALENDAR
