BEGIN:VCALENDAR
VERSION:2.0
PRODID:-//EZFacility.com, Inc.//EZL 2.5.5.28621
BEGIN:VEVENT
UID:16930912@ezleagues.ezfacility.com
DTSTAMP:20260422T065441Z
CREATED:20260422T065441Z
DTSTART:20260110T020000Z
DTEND:20260110T030000Z
LOCATION:Field 2
CONTACT:Palmer
SUMMARY:Rug Burns VS. Justice League
DESCRIPTION:League Name: 2026 COED Championship Winter 2\nGame Type: Regula
 r\nGame Status: Complete\nHome Team: Rug Burns\nAway Team: Justice League\
 nHome Score: 0\nAway Score: 1
END:VEVENT
BEGIN:VEVENT
UID:16930918@ezleagues.ezfacility.com
DTSTAMP:20260422T065441Z
CREATED:20260422T065441Z
DTSTART:20260117T030000Z
DTEND:20260117T040000Z
LOCATION:Field 1
CONTACT:Auger
SUMMARY:Rug Burns VS. The Avengers
DESCRIPTION:League Name: 2026 COED Championship Winter 2\nGame Type: Regula
 r\nGame Status: Complete\nHome Team: Rug Burns\nAway Team: The Avengers\nH
 ome Score: 4\nAway Score: 6
END:VEVENT
BEGIN:VEVENT
UID:16930924@ezleagues.ezfacility.com
DTSTAMP:20260422T065441Z
CREATED:20260422T065441Z
DTSTART:20260124T030000Z
DTEND:20260124T040000Z
LOCATION:Field 1
CONTACT:Bouazza 
SUMMARY:Inter FC Coed VS. Rug Burns
DESCRIPTION:League Name: 2026 COED Championship Winter 2\nGame Type: Regula
 r\nGame Status: Complete\nHome Team: Inter FC Coed\nAway Team: Rug Burns\n
 Home Score: 5\nAway Score: 5
END:VEVENT
BEGIN:VEVENT
UID:16930932@ezleagues.ezfacility.com
DTSTAMP:20260422T065441Z
CREATED:20260422T065441Z
DTSTART:20260131T020000Z
DTEND:20260131T030000Z
LOCATION:Field 2
CONTACT:Bouazza 
SUMMARY:Rug Burns VS. High Yield FC
DESCRIPTION:League Name: 2026 COED Championship Winter 2\nGame Type: Regula
 r\nGame Status: Complete\nHome Team: Rug Burns\nAway Team: High Yield FC\n
 Home Score: 1\nAway Score: 6
END:VEVENT
BEGIN:VEVENT
UID:16930940@ezleagues.ezfacility.com
DTSTAMP:20260422T065441Z
CREATED:20260422T065441Z
DTSTART:20260207T020000Z
DTEND:20260207T030000Z
LOCATION:Field 1
CONTACT:Daron
SUMMARY:Rug Burns VS. Futbol FC
DESCRIPTION:League Name: 2026 COED Championship Winter 2\nGame Type: Regula
 r\nGame Status: Complete\nHome Team: Rug Burns\nAway Team: Futbol FC\nHome
  Score: 4\nAway Score: 7
END:VEVENT
BEGIN:VEVENT
UID:16930947@ezleagues.ezfacility.com
DTSTAMP:20260422T065441Z
CREATED:20260422T065441Z
DTSTART:20260214T020000Z
DTEND:20260214T030000Z
LOCATION:Field 1
CONTACT:Bouazza 
SUMMARY:Justice League VS. Rug Burns
DESCRIPTION:League Name: 2026 COED Championship Winter 2\nGame Type: Regula
 r\nGame Status: Complete\nHome Team: Justice League\nAway Team: Rug Burns\
 nHome Score: 4\nAway Score: 1
END:VEVENT
BEGIN:VEVENT
UID:16930953@ezleagues.ezfacility.com
DTSTAMP:20260422T065441Z
CREATED:20260422T065441Z
DTSTART:20260221T030000Z
DTEND:20260221T040000Z
LOCATION:Field 1
CONTACT:Kochin 
SUMMARY:The Avengers VS. Rug Burns
DESCRIPTION:League Name: 2026 COED Championship Winter 2\nGame Type: Regula
 r\nGame Status: Complete\nHome Team: The Avengers\nAway Team: Rug Burns\nH
 ome Score: 3\nAway Score: 3
END:VEVENT
END:VCALENDAR
