BEGIN:VCALENDAR
VERSION:2.0
PRODID:-//EZFacility.com, Inc.//EZL 2.5.5.28621
BEGIN:VEVENT
UID:16933158@ezleagues.ezfacility.com
DTSTAMP:20260423T221854Z
CREATED:20260423T221854Z
DTSTART:20260110T020000Z
DTEND:20260110T030000Z
LOCATION:Field 4 
CONTACT:D'Urso 
SUMMARY:Old Farts VS. Bifanas A
DESCRIPTION:League Name: 2026 COED Europa Winter 2\nGame Type: Regular\nGam
 e Status: Complete\nHome Team: Old Farts\nAway Team: Bifanas A\nHome Score
 : 9\nAway Score: 2
END:VEVENT
BEGIN:VEVENT
UID:16933164@ezleagues.ezfacility.com
DTSTAMP:20260423T221854Z
CREATED:20260423T221854Z
DTSTART:20260117T030000Z
DTEND:20260117T040000Z
LOCATION:Field 4 
CONTACT:Farinu
SUMMARY:Old Farts VS. Zavacados FC
DESCRIPTION:League Name: 2026 COED Europa Winter 2\nGame Type: Regular\nGam
 e Status: Complete\nHome Team: Old Farts\nAway Team: Zavacados FC\nHome Sc
 ore: 2\nAway Score: 4
END:VEVENT
BEGIN:VEVENT
UID:16933169@ezleagues.ezfacility.com
DTSTAMP:20260423T221854Z
CREATED:20260423T221854Z
DTSTART:20260124T030000Z
DTEND:20260124T040000Z
LOCATION:Field 4 
CONTACT:Poremba
SUMMARY:GT United VS. Old Farts
DESCRIPTION:League Name: 2026 COED Europa Winter 2\nGame Type: Regular\nGam
 e Status: Complete\nHome Team: GT United\nAway Team: Old Farts\nHome Score
 : 1\nAway Score: 1
END:VEVENT
BEGIN:VEVENT
UID:16933173@ezleagues.ezfacility.com
DTSTAMP:20260423T221854Z
CREATED:20260423T221854Z
DTSTART:20260131T030000Z
DTEND:20260131T040000Z
LOCATION:Field 3 
CONTACT:Farinu
SUMMARY:Folding Chairs FC VS. Old Farts
DESCRIPTION:League Name: 2026 COED Europa Winter 2\nGame Type: Regular\nGam
 e Status: Complete\nHome Team: Folding Chairs FC\nAway Team: Old Farts\nHo
 me Score: 5\nAway Score: 3
END:VEVENT
BEGIN:VEVENT
UID:16933177@ezleagues.ezfacility.com
DTSTAMP:20260423T221854Z
CREATED:20260423T221854Z
DTSTART:20260207T020000Z
DTEND:20260207T030000Z
LOCATION:Field 4 
CONTACT:Poremba
SUMMARY:We Are Beginners VS. Old Farts
DESCRIPTION:League Name: 2026 COED Europa Winter 2\nGame Type: Regular\nGam
 e Status: Complete\nHome Team: We Are Beginners\nAway Team: Old Farts\nHom
 e Score: 2\nAway Score: 9
END:VEVENT
BEGIN:VEVENT
UID:16933181@ezleagues.ezfacility.com
DTSTAMP:20260423T221854Z
CREATED:20260423T221854Z
DTSTART:20260214T030000Z
DTEND:20260214T040000Z
LOCATION:Field 2
CONTACT:Kochin 
SUMMARY:Bifanas B VS. Old Farts
DESCRIPTION:League Name: 2026 COED Europa Winter 2\nGame Type: Regular\nGam
 e Status: Complete\nHome Team: Bifanas B\nAway Team: Old Farts\nHome Score
 : 7\nAway Score: 6
END:VEVENT
BEGIN:VEVENT
UID:16933185@ezleagues.ezfacility.com
DTSTAMP:20260423T221854Z
CREATED:20260423T221854Z
DTSTART:20260221T020000Z
DTEND:20260221T030000Z
LOCATION:Field 3 
CONTACT:Sandoval
SUMMARY:Old Farts VS. Diamond Dogs FC
DESCRIPTION:League Name: 2026 COED Europa Winter 2\nGame Type: Regular\nGam
 e Status: Complete\nHome Team: Old Farts\nAway Team: Diamond Dogs FC\nHome
  Score: 5\nAway Score: 3
END:VEVENT
END:VCALENDAR
