BEGIN:VCALENDAR
VERSION:2.0
PRODID:-//EZFacility.com, Inc.//EZL 2.5.5.28621
BEGIN:VEVENT
UID:16931708@ezleagues.ezfacility.com
DTSTAMP:20260424T044334Z
CREATED:20260424T044334Z
DTSTART:20260103T180000Z
DTEND:20260103T190000Z
LOCATION:FIELD 2
CONTACT:
SUMMARY:Red Pandas VS. Billerica Strikers
DESCRIPTION:League Name: GU10REC DIV2 S2 2026\nGame Type: Regular\nGame Sta
 tus: Complete\nHome Team: Red Pandas\nAway Team: Billerica Strikers\nHome 
 Score: 6\nAway Score: 1
END:VEVENT
BEGIN:VEVENT
UID:16931712@ezleagues.ezfacility.com
DTSTAMP:20260424T044334Z
CREATED:20260424T044334Z
DTSTART:20260110T120000Z
DTEND:20260110T130000Z
LOCATION:POTASH HILL RD FIELD 4
CONTACT:
SUMMARY:NYSL RENZI VS. Billerica Strikers
DESCRIPTION:League Name: GU10REC DIV2 S2 2026\nGame Type: Regular\nGame Sta
 tus: Complete\nHome Team: NYSL RENZI\nAway Team: Billerica Strikers\nHome 
 Score: 1\nAway Score: 5
END:VEVENT
BEGIN:VEVENT
UID:16931715@ezleagues.ezfacility.com
DTSTAMP:20260424T044334Z
CREATED:20260424T044334Z
DTSTART:20260117T190000Z
DTEND:20260117T200000Z
LOCATION:FIELD 2
CONTACT:
SUMMARY:GD U10 Crusaders VS. Billerica Strikers
DESCRIPTION:League Name: GU10REC DIV2 S2 2026\nGame Type: Regular\nGame Sta
 tus: Complete\nHome Team: GD U10 Crusaders\nAway Team: Billerica Strikers\
 nHome Score: 5\nAway Score: 3
END:VEVENT
BEGIN:VEVENT
UID:16931717@ezleagues.ezfacility.com
DTSTAMP:20260424T044334Z
CREATED:20260424T044334Z
DTSTART:20260124T170000Z
DTEND:20260124T180000Z
LOCATION:FIELD 2
CONTACT:
SUMMARY:Tyngsboro Tigers VS. Billerica Strikers
DESCRIPTION:League Name: GU10REC DIV2 S2 2026\nGame Type: Regular\nGame Sta
 tus: Complete\nHome Team: Tyngsboro Tigers\nAway Team: Billerica Strikers\
 nHome Score: 3\nAway Score: 3
END:VEVENT
BEGIN:VEVENT
UID:16931719@ezleagues.ezfacility.com
DTSTAMP:20260424T044334Z
CREATED:20260424T044334Z
DTSTART:20260131T180000Z
DTEND:20260131T190000Z
LOCATION:FIELD 2
CONTACT:
SUMMARY:Billerica Strikers VS. Billerica Indians
DESCRIPTION:League Name: GU10REC DIV2 S2 2026\nGame Type: Regular\nGame Sta
 tus: Complete\nHome Team: Billerica Strikers\nAway Team: Billerica Indians
 \nHome Score: 1\nAway Score: 4
END:VEVENT
BEGIN:VEVENT
UID:16931723@ezleagues.ezfacility.com
DTSTAMP:20260424T044334Z
CREATED:20260424T044334Z
DTSTART:20260207T170000Z
DTEND:20260207T180000Z
LOCATION:FIELD 2
CONTACT:
SUMMARY:Billerica Strikers VS. Red Pandas
DESCRIPTION:League Name: GU10REC DIV2 S2 2026\nGame Type: Regular\nGame Sta
 tus: Complete\nHome Team: Billerica Strikers\nAway Team: Red Pandas\nHome 
 Score: 2\nAway Score: 0
END:VEVENT
BEGIN:VEVENT
UID:16931727@ezleagues.ezfacility.com
DTSTAMP:20260424T044334Z
CREATED:20260424T044334Z
DTSTART:20260214T190000Z
DTEND:20260214T200000Z
LOCATION:FIELD 2
CONTACT:
SUMMARY:Billerica Strikers VS. NYSL RENZI
DESCRIPTION:League Name: GU10REC DIV2 S2 2026\nGame Type: Regular\nGame Sta
 tus: Complete\nHome Team: Billerica Strikers\nAway Team: NYSL RENZI\nHome 
 Score: 5\nAway Score: 3
END:VEVENT
END:VCALENDAR
