BEGIN:VCALENDAR
VERSION:2.0
PRODID:-//EZFacility.com, Inc.//EZL 2.5.5.28621
BEGIN:VEVENT
UID:16931821@ezleagues.ezfacility.com
DTSTAMP:20260424T043239Z
CREATED:20260424T043239Z
DTSTART:20260103T183000Z
DTEND:20260103T193000Z
LOCATION:POTASH HILL RD FIELD 5A
CONTACT:
SUMMARY:NYSL WALKER VS. Elite Juniors Rising Stars
DESCRIPTION:League Name: BU8 REC DIV2 S2 2026\nGame Type: Regular\nGame Sta
 tus: Pending\nHome Team: NYSL WALKER\nAway Team: Elite Juniors Rising Star
 s\n
END:VEVENT
BEGIN:VEVENT
UID:16931825@ezleagues.ezfacility.com
DTSTAMP:20260424T043239Z
CREATED:20260424T043239Z
DTSTART:20260110T173000Z
DTEND:20260110T183000Z
LOCATION:POTASH HILL RD FIELD 5A
CONTACT:
SUMMARY:NYSL KUDZEBA VS. Elite Juniors Rising Stars
DESCRIPTION:League Name: BU8 REC DIV2 S2 2026\nGame Type: Regular\nGame Sta
 tus: Pending\nHome Team: NYSL KUDZEBA\nAway Team: Elite Juniors Rising Sta
 rs\n
END:VEVENT
BEGIN:VEVENT
UID:16931828@ezleagues.ezfacility.com
DTSTAMP:20260424T043239Z
CREATED:20260424T043239Z
DTSTART:20260117T173000Z
DTEND:20260117T183000Z
LOCATION:POTASH HILL RD FIELD 5A
CONTACT:
SUMMARY:LIVERPOOL FA Team VS. Elite Juniors Rising Stars
DESCRIPTION:League Name: BU8 REC DIV2 S2 2026\nGame Type: Regular\nGame Sta
 tus: Pending\nHome Team: LIVERPOOL FA Team\nAway Team: Elite Juniors Risin
 g Stars\n
END:VEVENT
BEGIN:VEVENT
UID:16931830@ezleagues.ezfacility.com
DTSTAMP:20260424T043239Z
CREATED:20260424T043239Z
DTSTART:20260124T183000Z
DTEND:20260124T193000Z
LOCATION:POTASH HILL RD FIELD 5A
CONTACT:
SUMMARY:Pelham Red Hawks VS. Elite Juniors Rising Stars
DESCRIPTION:League Name: BU8 REC DIV2 S2 2026\nGame Type: Regular\nGame Sta
 tus: Pending\nHome Team: Pelham Red Hawks\nAway Team: Elite Juniors Rising
  Stars\n
END:VEVENT
BEGIN:VEVENT
UID:16931832@ezleagues.ezfacility.com
DTSTAMP:20260424T043239Z
CREATED:20260424T043239Z
DTSTART:20260131T173000Z
DTEND:20260131T183000Z
LOCATION:POTASH HILL RD FIELD 5A
CONTACT:
SUMMARY:Elite Juniors Rising Stars VS. Elite Juniors Blitz
DESCRIPTION:League Name: BU8 REC DIV2 S2 2026\nGame Type: Regular\nGame Sta
 tus: Pending\nHome Team: Elite Juniors Rising Stars\nAway Team: Elite Juni
 ors Blitz\n
END:VEVENT
BEGIN:VEVENT
UID:16931836@ezleagues.ezfacility.com
DTSTAMP:20260424T043239Z
CREATED:20260424T043239Z
DTSTART:20260207T173000Z
DTEND:20260207T183000Z
LOCATION:POTASH HILL RD FIELD 5A
CONTACT:
SUMMARY:Elite Juniors Rising Stars VS. NYSL WALKER
DESCRIPTION:League Name: BU8 REC DIV2 S2 2026\nGame Type: Regular\nGame Sta
 tus: Pending\nHome Team: Elite Juniors Rising Stars\nAway Team: NYSL WALKE
 R\n
END:VEVENT
BEGIN:VEVENT
UID:16931840@ezleagues.ezfacility.com
DTSTAMP:20260424T043239Z
CREATED:20260424T043239Z
DTSTART:20260214T183000Z
DTEND:20260214T193000Z
LOCATION:POTASH HILL RD FIELD 5A
CONTACT:
SUMMARY:Elite Juniors Rising Stars VS. NYSL KUDZEBA
DESCRIPTION:League Name: BU8 REC DIV2 S2 2026\nGame Type: Regular\nGame Sta
 tus: Pending\nHome Team: Elite Juniors Rising Stars\nAway Team: NYSL KUDZE
 BA\n
END:VEVENT
END:VCALENDAR
