BEGIN:VCALENDAR
VERSION:2.0
PRODID:-//EZFacility.com, Inc.//EZL 2.5.5.28621
BEGIN:VEVENT
UID:16932263@ezleagues.ezfacility.com
DTSTAMP:20260421T074039Z
CREATED:20260421T074039Z
DTSTART:20260109T002000Z
DTEND:20260109T011000Z
LOCATION:Bball Court 2
CONTACT:
SUMMARY:Wildcats VS. 417 Athletics Boys
DESCRIPTION:League Name: Winter Basketball League-Recreational-K1-Boys\nGam
 e Type: Regular\nGame Status: Complete\nHome Team: Wildcats\nAway Team: 41
 7 Athletics Boys\nHome Score: 27\nAway Score: 2
END:VEVENT
BEGIN:VEVENT
UID:16932271@ezleagues.ezfacility.com
DTSTAMP:20260421T074039Z
CREATED:20260421T074039Z
DTSTART:20260116T020000Z
DTEND:20260116T025000Z
LOCATION:Bball Court 2
CONTACT:
SUMMARY:417 Athletics Boys VS. 417 Athletics Boys #2
DESCRIPTION:League Name: Winter Basketball League-Recreational-K1-Boys\nGam
 e Type: Regular\nGame Status: Complete\nHome Team: 417 Athletics Boys\nAwa
 y Team: 417 Athletics Boys #2\nHome Score: 4\nAway Score: 12
END:VEVENT
BEGIN:VEVENT
UID:16932274@ezleagues.ezfacility.com
DTSTAMP:20260421T074039Z
CREATED:20260421T074039Z
DTSTART:20260123T020000Z
DTEND:20260123T025000Z
LOCATION:Bball Court 2
CONTACT:
SUMMARY:417 Athletics Boys VS. Aurora Houn Dawgs
DESCRIPTION:League Name: Winter Basketball League-Recreational-K1-Boys\nGam
 e Type: Regular\nGame Status: Complete\nHome Team: 417 Athletics Boys\nAwa
 y Team: Aurora Houn Dawgs\nHome Score: 2\nAway Score: 23
END:VEVENT
BEGIN:VEVENT
UID:16984043@ezleagues.ezfacility.com
DTSTAMP:20260421T074039Z
CREATED:20260421T074039Z
DTSTART:20260130T020000Z
DTEND:20260130T025000Z
LOCATION:Bball Court 2
CONTACT:
SUMMARY:417 Athletics Boys VS. 417 Athletics Boys #2
DESCRIPTION:League Name: Winter Basketball League-Recreational-K1-Boys\nGam
 e Type: Regular\nGame Status: Complete\nHome Team: 417 Athletics Boys\nAwa
 y Team: 417 Athletics Boys #2\nHome Score: 7\nAway Score: 12
END:VEVENT
BEGIN:VEVENT
UID:16998354@ezleagues.ezfacility.com
DTSTAMP:20260421T074039Z
CREATED:20260421T074039Z
DTSTART:20260205T233000Z
DTEND:20260206T002000Z
LOCATION:Bball Court 2
CONTACT:
SUMMARY:Aurora Houn Dawgs VS. 417 Athletics Boys
DESCRIPTION:League Name: Winter Basketball League-Recreational-K1-Boys\nGam
 e Type: Regular\nGame Status: Complete\nHome Team: Aurora Houn Dawgs\nAway
  Team: 417 Athletics Boys\nHome Score: 43\nAway Score: 2
END:VEVENT
BEGIN:VEVENT
UID:17006902@ezleagues.ezfacility.com
DTSTAMP:20260421T074039Z
CREATED:20260421T074039Z
DTSTART:20260213T011000Z
DTEND:20260213T020000Z
LOCATION:Bball Court 2
CONTACT:
SUMMARY:Wildcats VS. 417 Athletics Boys
DESCRIPTION:League Name: Winter Basketball League-Recreational-K1-Boys\nGam
 e Type: Regular\nGame Status: Complete\nHome Team: Wildcats\nAway Team: 41
 7 Athletics Boys\nHome Score: 33\nAway Score: 0
END:VEVENT
BEGIN:VEVENT
UID:17006904@ezleagues.ezfacility.com
DTSTAMP:20260421T074039Z
CREATED:20260421T074039Z
DTSTART:20260220T011000Z
DTEND:20260220T020000Z
LOCATION:Bball Court 2
CONTACT:
SUMMARY:417 Athletics Boys VS. 417 Athletics Boys #2
DESCRIPTION:League Name: Winter Basketball League-Recreational-K1-Boys\nGam
 e Type: Regular\nGame Status: Complete\nHome Team: 417 Athletics Boys\nAwa
 y Team: 417 Athletics Boys #2\nHome Score: 6\nAway Score: 11
END:VEVENT
BEGIN:VEVENT
UID:17006906@ezleagues.ezfacility.com
DTSTAMP:20260421T074039Z
CREATED:20260421T074039Z
DTSTART:20260227T011000Z
DTEND:20260227T020000Z
LOCATION:Bball Court 2
CONTACT:
SUMMARY:Aurora Houn Dawgs VS. 417 Athletics Boys
DESCRIPTION:League Name: Winter Basketball League-Recreational-K1-Boys\nGam
 e Type: Regular\nGame Status: Complete\nHome Team: Aurora Houn Dawgs\nAway
  Team: 417 Athletics Boys\nHome Score: 29\nAway Score: 0
END:VEVENT
END:VCALENDAR
