BEGIN:VCALENDAR
VERSION:2.0
PRODID:-//EZFacility.com, Inc.//EZL 2.5.5.28621
BEGIN:VEVENT
UID:16933191@ezleagues.ezfacility.com
DTSTAMP:20260426T033420Z
CREATED:20260426T033420Z
DTSTART:20260106T021000Z
DTEND:20260106T030000Z
LOCATION:INDOOR FIELD
CONTACT:Valceschini
SUMMARY:Prime F.C VS. Gooners FC
DESCRIPTION:League Name: Adult Soccer Winter S2 2025-Men's B\nGame Type: Re
 gular\nGame Status: Complete\nHome Team: Prime F.C\nAway Team: Gooners FC\
 nHome Score: 6\nAway Score: 7
END:VEVENT
BEGIN:VEVENT
UID:16933201@ezleagues.ezfacility.com
DTSTAMP:20260426T033420Z
CREATED:20260426T033420Z
DTSTART:20260113T044000Z
DTEND:20260113T053000Z
LOCATION:INDOOR FIELD
CONTACT:Cauthon\, Guiterrez
SUMMARY:Gooners FC VS. Netinho
DESCRIPTION:League Name: Adult Soccer Winter S2 2025-Men's B\nGame Type: Re
 gular\nGame Status: Complete\nHome Team: Gooners FC\nAway Team: Netinho\nH
 ome Score: 7\nAway Score: 7
END:VEVENT
BEGIN:VEVENT
UID:16933205@ezleagues.ezfacility.com
DTSTAMP:20260426T033420Z
CREATED:20260426T033420Z
DTSTART:20260120T053000Z
DTEND:20260120T062000Z
LOCATION:INDOOR FIELD
CONTACT:Cauthon\, Guiterrez
SUMMARY:White Buffalos  VS. Gooners FC
DESCRIPTION:League Name: Adult Soccer Winter S2 2025-Men's B\nGame Type: Re
 gular\nGame Status: Complete\nHome Team: White Buffalos \nAway Team: Goone
 rs FC\nHome Score: 6\nAway Score: 13
END:VEVENT
BEGIN:VEVENT
UID:16933216@ezleagues.ezfacility.com
DTSTAMP:20260426T033420Z
CREATED:20260426T033420Z
DTSTART:20260127T030000Z
DTEND:20260127T035000Z
LOCATION:INDOOR FIELD
CONTACT:Valceschini
SUMMARY:Gooners FC VS. Olimpica
DESCRIPTION:League Name: Adult Soccer Winter S2 2025-Men's B\nGame Type: Re
 gular\nGame Status: Complete\nHome Team: Gooners FC\nAway Team: Olimpica\n
 Home Score: 2\nAway Score: 7
END:VEVENT
BEGIN:VEVENT
UID:16933224@ezleagues.ezfacility.com
DTSTAMP:20260426T033420Z
CREATED:20260426T033420Z
DTSTART:20260204T063000Z
DTEND:20260204T072000Z
LOCATION:INDOOR FIELD
CONTACT:Knapp\, Casillas
SUMMARY:Gooners FC VS. Masters of Disaster
DESCRIPTION:League Name: Adult Soccer Winter S2 2025-Men's B\nGame Type: Re
 gular\nGame Status: Complete\nHome Team: Gooners FC\nAway Team: Masters of
  Disaster\nHome Score: 3\nAway Score: 9
END:VEVENT
BEGIN:VEVENT
UID:16933230@ezleagues.ezfacility.com
DTSTAMP:20260426T033420Z
CREATED:20260426T033420Z
DTSTART:20260210T030000Z
DTEND:20260210T035000Z
LOCATION:INDOOR FIELD
CONTACT:Ahern\, Cauthon
SUMMARY:G Unit VS. Gooners FC
DESCRIPTION:League Name: Adult Soccer Winter S2 2025-Men's B\nGame Type: Re
 gular\nGame Status: Complete\nHome Team: G Unit\nAway Team: Gooners FC\nHo
 me Score: 8\nAway Score: 2
END:VEVENT
BEGIN:VEVENT
UID:16933237@ezleagues.ezfacility.com
DTSTAMP:20260426T033420Z
CREATED:20260426T033420Z
DTSTART:20260217T062000Z
DTEND:20260217T071000Z
LOCATION:INDOOR FIELD
CONTACT:Guiterrez\, Loza
SUMMARY:Las Nueces VS. Gooners FC
DESCRIPTION:League Name: Adult Soccer Winter S2 2025-Men's B\nGame Type: Re
 gular\nGame Status: Complete\nHome Team: Las Nueces\nAway Team: Gooners FC
 \nHome Score: 9\nAway Score: 5
END:VEVENT
BEGIN:VEVENT
UID:17024495@ezleagues.ezfacility.com
DTSTAMP:20260426T033420Z
CREATED:20260426T033420Z
DTSTART:20260224T032500Z
DTEND:20260224T035000Z
LOCATION:INDOOR FIELD
CONTACT:
SUMMARY:Gooners FC VS. Winner Game 2
DESCRIPTION:League Name: Adult Soccer Winter S2 2025-Men's B\nGame Type: Re
 gular\nGame Status: Pending\nHome Team: Gooners FC\nAway Team: Winner Game
  2\n
END:VEVENT
END:VCALENDAR
