BEGIN:VCALENDAR
VERSION:2.0
PRODID:-//EZFacility.com, Inc.//EZL 2.5.5.28621
BEGIN:VEVENT
UID:16934230@ezleagues.ezfacility.com
DTSTAMP:20260426T033420Z
CREATED:20260426T033420Z
DTSTART:20260127T030000Z
DTEND:20260127T040000Z
LOCATION:Full Field
CONTACT:
SUMMARY:Carpathia VS. Beograde
DESCRIPTION:League Name: Men's over 30/40 (MON/TUES) Jan - Feb (S2)\nGame T
 ype: Regular\nGame Status: Complete\nHome Team: Carpathia\nAway Team: Beog
 rade\nHome Score: 9\nAway Score: 12
END:VEVENT
BEGIN:VEVENT
UID:16934233@ezleagues.ezfacility.com
DTSTAMP:20260426T033420Z
CREATED:20260426T033420Z
DTSTART:20260203T020000Z
DTEND:20260203T030000Z
LOCATION:Full Field
CONTACT:
SUMMARY:Carpathia VS. Elite
DESCRIPTION:League Name: Men's over 30/40 (MON/TUES) Jan - Feb (S2)\nGame T
 ype: Regular\nGame Status: Complete\nHome Team: Carpathia\nAway Team: Elit
 e\nHome Score: 4\nAway Score: 10
END:VEVENT
BEGIN:VEVENT
UID:16934235@ezleagues.ezfacility.com
DTSTAMP:20260426T033420Z
CREATED:20260426T033420Z
DTSTART:20260211T023000Z
DTEND:20260211T033000Z
LOCATION:Full Field
CONTACT:
SUMMARY:Carpathia VS. Bye Week
DESCRIPTION:League Name: Men's over 30/40 (MON/TUES) Jan - Feb (S2)\nGame T
 ype: Regular\nGame Status: Pending\nHome Team: Carpathia\nAway Team: Bye W
 eek\n
END:VEVENT
BEGIN:VEVENT
UID:16934239@ezleagues.ezfacility.com
DTSTAMP:20260426T033420Z
CREATED:20260426T033420Z
DTSTART:20260217T020000Z
DTEND:20260217T030000Z
LOCATION:Full Field
CONTACT:
SUMMARY:Carpathia VS. San Vito
DESCRIPTION:League Name: Men's over 30/40 (MON/TUES) Jan - Feb (S2)\nGame T
 ype: Regular\nGame Status: Pending\nHome Team: Carpathia\nAway Team: San V
 ito\n
END:VEVENT
BEGIN:VEVENT
UID:16934242@ezleagues.ezfacility.com
DTSTAMP:20260426T033420Z
CREATED:20260426T033420Z
DTSTART:20260224T030000Z
DTEND:20260224T040000Z
LOCATION:Full Field
CONTACT:
SUMMARY:Left Footers VS. Carpathia
DESCRIPTION:League Name: Men's over 30/40 (MON/TUES) Jan - Feb (S2)\nGame T
 ype: Regular\nGame Status: Pending\nHome Team: Left Footers\nAway Team: Ca
 rpathia\n
END:VEVENT
BEGIN:VEVENT
UID:16934245@ezleagues.ezfacility.com
DTSTAMP:20260426T033420Z
CREATED:20260426T033420Z
DTSTART:20260303T030000Z
DTEND:20260303T040000Z
LOCATION:Full Field
CONTACT:
SUMMARY:Beograde VS. Carpathia
DESCRIPTION:League Name: Men's over 30/40 (MON/TUES) Jan - Feb (S2)\nGame T
 ype: Regular\nGame Status: Pending\nHome Team: Beograde\nAway Team: Carpat
 hia\n
END:VEVENT
BEGIN:VEVENT
UID:16934248@ezleagues.ezfacility.com
DTSTAMP:20260426T033420Z
CREATED:20260426T033420Z
DTSTART:20260310T020000Z
DTEND:20260310T030000Z
LOCATION:Full Field
CONTACT:
SUMMARY:Elite VS. Carpathia
DESCRIPTION:League Name: Men's over 30/40 (MON/TUES) Jan - Feb (S2)\nGame T
 ype: Regular\nGame Status: Pending\nHome Team: Elite\nAway Team: Carpathia
 \n
END:VEVENT
BEGIN:VEVENT
UID:16934250@ezleagues.ezfacility.com
DTSTAMP:20260426T033420Z
CREATED:20260426T033420Z
DTSTART:20260318T013000Z
DTEND:20260318T023000Z
LOCATION:Full Field
CONTACT:
SUMMARY:Bye Week VS. Carpathia
DESCRIPTION:League Name: Men's over 30/40 (MON/TUES) Jan - Feb (S2)\nGame T
 ype: Regular\nGame Status: Pending\nHome Team: Bye Week\nAway Team: Carpat
 hia\n
END:VEVENT
END:VCALENDAR
